BEGIN:VCALENDAR
VERSION:2.0
PRODID:-//The Works - ECPv6.15.20//NONSGML v1.0//EN
CALSCALE:GREGORIAN
METHOD:PUBLISH
X-WR-CALNAME:The Works
X-ORIGINAL-URL:https://theworksatl.com
X-WR-CALDESC:Events for The Works
REFRESH-INTERVAL;VALUE=DURATION:PT1H
X-Robots-Tag:noindex
X-PUBLISHED-TTL:PT1H
BEGIN:VTIMEZONE
TZID:UTC
BEGIN:STANDARD
TZOFFSETFROM:+0000
TZOFFSETTO:+0000
TZNAME:UTC
DTSTART:20250101T000000
END:STANDARD
END:VTIMEZONE
BEGIN:VEVENT
DTSTART;TZID=UTC:20261025T110000
DTEND;TZID=UTC:20261025T150000
DTSTAMP:20260421T213736
CREATED:20251007T202810Z
LAST-MODIFIED:20251007T203037Z
UID:10002471-1792926000-1792940400@theworksatl.com
SUMMARY:Live Jazz Mexican Brunch Buffet
DESCRIPTION:Every Sunday from 11 a.m. to 3 p.m. at Chicheria Mexican Kitchen\, we invite you to enjoy live jazz music and a full Mexican buffet featuring breakfast classics\, meats\, pastries\, soups\, breads\, coffee and agua frescas.
URL:https://theworksatl.com/event/23924/2026-10-25/
LOCATION:Chicheria Mexican Kitchen\, 202 Chattahoochee Row NW Suite C\, Atlanta\, GA\, 30318\, United States
CATEGORIES:Culinary,Family-Friendly
ATTACH;FMTTYPE=image/jpeg:https://theworksatl.com/wp-content/uploads/2025/10/Chicheria-Brunch-Square.jpg
END:VEVENT
BEGIN:VEVENT
DTSTART;TZID=UTC:20261031T110000
DTEND;TZID=UTC:20261031T150000
DTSTAMP:20260421T213736
CREATED:20260419T212437Z
LAST-MODIFIED:20260419T212437Z
UID:10003864-1793444400-1793458800@theworksatl.com
SUMMARY:Unlimited Gourmet Taco Tasting Experience
DESCRIPTION:Chichería Mexican Kitchen now offers an Unlimited Gourmet Taco Tasting Experience each week. Available every Saturday from 11 a.m. to 3 p.m.\, the experience features a rotating selection of chef-crafted tacos served continuously at the table. Guests can enjoy a variety of flavors including Baja Fish\, Coconut Shrimp\, Carne Asada and more\, all prepared on handmade blue corn tortillas pressed fresh daily. The tasting also includes chips\, dips and refreshing agua frescas.
URL:https://theworksatl.com/event/unlimited-gourmet-taco-tasting-experience/2026-10-31/
LOCATION:Chicheria Mexican Kitchen\, 202 Chattahoochee Row NW Suite C\, Atlanta\, GA\, 30318\, United States
CATEGORIES:Culinary,Family-Friendly
ATTACH;FMTTYPE=image/png:https://theworksatl.com/wp-content/uploads/2026/04/Taco-Tasting-Experience.png
END:VEVENT
BEGIN:VEVENT
DTSTART;TZID=UTC:20261101T110000
DTEND;TZID=UTC:20261101T150000
DTSTAMP:20260421T213736
CREATED:20251007T202810Z
LAST-MODIFIED:20251007T203037Z
UID:10002472-1793530800-1793545200@theworksatl.com
SUMMARY:Live Jazz Mexican Brunch Buffet
DESCRIPTION:Every Sunday from 11 a.m. to 3 p.m. at Chicheria Mexican Kitchen\, we invite you to enjoy live jazz music and a full Mexican buffet featuring breakfast classics\, meats\, pastries\, soups\, breads\, coffee and agua frescas.
URL:https://theworksatl.com/event/23924/2026-11-01/
LOCATION:Chicheria Mexican Kitchen\, 202 Chattahoochee Row NW Suite C\, Atlanta\, GA\, 30318\, United States
CATEGORIES:Culinary,Family-Friendly
ATTACH;FMTTYPE=image/jpeg:https://theworksatl.com/wp-content/uploads/2025/10/Chicheria-Brunch-Square.jpg
END:VEVENT
BEGIN:VEVENT
DTSTART;TZID=UTC:20261107T110000
DTEND;TZID=UTC:20261107T150000
DTSTAMP:20260421T213736
CREATED:20260419T212437Z
LAST-MODIFIED:20260419T212437Z
UID:10003865-1794049200-1794063600@theworksatl.com
SUMMARY:Unlimited Gourmet Taco Tasting Experience
DESCRIPTION:Chichería Mexican Kitchen now offers an Unlimited Gourmet Taco Tasting Experience each week. Available every Saturday from 11 a.m. to 3 p.m.\, the experience features a rotating selection of chef-crafted tacos served continuously at the table. Guests can enjoy a variety of flavors including Baja Fish\, Coconut Shrimp\, Carne Asada and more\, all prepared on handmade blue corn tortillas pressed fresh daily. The tasting also includes chips\, dips and refreshing agua frescas.
URL:https://theworksatl.com/event/unlimited-gourmet-taco-tasting-experience/2026-11-07/
LOCATION:Chicheria Mexican Kitchen\, 202 Chattahoochee Row NW Suite C\, Atlanta\, GA\, 30318\, United States
CATEGORIES:Culinary,Family-Friendly
ATTACH;FMTTYPE=image/png:https://theworksatl.com/wp-content/uploads/2026/04/Taco-Tasting-Experience.png
END:VEVENT
BEGIN:VEVENT
DTSTART;TZID=UTC:20261108T110000
DTEND;TZID=UTC:20261108T150000
DTSTAMP:20260421T213736
CREATED:20251007T202810Z
LAST-MODIFIED:20251007T203037Z
UID:10002473-1794135600-1794150000@theworksatl.com
SUMMARY:Live Jazz Mexican Brunch Buffet
DESCRIPTION:Every Sunday from 11 a.m. to 3 p.m. at Chicheria Mexican Kitchen\, we invite you to enjoy live jazz music and a full Mexican buffet featuring breakfast classics\, meats\, pastries\, soups\, breads\, coffee and agua frescas.
URL:https://theworksatl.com/event/23924/2026-11-08/
LOCATION:Chicheria Mexican Kitchen\, 202 Chattahoochee Row NW Suite C\, Atlanta\, GA\, 30318\, United States
CATEGORIES:Culinary,Family-Friendly
ATTACH;FMTTYPE=image/jpeg:https://theworksatl.com/wp-content/uploads/2025/10/Chicheria-Brunch-Square.jpg
END:VEVENT
BEGIN:VEVENT
DTSTART;TZID=UTC:20261114T110000
DTEND;TZID=UTC:20261114T150000
DTSTAMP:20260421T213736
CREATED:20260419T212437Z
LAST-MODIFIED:20260419T212437Z
UID:10003866-1794654000-1794668400@theworksatl.com
SUMMARY:Unlimited Gourmet Taco Tasting Experience
DESCRIPTION:Chichería Mexican Kitchen now offers an Unlimited Gourmet Taco Tasting Experience each week. Available every Saturday from 11 a.m. to 3 p.m.\, the experience features a rotating selection of chef-crafted tacos served continuously at the table. Guests can enjoy a variety of flavors including Baja Fish\, Coconut Shrimp\, Carne Asada and more\, all prepared on handmade blue corn tortillas pressed fresh daily. The tasting also includes chips\, dips and refreshing agua frescas.
URL:https://theworksatl.com/event/unlimited-gourmet-taco-tasting-experience/2026-11-14/
LOCATION:Chicheria Mexican Kitchen\, 202 Chattahoochee Row NW Suite C\, Atlanta\, GA\, 30318\, United States
CATEGORIES:Culinary,Family-Friendly
ATTACH;FMTTYPE=image/png:https://theworksatl.com/wp-content/uploads/2026/04/Taco-Tasting-Experience.png
END:VEVENT
BEGIN:VEVENT
DTSTART;TZID=UTC:20261115T110000
DTEND;TZID=UTC:20261115T150000
DTSTAMP:20260421T213736
CREATED:20251007T202810Z
LAST-MODIFIED:20251007T203037Z
UID:10002474-1794740400-1794754800@theworksatl.com
SUMMARY:Live Jazz Mexican Brunch Buffet
DESCRIPTION:Every Sunday from 11 a.m. to 3 p.m. at Chicheria Mexican Kitchen\, we invite you to enjoy live jazz music and a full Mexican buffet featuring breakfast classics\, meats\, pastries\, soups\, breads\, coffee and agua frescas.
URL:https://theworksatl.com/event/23924/2026-11-15/
LOCATION:Chicheria Mexican Kitchen\, 202 Chattahoochee Row NW Suite C\, Atlanta\, GA\, 30318\, United States
CATEGORIES:Culinary,Family-Friendly
ATTACH;FMTTYPE=image/jpeg:https://theworksatl.com/wp-content/uploads/2025/10/Chicheria-Brunch-Square.jpg
END:VEVENT
BEGIN:VEVENT
DTSTART;TZID=UTC:20261121T110000
DTEND;TZID=UTC:20261121T150000
DTSTAMP:20260421T213736
CREATED:20260419T212437Z
LAST-MODIFIED:20260419T212437Z
UID:10003867-1795258800-1795273200@theworksatl.com
SUMMARY:Unlimited Gourmet Taco Tasting Experience
DESCRIPTION:Chichería Mexican Kitchen now offers an Unlimited Gourmet Taco Tasting Experience each week. Available every Saturday from 11 a.m. to 3 p.m.\, the experience features a rotating selection of chef-crafted tacos served continuously at the table. Guests can enjoy a variety of flavors including Baja Fish\, Coconut Shrimp\, Carne Asada and more\, all prepared on handmade blue corn tortillas pressed fresh daily. The tasting also includes chips\, dips and refreshing agua frescas.
URL:https://theworksatl.com/event/unlimited-gourmet-taco-tasting-experience/2026-11-21/
LOCATION:Chicheria Mexican Kitchen\, 202 Chattahoochee Row NW Suite C\, Atlanta\, GA\, 30318\, United States
CATEGORIES:Culinary,Family-Friendly
ATTACH;FMTTYPE=image/png:https://theworksatl.com/wp-content/uploads/2026/04/Taco-Tasting-Experience.png
END:VEVENT
BEGIN:VEVENT
DTSTART;TZID=UTC:20261122T110000
DTEND;TZID=UTC:20261122T150000
DTSTAMP:20260421T213736
CREATED:20251007T202810Z
LAST-MODIFIED:20251007T203037Z
UID:10002475-1795345200-1795359600@theworksatl.com
SUMMARY:Live Jazz Mexican Brunch Buffet
DESCRIPTION:Every Sunday from 11 a.m. to 3 p.m. at Chicheria Mexican Kitchen\, we invite you to enjoy live jazz music and a full Mexican buffet featuring breakfast classics\, meats\, pastries\, soups\, breads\, coffee and agua frescas.
URL:https://theworksatl.com/event/23924/2026-11-22/
LOCATION:Chicheria Mexican Kitchen\, 202 Chattahoochee Row NW Suite C\, Atlanta\, GA\, 30318\, United States
CATEGORIES:Culinary,Family-Friendly
ATTACH;FMTTYPE=image/jpeg:https://theworksatl.com/wp-content/uploads/2025/10/Chicheria-Brunch-Square.jpg
END:VEVENT
BEGIN:VEVENT
DTSTART;TZID=UTC:20261128T110000
DTEND;TZID=UTC:20261128T150000
DTSTAMP:20260421T213736
CREATED:20260419T212437Z
LAST-MODIFIED:20260419T212437Z
UID:10003868-1795863600-1795878000@theworksatl.com
SUMMARY:Unlimited Gourmet Taco Tasting Experience
DESCRIPTION:Chichería Mexican Kitchen now offers an Unlimited Gourmet Taco Tasting Experience each week. Available every Saturday from 11 a.m. to 3 p.m.\, the experience features a rotating selection of chef-crafted tacos served continuously at the table. Guests can enjoy a variety of flavors including Baja Fish\, Coconut Shrimp\, Carne Asada and more\, all prepared on handmade blue corn tortillas pressed fresh daily. The tasting also includes chips\, dips and refreshing agua frescas.
URL:https://theworksatl.com/event/unlimited-gourmet-taco-tasting-experience/2026-11-28/
LOCATION:Chicheria Mexican Kitchen\, 202 Chattahoochee Row NW Suite C\, Atlanta\, GA\, 30318\, United States
CATEGORIES:Culinary,Family-Friendly
ATTACH;FMTTYPE=image/png:https://theworksatl.com/wp-content/uploads/2026/04/Taco-Tasting-Experience.png
END:VEVENT
BEGIN:VEVENT
DTSTART;TZID=UTC:20261129T110000
DTEND;TZID=UTC:20261129T150000
DTSTAMP:20260421T213736
CREATED:20251007T202810Z
LAST-MODIFIED:20251007T203037Z
UID:10002476-1795950000-1795964400@theworksatl.com
SUMMARY:Live Jazz Mexican Brunch Buffet
DESCRIPTION:Every Sunday from 11 a.m. to 3 p.m. at Chicheria Mexican Kitchen\, we invite you to enjoy live jazz music and a full Mexican buffet featuring breakfast classics\, meats\, pastries\, soups\, breads\, coffee and agua frescas.
URL:https://theworksatl.com/event/23924/2026-11-29/
LOCATION:Chicheria Mexican Kitchen\, 202 Chattahoochee Row NW Suite C\, Atlanta\, GA\, 30318\, United States
CATEGORIES:Culinary,Family-Friendly
ATTACH;FMTTYPE=image/jpeg:https://theworksatl.com/wp-content/uploads/2025/10/Chicheria-Brunch-Square.jpg
END:VEVENT
BEGIN:VEVENT
DTSTART;TZID=UTC:20261205T110000
DTEND;TZID=UTC:20261205T150000
DTSTAMP:20260421T213736
CREATED:20260419T212437Z
LAST-MODIFIED:20260419T212437Z
UID:10003869-1796468400-1796482800@theworksatl.com
SUMMARY:Unlimited Gourmet Taco Tasting Experience
DESCRIPTION:Chichería Mexican Kitchen now offers an Unlimited Gourmet Taco Tasting Experience each week. Available every Saturday from 11 a.m. to 3 p.m.\, the experience features a rotating selection of chef-crafted tacos served continuously at the table. Guests can enjoy a variety of flavors including Baja Fish\, Coconut Shrimp\, Carne Asada and more\, all prepared on handmade blue corn tortillas pressed fresh daily. The tasting also includes chips\, dips and refreshing agua frescas.
URL:https://theworksatl.com/event/unlimited-gourmet-taco-tasting-experience/2026-12-05/
LOCATION:Chicheria Mexican Kitchen\, 202 Chattahoochee Row NW Suite C\, Atlanta\, GA\, 30318\, United States
CATEGORIES:Culinary,Family-Friendly
ATTACH;FMTTYPE=image/png:https://theworksatl.com/wp-content/uploads/2026/04/Taco-Tasting-Experience.png
END:VEVENT
BEGIN:VEVENT
DTSTART;TZID=UTC:20261206T110000
DTEND;TZID=UTC:20261206T150000
DTSTAMP:20260421T213736
CREATED:20251007T202810Z
LAST-MODIFIED:20251007T203037Z
UID:10002477-1796554800-1796569200@theworksatl.com
SUMMARY:Live Jazz Mexican Brunch Buffet
DESCRIPTION:Every Sunday from 11 a.m. to 3 p.m. at Chicheria Mexican Kitchen\, we invite you to enjoy live jazz music and a full Mexican buffet featuring breakfast classics\, meats\, pastries\, soups\, breads\, coffee and agua frescas.
URL:https://theworksatl.com/event/23924/2026-12-06/
LOCATION:Chicheria Mexican Kitchen\, 202 Chattahoochee Row NW Suite C\, Atlanta\, GA\, 30318\, United States
CATEGORIES:Culinary,Family-Friendly
ATTACH;FMTTYPE=image/jpeg:https://theworksatl.com/wp-content/uploads/2025/10/Chicheria-Brunch-Square.jpg
END:VEVENT
BEGIN:VEVENT
DTSTART;TZID=UTC:20261212T110000
DTEND;TZID=UTC:20261212T150000
DTSTAMP:20260421T213736
CREATED:20260419T212437Z
LAST-MODIFIED:20260419T212437Z
UID:10003870-1797073200-1797087600@theworksatl.com
SUMMARY:Unlimited Gourmet Taco Tasting Experience
DESCRIPTION:Chichería Mexican Kitchen now offers an Unlimited Gourmet Taco Tasting Experience each week. Available every Saturday from 11 a.m. to 3 p.m.\, the experience features a rotating selection of chef-crafted tacos served continuously at the table. Guests can enjoy a variety of flavors including Baja Fish\, Coconut Shrimp\, Carne Asada and more\, all prepared on handmade blue corn tortillas pressed fresh daily. The tasting also includes chips\, dips and refreshing agua frescas.
URL:https://theworksatl.com/event/unlimited-gourmet-taco-tasting-experience/2026-12-12/
LOCATION:Chicheria Mexican Kitchen\, 202 Chattahoochee Row NW Suite C\, Atlanta\, GA\, 30318\, United States
CATEGORIES:Culinary,Family-Friendly
ATTACH;FMTTYPE=image/png:https://theworksatl.com/wp-content/uploads/2026/04/Taco-Tasting-Experience.png
END:VEVENT
BEGIN:VEVENT
DTSTART;TZID=UTC:20261213T110000
DTEND;TZID=UTC:20261213T150000
DTSTAMP:20260421T213736
CREATED:20251007T202810Z
LAST-MODIFIED:20251007T203037Z
UID:10002478-1797159600-1797174000@theworksatl.com
SUMMARY:Live Jazz Mexican Brunch Buffet
DESCRIPTION:Every Sunday from 11 a.m. to 3 p.m. at Chicheria Mexican Kitchen\, we invite you to enjoy live jazz music and a full Mexican buffet featuring breakfast classics\, meats\, pastries\, soups\, breads\, coffee and agua frescas.
URL:https://theworksatl.com/event/23924/2026-12-13/
LOCATION:Chicheria Mexican Kitchen\, 202 Chattahoochee Row NW Suite C\, Atlanta\, GA\, 30318\, United States
CATEGORIES:Culinary,Family-Friendly
ATTACH;FMTTYPE=image/jpeg:https://theworksatl.com/wp-content/uploads/2025/10/Chicheria-Brunch-Square.jpg
END:VEVENT
BEGIN:VEVENT
DTSTART;TZID=UTC:20261219T110000
DTEND;TZID=UTC:20261219T150000
DTSTAMP:20260421T213736
CREATED:20260419T212437Z
LAST-MODIFIED:20260419T212437Z
UID:10003871-1797678000-1797692400@theworksatl.com
SUMMARY:Unlimited Gourmet Taco Tasting Experience
DESCRIPTION:Chichería Mexican Kitchen now offers an Unlimited Gourmet Taco Tasting Experience each week. Available every Saturday from 11 a.m. to 3 p.m.\, the experience features a rotating selection of chef-crafted tacos served continuously at the table. Guests can enjoy a variety of flavors including Baja Fish\, Coconut Shrimp\, Carne Asada and more\, all prepared on handmade blue corn tortillas pressed fresh daily. The tasting also includes chips\, dips and refreshing agua frescas.
URL:https://theworksatl.com/event/unlimited-gourmet-taco-tasting-experience/2026-12-19/
LOCATION:Chicheria Mexican Kitchen\, 202 Chattahoochee Row NW Suite C\, Atlanta\, GA\, 30318\, United States
CATEGORIES:Culinary,Family-Friendly
ATTACH;FMTTYPE=image/png:https://theworksatl.com/wp-content/uploads/2026/04/Taco-Tasting-Experience.png
END:VEVENT
BEGIN:VEVENT
DTSTART;TZID=UTC:20261220T110000
DTEND;TZID=UTC:20261220T150000
DTSTAMP:20260421T213736
CREATED:20251007T202810Z
LAST-MODIFIED:20251007T203037Z
UID:10002479-1797764400-1797778800@theworksatl.com
SUMMARY:Live Jazz Mexican Brunch Buffet
DESCRIPTION:Every Sunday from 11 a.m. to 3 p.m. at Chicheria Mexican Kitchen\, we invite you to enjoy live jazz music and a full Mexican buffet featuring breakfast classics\, meats\, pastries\, soups\, breads\, coffee and agua frescas.
URL:https://theworksatl.com/event/23924/2026-12-20/
LOCATION:Chicheria Mexican Kitchen\, 202 Chattahoochee Row NW Suite C\, Atlanta\, GA\, 30318\, United States
CATEGORIES:Culinary,Family-Friendly
ATTACH;FMTTYPE=image/jpeg:https://theworksatl.com/wp-content/uploads/2025/10/Chicheria-Brunch-Square.jpg
END:VEVENT
BEGIN:VEVENT
DTSTART;TZID=UTC:20261226T110000
DTEND;TZID=UTC:20261226T150000
DTSTAMP:20260421T213736
CREATED:20260419T212437Z
LAST-MODIFIED:20260419T212437Z
UID:10003872-1798282800-1798297200@theworksatl.com
SUMMARY:Unlimited Gourmet Taco Tasting Experience
DESCRIPTION:Chichería Mexican Kitchen now offers an Unlimited Gourmet Taco Tasting Experience each week. Available every Saturday from 11 a.m. to 3 p.m.\, the experience features a rotating selection of chef-crafted tacos served continuously at the table. Guests can enjoy a variety of flavors including Baja Fish\, Coconut Shrimp\, Carne Asada and more\, all prepared on handmade blue corn tortillas pressed fresh daily. The tasting also includes chips\, dips and refreshing agua frescas.
URL:https://theworksatl.com/event/unlimited-gourmet-taco-tasting-experience/2026-12-26/
LOCATION:Chicheria Mexican Kitchen\, 202 Chattahoochee Row NW Suite C\, Atlanta\, GA\, 30318\, United States
CATEGORIES:Culinary,Family-Friendly
ATTACH;FMTTYPE=image/png:https://theworksatl.com/wp-content/uploads/2026/04/Taco-Tasting-Experience.png
END:VEVENT
BEGIN:VEVENT
DTSTART;TZID=UTC:20261227T110000
DTEND;TZID=UTC:20261227T150000
DTSTAMP:20260421T213736
CREATED:20251007T202810Z
LAST-MODIFIED:20251007T203037Z
UID:10002480-1798369200-1798383600@theworksatl.com
SUMMARY:Live Jazz Mexican Brunch Buffet
DESCRIPTION:Every Sunday from 11 a.m. to 3 p.m. at Chicheria Mexican Kitchen\, we invite you to enjoy live jazz music and a full Mexican buffet featuring breakfast classics\, meats\, pastries\, soups\, breads\, coffee and agua frescas.
URL:https://theworksatl.com/event/23924/2026-12-27/
LOCATION:Chicheria Mexican Kitchen\, 202 Chattahoochee Row NW Suite C\, Atlanta\, GA\, 30318\, United States
CATEGORIES:Culinary,Family-Friendly
ATTACH;FMTTYPE=image/jpeg:https://theworksatl.com/wp-content/uploads/2025/10/Chicheria-Brunch-Square.jpg
END:VEVENT
BEGIN:VEVENT
DTSTART;TZID=UTC:20270102T110000
DTEND;TZID=UTC:20270102T150000
DTSTAMP:20260421T213736
CREATED:20260419T212437Z
LAST-MODIFIED:20260419T212437Z
UID:10003873-1798887600-1798902000@theworksatl.com
SUMMARY:Unlimited Gourmet Taco Tasting Experience
DESCRIPTION:Chichería Mexican Kitchen now offers an Unlimited Gourmet Taco Tasting Experience each week. Available every Saturday from 11 a.m. to 3 p.m.\, the experience features a rotating selection of chef-crafted tacos served continuously at the table. Guests can enjoy a variety of flavors including Baja Fish\, Coconut Shrimp\, Carne Asada and more\, all prepared on handmade blue corn tortillas pressed fresh daily. The tasting also includes chips\, dips and refreshing agua frescas.
URL:https://theworksatl.com/event/unlimited-gourmet-taco-tasting-experience/2027-01-02/
LOCATION:Chicheria Mexican Kitchen\, 202 Chattahoochee Row NW Suite C\, Atlanta\, GA\, 30318\, United States
CATEGORIES:Culinary,Family-Friendly
ATTACH;FMTTYPE=image/png:https://theworksatl.com/wp-content/uploads/2026/04/Taco-Tasting-Experience.png
END:VEVENT
BEGIN:VEVENT
DTSTART;TZID=UTC:20270103T110000
DTEND;TZID=UTC:20270103T150000
DTSTAMP:20260421T213736
CREATED:20251007T202810Z
LAST-MODIFIED:20251007T203037Z
UID:10002481-1798974000-1798988400@theworksatl.com
SUMMARY:Live Jazz Mexican Brunch Buffet
DESCRIPTION:Every Sunday from 11 a.m. to 3 p.m. at Chicheria Mexican Kitchen\, we invite you to enjoy live jazz music and a full Mexican buffet featuring breakfast classics\, meats\, pastries\, soups\, breads\, coffee and agua frescas.
URL:https://theworksatl.com/event/23924/2027-01-03/
LOCATION:Chicheria Mexican Kitchen\, 202 Chattahoochee Row NW Suite C\, Atlanta\, GA\, 30318\, United States
CATEGORIES:Culinary,Family-Friendly
ATTACH;FMTTYPE=image/jpeg:https://theworksatl.com/wp-content/uploads/2025/10/Chicheria-Brunch-Square.jpg
END:VEVENT
BEGIN:VEVENT
DTSTART;TZID=UTC:20270109T110000
DTEND;TZID=UTC:20270109T150000
DTSTAMP:20260421T213736
CREATED:20260419T212437Z
LAST-MODIFIED:20260419T212437Z
UID:10003874-1799492400-1799506800@theworksatl.com
SUMMARY:Unlimited Gourmet Taco Tasting Experience
DESCRIPTION:Chichería Mexican Kitchen now offers an Unlimited Gourmet Taco Tasting Experience each week. Available every Saturday from 11 a.m. to 3 p.m.\, the experience features a rotating selection of chef-crafted tacos served continuously at the table. Guests can enjoy a variety of flavors including Baja Fish\, Coconut Shrimp\, Carne Asada and more\, all prepared on handmade blue corn tortillas pressed fresh daily. The tasting also includes chips\, dips and refreshing agua frescas.
URL:https://theworksatl.com/event/unlimited-gourmet-taco-tasting-experience/2027-01-09/
LOCATION:Chicheria Mexican Kitchen\, 202 Chattahoochee Row NW Suite C\, Atlanta\, GA\, 30318\, United States
CATEGORIES:Culinary,Family-Friendly
ATTACH;FMTTYPE=image/png:https://theworksatl.com/wp-content/uploads/2026/04/Taco-Tasting-Experience.png
END:VEVENT
BEGIN:VEVENT
DTSTART;TZID=UTC:20270110T110000
DTEND;TZID=UTC:20270110T150000
DTSTAMP:20260421T213736
CREATED:20251007T202810Z
LAST-MODIFIED:20251007T203037Z
UID:10002482-1799578800-1799593200@theworksatl.com
SUMMARY:Live Jazz Mexican Brunch Buffet
DESCRIPTION:Every Sunday from 11 a.m. to 3 p.m. at Chicheria Mexican Kitchen\, we invite you to enjoy live jazz music and a full Mexican buffet featuring breakfast classics\, meats\, pastries\, soups\, breads\, coffee and agua frescas.
URL:https://theworksatl.com/event/23924/2027-01-10/
LOCATION:Chicheria Mexican Kitchen\, 202 Chattahoochee Row NW Suite C\, Atlanta\, GA\, 30318\, United States
CATEGORIES:Culinary,Family-Friendly
ATTACH;FMTTYPE=image/jpeg:https://theworksatl.com/wp-content/uploads/2025/10/Chicheria-Brunch-Square.jpg
END:VEVENT
BEGIN:VEVENT
DTSTART;TZID=UTC:20270116T110000
DTEND;TZID=UTC:20270116T150000
DTSTAMP:20260421T213736
CREATED:20260419T212437Z
LAST-MODIFIED:20260419T212437Z
UID:10003875-1800097200-1800111600@theworksatl.com
SUMMARY:Unlimited Gourmet Taco Tasting Experience
DESCRIPTION:Chichería Mexican Kitchen now offers an Unlimited Gourmet Taco Tasting Experience each week. Available every Saturday from 11 a.m. to 3 p.m.\, the experience features a rotating selection of chef-crafted tacos served continuously at the table. Guests can enjoy a variety of flavors including Baja Fish\, Coconut Shrimp\, Carne Asada and more\, all prepared on handmade blue corn tortillas pressed fresh daily. The tasting also includes chips\, dips and refreshing agua frescas.
URL:https://theworksatl.com/event/unlimited-gourmet-taco-tasting-experience/2027-01-16/
LOCATION:Chicheria Mexican Kitchen\, 202 Chattahoochee Row NW Suite C\, Atlanta\, GA\, 30318\, United States
CATEGORIES:Culinary,Family-Friendly
ATTACH;FMTTYPE=image/png:https://theworksatl.com/wp-content/uploads/2026/04/Taco-Tasting-Experience.png
END:VEVENT
BEGIN:VEVENT
DTSTART;TZID=UTC:20270117T110000
DTEND;TZID=UTC:20270117T150000
DTSTAMP:20260421T213736
CREATED:20251007T202810Z
LAST-MODIFIED:20251007T203037Z
UID:10002483-1800183600-1800198000@theworksatl.com
SUMMARY:Live Jazz Mexican Brunch Buffet
DESCRIPTION:Every Sunday from 11 a.m. to 3 p.m. at Chicheria Mexican Kitchen\, we invite you to enjoy live jazz music and a full Mexican buffet featuring breakfast classics\, meats\, pastries\, soups\, breads\, coffee and agua frescas.
URL:https://theworksatl.com/event/23924/2027-01-17/
LOCATION:Chicheria Mexican Kitchen\, 202 Chattahoochee Row NW Suite C\, Atlanta\, GA\, 30318\, United States
CATEGORIES:Culinary,Family-Friendly
ATTACH;FMTTYPE=image/jpeg:https://theworksatl.com/wp-content/uploads/2025/10/Chicheria-Brunch-Square.jpg
END:VEVENT
BEGIN:VEVENT
DTSTART;TZID=UTC:20270123T110000
DTEND;TZID=UTC:20270123T150000
DTSTAMP:20260421T213736
CREATED:20260419T212437Z
LAST-MODIFIED:20260419T212437Z
UID:10003876-1800702000-1800716400@theworksatl.com
SUMMARY:Unlimited Gourmet Taco Tasting Experience
DESCRIPTION:Chichería Mexican Kitchen now offers an Unlimited Gourmet Taco Tasting Experience each week. Available every Saturday from 11 a.m. to 3 p.m.\, the experience features a rotating selection of chef-crafted tacos served continuously at the table. Guests can enjoy a variety of flavors including Baja Fish\, Coconut Shrimp\, Carne Asada and more\, all prepared on handmade blue corn tortillas pressed fresh daily. The tasting also includes chips\, dips and refreshing agua frescas.
URL:https://theworksatl.com/event/unlimited-gourmet-taco-tasting-experience/2027-01-23/
LOCATION:Chicheria Mexican Kitchen\, 202 Chattahoochee Row NW Suite C\, Atlanta\, GA\, 30318\, United States
CATEGORIES:Culinary,Family-Friendly
ATTACH;FMTTYPE=image/png:https://theworksatl.com/wp-content/uploads/2026/04/Taco-Tasting-Experience.png
END:VEVENT
BEGIN:VEVENT
DTSTART;TZID=UTC:20270124T110000
DTEND;TZID=UTC:20270124T150000
DTSTAMP:20260421T213736
CREATED:20251007T202810Z
LAST-MODIFIED:20251007T203037Z
UID:10002484-1800788400-1800802800@theworksatl.com
SUMMARY:Live Jazz Mexican Brunch Buffet
DESCRIPTION:Every Sunday from 11 a.m. to 3 p.m. at Chicheria Mexican Kitchen\, we invite you to enjoy live jazz music and a full Mexican buffet featuring breakfast classics\, meats\, pastries\, soups\, breads\, coffee and agua frescas.
URL:https://theworksatl.com/event/23924/2027-01-24/
LOCATION:Chicheria Mexican Kitchen\, 202 Chattahoochee Row NW Suite C\, Atlanta\, GA\, 30318\, United States
CATEGORIES:Culinary,Family-Friendly
ATTACH;FMTTYPE=image/jpeg:https://theworksatl.com/wp-content/uploads/2025/10/Chicheria-Brunch-Square.jpg
END:VEVENT
BEGIN:VEVENT
DTSTART;TZID=UTC:20270130T110000
DTEND;TZID=UTC:20270130T150000
DTSTAMP:20260421T213736
CREATED:20260419T212437Z
LAST-MODIFIED:20260419T212437Z
UID:10003877-1801306800-1801321200@theworksatl.com
SUMMARY:Unlimited Gourmet Taco Tasting Experience
DESCRIPTION:Chichería Mexican Kitchen now offers an Unlimited Gourmet Taco Tasting Experience each week. Available every Saturday from 11 a.m. to 3 p.m.\, the experience features a rotating selection of chef-crafted tacos served continuously at the table. Guests can enjoy a variety of flavors including Baja Fish\, Coconut Shrimp\, Carne Asada and more\, all prepared on handmade blue corn tortillas pressed fresh daily. The tasting also includes chips\, dips and refreshing agua frescas.
URL:https://theworksatl.com/event/unlimited-gourmet-taco-tasting-experience/2027-01-30/
LOCATION:Chicheria Mexican Kitchen\, 202 Chattahoochee Row NW Suite C\, Atlanta\, GA\, 30318\, United States
CATEGORIES:Culinary,Family-Friendly
ATTACH;FMTTYPE=image/png:https://theworksatl.com/wp-content/uploads/2026/04/Taco-Tasting-Experience.png
END:VEVENT
BEGIN:VEVENT
DTSTART;TZID=UTC:20270131T110000
DTEND;TZID=UTC:20270131T150000
DTSTAMP:20260421T213736
CREATED:20251007T202810Z
LAST-MODIFIED:20251007T203037Z
UID:10002485-1801393200-1801407600@theworksatl.com
SUMMARY:Live Jazz Mexican Brunch Buffet
DESCRIPTION:Every Sunday from 11 a.m. to 3 p.m. at Chicheria Mexican Kitchen\, we invite you to enjoy live jazz music and a full Mexican buffet featuring breakfast classics\, meats\, pastries\, soups\, breads\, coffee and agua frescas.
URL:https://theworksatl.com/event/23924/2027-01-31/
LOCATION:Chicheria Mexican Kitchen\, 202 Chattahoochee Row NW Suite C\, Atlanta\, GA\, 30318\, United States
CATEGORIES:Culinary,Family-Friendly
ATTACH;FMTTYPE=image/jpeg:https://theworksatl.com/wp-content/uploads/2025/10/Chicheria-Brunch-Square.jpg
END:VEVENT
BEGIN:VEVENT
DTSTART;TZID=UTC:20270206T110000
DTEND;TZID=UTC:20270206T150000
DTSTAMP:20260421T213736
CREATED:20260419T212437Z
LAST-MODIFIED:20260419T212437Z
UID:10003878-1801911600-1801926000@theworksatl.com
SUMMARY:Unlimited Gourmet Taco Tasting Experience
DESCRIPTION:Chichería Mexican Kitchen now offers an Unlimited Gourmet Taco Tasting Experience each week. Available every Saturday from 11 a.m. to 3 p.m.\, the experience features a rotating selection of chef-crafted tacos served continuously at the table. Guests can enjoy a variety of flavors including Baja Fish\, Coconut Shrimp\, Carne Asada and more\, all prepared on handmade blue corn tortillas pressed fresh daily. The tasting also includes chips\, dips and refreshing agua frescas.
URL:https://theworksatl.com/event/unlimited-gourmet-taco-tasting-experience/2027-02-06/
LOCATION:Chicheria Mexican Kitchen\, 202 Chattahoochee Row NW Suite C\, Atlanta\, GA\, 30318\, United States
CATEGORIES:Culinary,Family-Friendly
ATTACH;FMTTYPE=image/png:https://theworksatl.com/wp-content/uploads/2026/04/Taco-Tasting-Experience.png
END:VEVENT
END:VCALENDAR