BEGIN:VCALENDAR
VERSION:2.0
PRODID:-//The Works - ECPv6.15.20//NONSGML v1.0//EN
CALSCALE:GREGORIAN
METHOD:PUBLISH
X-WR-CALNAME:The Works
X-ORIGINAL-URL:https://theworksatl.com
X-WR-CALDESC:Events for The Works
REFRESH-INTERVAL;VALUE=DURATION:PT1H
X-Robots-Tag:noindex
X-PUBLISHED-TTL:PT1H
BEGIN:VTIMEZONE
TZID:UTC
BEGIN:STANDARD
TZOFFSETFROM:+0000
TZOFFSETTO:+0000
TZNAME:UTC
DTSTART:20290101T000000
END:STANDARD
END:VTIMEZONE
BEGIN:VEVENT
DTSTART;TZID=UTC:20301215T110000
DTEND;TZID=UTC:20301215T150000
DTSTAMP:20260423T144130
CREATED:20251007T202810Z
LAST-MODIFIED:20251007T203037Z
UID:10003813-1923562800-1923577200@theworksatl.com
SUMMARY:Live Jazz Mexican Brunch Buffet
DESCRIPTION:Every Sunday from 11 a.m. to 3 p.m. at Chicheria Mexican Kitchen\, we invite you to enjoy live jazz music and a full Mexican buffet featuring breakfast classics\, meats\, pastries\, soups\, breads\, coffee and agua frescas.
URL:https://theworksatl.com/event/23924/2030-12-15/
LOCATION:Chicheria Mexican Kitchen\, 202 Chattahoochee Row NW Suite C\, Atlanta\, GA\, 30318\, United States
CATEGORIES:Culinary,Family-Friendly
ATTACH;FMTTYPE=image/jpeg:https://theworksatl.com/wp-content/uploads/2025/10/Chicheria-Brunch-Square.jpg
END:VEVENT
BEGIN:VEVENT
DTSTART;TZID=UTC:20301221T110000
DTEND;TZID=UTC:20301221T150000
DTSTAMP:20260423T144130
CREATED:20260419T212437Z
LAST-MODIFIED:20260419T212437Z
UID:10004080-1924081200-1924095600@theworksatl.com
SUMMARY:Unlimited Gourmet Taco Tasting Experience
DESCRIPTION:Chichería Mexican Kitchen now offers an Unlimited Gourmet Taco Tasting Experience each week. Available every Saturday from 11 a.m. to 3 p.m.\, the experience features a rotating selection of chef-crafted tacos served continuously at the table. Guests can enjoy a variety of flavors including Baja Fish\, Coconut Shrimp\, Carne Asada and more\, all prepared on handmade blue corn tortillas pressed fresh daily. The tasting also includes chips\, dips and refreshing agua frescas.
URL:https://theworksatl.com/event/unlimited-gourmet-taco-tasting-experience/2030-12-21/
LOCATION:Chicheria Mexican Kitchen\, 202 Chattahoochee Row NW Suite C\, Atlanta\, GA\, 30318\, United States
CATEGORIES:Culinary,Family-Friendly
ATTACH;FMTTYPE=image/png:https://theworksatl.com/wp-content/uploads/2026/04/Taco-Tasting-Experience.png
END:VEVENT
BEGIN:VEVENT
DTSTART;TZID=UTC:20301222T110000
DTEND;TZID=UTC:20301222T150000
DTSTAMP:20260423T144130
CREATED:20251007T202810Z
LAST-MODIFIED:20251007T203037Z
UID:10003814-1924167600-1924182000@theworksatl.com
SUMMARY:Live Jazz Mexican Brunch Buffet
DESCRIPTION:Every Sunday from 11 a.m. to 3 p.m. at Chicheria Mexican Kitchen\, we invite you to enjoy live jazz music and a full Mexican buffet featuring breakfast classics\, meats\, pastries\, soups\, breads\, coffee and agua frescas.
URL:https://theworksatl.com/event/23924/2030-12-22/
LOCATION:Chicheria Mexican Kitchen\, 202 Chattahoochee Row NW Suite C\, Atlanta\, GA\, 30318\, United States
CATEGORIES:Culinary,Family-Friendly
ATTACH;FMTTYPE=image/jpeg:https://theworksatl.com/wp-content/uploads/2025/10/Chicheria-Brunch-Square.jpg
END:VEVENT
BEGIN:VEVENT
DTSTART;TZID=UTC:20301228T110000
DTEND;TZID=UTC:20301228T150000
DTSTAMP:20260423T144130
CREATED:20260419T212437Z
LAST-MODIFIED:20260419T212437Z
UID:10004081-1924686000-1924700400@theworksatl.com
SUMMARY:Unlimited Gourmet Taco Tasting Experience
DESCRIPTION:Chichería Mexican Kitchen now offers an Unlimited Gourmet Taco Tasting Experience each week. Available every Saturday from 11 a.m. to 3 p.m.\, the experience features a rotating selection of chef-crafted tacos served continuously at the table. Guests can enjoy a variety of flavors including Baja Fish\, Coconut Shrimp\, Carne Asada and more\, all prepared on handmade blue corn tortillas pressed fresh daily. The tasting also includes chips\, dips and refreshing agua frescas.
URL:https://theworksatl.com/event/unlimited-gourmet-taco-tasting-experience/2030-12-28/
LOCATION:Chicheria Mexican Kitchen\, 202 Chattahoochee Row NW Suite C\, Atlanta\, GA\, 30318\, United States
CATEGORIES:Culinary,Family-Friendly
ATTACH;FMTTYPE=image/png:https://theworksatl.com/wp-content/uploads/2026/04/Taco-Tasting-Experience.png
END:VEVENT
BEGIN:VEVENT
DTSTART;TZID=UTC:20301229T110000
DTEND;TZID=UTC:20301229T150000
DTSTAMP:20260423T144130
CREATED:20251007T202810Z
LAST-MODIFIED:20251007T203037Z
UID:10003815-1924772400-1924786800@theworksatl.com
SUMMARY:Live Jazz Mexican Brunch Buffet
DESCRIPTION:Every Sunday from 11 a.m. to 3 p.m. at Chicheria Mexican Kitchen\, we invite you to enjoy live jazz music and a full Mexican buffet featuring breakfast classics\, meats\, pastries\, soups\, breads\, coffee and agua frescas.
URL:https://theworksatl.com/event/23924/2030-12-29/
LOCATION:Chicheria Mexican Kitchen\, 202 Chattahoochee Row NW Suite C\, Atlanta\, GA\, 30318\, United States
CATEGORIES:Culinary,Family-Friendly
ATTACH;FMTTYPE=image/jpeg:https://theworksatl.com/wp-content/uploads/2025/10/Chicheria-Brunch-Square.jpg
END:VEVENT
BEGIN:VEVENT
DTSTART;TZID=UTC:20310104T110000
DTEND;TZID=UTC:20310104T150000
DTSTAMP:20260423T144130
CREATED:20260419T212437Z
LAST-MODIFIED:20260419T212437Z
UID:10004082-1925290800-1925305200@theworksatl.com
SUMMARY:Unlimited Gourmet Taco Tasting Experience
DESCRIPTION:Chichería Mexican Kitchen now offers an Unlimited Gourmet Taco Tasting Experience each week. Available every Saturday from 11 a.m. to 3 p.m.\, the experience features a rotating selection of chef-crafted tacos served continuously at the table. Guests can enjoy a variety of flavors including Baja Fish\, Coconut Shrimp\, Carne Asada and more\, all prepared on handmade blue corn tortillas pressed fresh daily. The tasting also includes chips\, dips and refreshing agua frescas.
URL:https://theworksatl.com/event/unlimited-gourmet-taco-tasting-experience/2031-01-04/
LOCATION:Chicheria Mexican Kitchen\, 202 Chattahoochee Row NW Suite C\, Atlanta\, GA\, 30318\, United States
CATEGORIES:Culinary,Family-Friendly
ATTACH;FMTTYPE=image/png:https://theworksatl.com/wp-content/uploads/2026/04/Taco-Tasting-Experience.png
END:VEVENT
BEGIN:VEVENT
DTSTART;TZID=UTC:20310105T110000
DTEND;TZID=UTC:20310105T150000
DTSTAMP:20260423T144130
CREATED:20251007T202810Z
LAST-MODIFIED:20251007T203037Z
UID:10003816-1925377200-1925391600@theworksatl.com
SUMMARY:Live Jazz Mexican Brunch Buffet
DESCRIPTION:Every Sunday from 11 a.m. to 3 p.m. at Chicheria Mexican Kitchen\, we invite you to enjoy live jazz music and a full Mexican buffet featuring breakfast classics\, meats\, pastries\, soups\, breads\, coffee and agua frescas.
URL:https://theworksatl.com/event/23924/2031-01-05/
LOCATION:Chicheria Mexican Kitchen\, 202 Chattahoochee Row NW Suite C\, Atlanta\, GA\, 30318\, United States
CATEGORIES:Culinary,Family-Friendly
ATTACH;FMTTYPE=image/jpeg:https://theworksatl.com/wp-content/uploads/2025/10/Chicheria-Brunch-Square.jpg
END:VEVENT
BEGIN:VEVENT
DTSTART;TZID=UTC:20310111T110000
DTEND;TZID=UTC:20310111T150000
DTSTAMP:20260423T144130
CREATED:20260419T212437Z
LAST-MODIFIED:20260419T212437Z
UID:10004083-1925895600-1925910000@theworksatl.com
SUMMARY:Unlimited Gourmet Taco Tasting Experience
DESCRIPTION:Chichería Mexican Kitchen now offers an Unlimited Gourmet Taco Tasting Experience each week. Available every Saturday from 11 a.m. to 3 p.m.\, the experience features a rotating selection of chef-crafted tacos served continuously at the table. Guests can enjoy a variety of flavors including Baja Fish\, Coconut Shrimp\, Carne Asada and more\, all prepared on handmade blue corn tortillas pressed fresh daily. The tasting also includes chips\, dips and refreshing agua frescas.
URL:https://theworksatl.com/event/unlimited-gourmet-taco-tasting-experience/2031-01-11/
LOCATION:Chicheria Mexican Kitchen\, 202 Chattahoochee Row NW Suite C\, Atlanta\, GA\, 30318\, United States
CATEGORIES:Culinary,Family-Friendly
ATTACH;FMTTYPE=image/png:https://theworksatl.com/wp-content/uploads/2026/04/Taco-Tasting-Experience.png
END:VEVENT
BEGIN:VEVENT
DTSTART;TZID=UTC:20310112T110000
DTEND;TZID=UTC:20310112T150000
DTSTAMP:20260423T144130
CREATED:20251007T202810Z
LAST-MODIFIED:20251007T203037Z
UID:10003817-1925982000-1925996400@theworksatl.com
SUMMARY:Live Jazz Mexican Brunch Buffet
DESCRIPTION:Every Sunday from 11 a.m. to 3 p.m. at Chicheria Mexican Kitchen\, we invite you to enjoy live jazz music and a full Mexican buffet featuring breakfast classics\, meats\, pastries\, soups\, breads\, coffee and agua frescas.
URL:https://theworksatl.com/event/23924/2031-01-12/
LOCATION:Chicheria Mexican Kitchen\, 202 Chattahoochee Row NW Suite C\, Atlanta\, GA\, 30318\, United States
CATEGORIES:Culinary,Family-Friendly
ATTACH;FMTTYPE=image/jpeg:https://theworksatl.com/wp-content/uploads/2025/10/Chicheria-Brunch-Square.jpg
END:VEVENT
BEGIN:VEVENT
DTSTART;TZID=UTC:20310118T110000
DTEND;TZID=UTC:20310118T150000
DTSTAMP:20260423T144130
CREATED:20260419T212437Z
LAST-MODIFIED:20260419T212437Z
UID:10004084-1926500400-1926514800@theworksatl.com
SUMMARY:Unlimited Gourmet Taco Tasting Experience
DESCRIPTION:Chichería Mexican Kitchen now offers an Unlimited Gourmet Taco Tasting Experience each week. Available every Saturday from 11 a.m. to 3 p.m.\, the experience features a rotating selection of chef-crafted tacos served continuously at the table. Guests can enjoy a variety of flavors including Baja Fish\, Coconut Shrimp\, Carne Asada and more\, all prepared on handmade blue corn tortillas pressed fresh daily. The tasting also includes chips\, dips and refreshing agua frescas.
URL:https://theworksatl.com/event/unlimited-gourmet-taco-tasting-experience/2031-01-18/
LOCATION:Chicheria Mexican Kitchen\, 202 Chattahoochee Row NW Suite C\, Atlanta\, GA\, 30318\, United States
CATEGORIES:Culinary,Family-Friendly
ATTACH;FMTTYPE=image/png:https://theworksatl.com/wp-content/uploads/2026/04/Taco-Tasting-Experience.png
END:VEVENT
BEGIN:VEVENT
DTSTART;TZID=UTC:20310119T110000
DTEND;TZID=UTC:20310119T150000
DTSTAMP:20260423T144130
CREATED:20251007T202810Z
LAST-MODIFIED:20251007T203037Z
UID:10003818-1926586800-1926601200@theworksatl.com
SUMMARY:Live Jazz Mexican Brunch Buffet
DESCRIPTION:Every Sunday from 11 a.m. to 3 p.m. at Chicheria Mexican Kitchen\, we invite you to enjoy live jazz music and a full Mexican buffet featuring breakfast classics\, meats\, pastries\, soups\, breads\, coffee and agua frescas.
URL:https://theworksatl.com/event/23924/2031-01-19/
LOCATION:Chicheria Mexican Kitchen\, 202 Chattahoochee Row NW Suite C\, Atlanta\, GA\, 30318\, United States
CATEGORIES:Culinary,Family-Friendly
ATTACH;FMTTYPE=image/jpeg:https://theworksatl.com/wp-content/uploads/2025/10/Chicheria-Brunch-Square.jpg
END:VEVENT
BEGIN:VEVENT
DTSTART;TZID=UTC:20310125T110000
DTEND;TZID=UTC:20310125T150000
DTSTAMP:20260423T144130
CREATED:20260419T212437Z
LAST-MODIFIED:20260419T212437Z
UID:10004085-1927105200-1927119600@theworksatl.com
SUMMARY:Unlimited Gourmet Taco Tasting Experience
DESCRIPTION:Chichería Mexican Kitchen now offers an Unlimited Gourmet Taco Tasting Experience each week. Available every Saturday from 11 a.m. to 3 p.m.\, the experience features a rotating selection of chef-crafted tacos served continuously at the table. Guests can enjoy a variety of flavors including Baja Fish\, Coconut Shrimp\, Carne Asada and more\, all prepared on handmade blue corn tortillas pressed fresh daily. The tasting also includes chips\, dips and refreshing agua frescas.
URL:https://theworksatl.com/event/unlimited-gourmet-taco-tasting-experience/2031-01-25/
LOCATION:Chicheria Mexican Kitchen\, 202 Chattahoochee Row NW Suite C\, Atlanta\, GA\, 30318\, United States
CATEGORIES:Culinary,Family-Friendly
ATTACH;FMTTYPE=image/png:https://theworksatl.com/wp-content/uploads/2026/04/Taco-Tasting-Experience.png
END:VEVENT
BEGIN:VEVENT
DTSTART;TZID=UTC:20310126T110000
DTEND;TZID=UTC:20310126T150000
DTSTAMP:20260423T144130
CREATED:20251007T202810Z
LAST-MODIFIED:20251007T203037Z
UID:10003819-1927191600-1927206000@theworksatl.com
SUMMARY:Live Jazz Mexican Brunch Buffet
DESCRIPTION:Every Sunday from 11 a.m. to 3 p.m. at Chicheria Mexican Kitchen\, we invite you to enjoy live jazz music and a full Mexican buffet featuring breakfast classics\, meats\, pastries\, soups\, breads\, coffee and agua frescas.
URL:https://theworksatl.com/event/23924/2031-01-26/
LOCATION:Chicheria Mexican Kitchen\, 202 Chattahoochee Row NW Suite C\, Atlanta\, GA\, 30318\, United States
CATEGORIES:Culinary,Family-Friendly
ATTACH;FMTTYPE=image/jpeg:https://theworksatl.com/wp-content/uploads/2025/10/Chicheria-Brunch-Square.jpg
END:VEVENT
BEGIN:VEVENT
DTSTART;TZID=UTC:20310201T110000
DTEND;TZID=UTC:20310201T150000
DTSTAMP:20260423T144130
CREATED:20260419T212437Z
LAST-MODIFIED:20260419T212437Z
UID:10004086-1927710000-1927724400@theworksatl.com
SUMMARY:Unlimited Gourmet Taco Tasting Experience
DESCRIPTION:Chichería Mexican Kitchen now offers an Unlimited Gourmet Taco Tasting Experience each week. Available every Saturday from 11 a.m. to 3 p.m.\, the experience features a rotating selection of chef-crafted tacos served continuously at the table. Guests can enjoy a variety of flavors including Baja Fish\, Coconut Shrimp\, Carne Asada and more\, all prepared on handmade blue corn tortillas pressed fresh daily. The tasting also includes chips\, dips and refreshing agua frescas.
URL:https://theworksatl.com/event/unlimited-gourmet-taco-tasting-experience/2031-02-01/
LOCATION:Chicheria Mexican Kitchen\, 202 Chattahoochee Row NW Suite C\, Atlanta\, GA\, 30318\, United States
CATEGORIES:Culinary,Family-Friendly
ATTACH;FMTTYPE=image/png:https://theworksatl.com/wp-content/uploads/2026/04/Taco-Tasting-Experience.png
END:VEVENT
BEGIN:VEVENT
DTSTART;TZID=UTC:20310202T110000
DTEND;TZID=UTC:20310202T150000
DTSTAMP:20260423T144130
CREATED:20251007T202810Z
LAST-MODIFIED:20251007T203037Z
UID:10003820-1927796400-1927810800@theworksatl.com
SUMMARY:Live Jazz Mexican Brunch Buffet
DESCRIPTION:Every Sunday from 11 a.m. to 3 p.m. at Chicheria Mexican Kitchen\, we invite you to enjoy live jazz music and a full Mexican buffet featuring breakfast classics\, meats\, pastries\, soups\, breads\, coffee and agua frescas.
URL:https://theworksatl.com/event/23924/2031-02-02/
LOCATION:Chicheria Mexican Kitchen\, 202 Chattahoochee Row NW Suite C\, Atlanta\, GA\, 30318\, United States
CATEGORIES:Culinary,Family-Friendly
ATTACH;FMTTYPE=image/jpeg:https://theworksatl.com/wp-content/uploads/2025/10/Chicheria-Brunch-Square.jpg
END:VEVENT
BEGIN:VEVENT
DTSTART;TZID=UTC:20310208T110000
DTEND;TZID=UTC:20310208T150000
DTSTAMP:20260423T144130
CREATED:20260419T212437Z
LAST-MODIFIED:20260419T212437Z
UID:10004087-1928314800-1928329200@theworksatl.com
SUMMARY:Unlimited Gourmet Taco Tasting Experience
DESCRIPTION:Chichería Mexican Kitchen now offers an Unlimited Gourmet Taco Tasting Experience each week. Available every Saturday from 11 a.m. to 3 p.m.\, the experience features a rotating selection of chef-crafted tacos served continuously at the table. Guests can enjoy a variety of flavors including Baja Fish\, Coconut Shrimp\, Carne Asada and more\, all prepared on handmade blue corn tortillas pressed fresh daily. The tasting also includes chips\, dips and refreshing agua frescas.
URL:https://theworksatl.com/event/unlimited-gourmet-taco-tasting-experience/2031-02-08/
LOCATION:Chicheria Mexican Kitchen\, 202 Chattahoochee Row NW Suite C\, Atlanta\, GA\, 30318\, United States
CATEGORIES:Culinary,Family-Friendly
ATTACH;FMTTYPE=image/png:https://theworksatl.com/wp-content/uploads/2026/04/Taco-Tasting-Experience.png
END:VEVENT
BEGIN:VEVENT
DTSTART;TZID=UTC:20310209T110000
DTEND;TZID=UTC:20310209T150000
DTSTAMP:20260423T144130
CREATED:20251007T202810Z
LAST-MODIFIED:20251007T203037Z
UID:10003821-1928401200-1928415600@theworksatl.com
SUMMARY:Live Jazz Mexican Brunch Buffet
DESCRIPTION:Every Sunday from 11 a.m. to 3 p.m. at Chicheria Mexican Kitchen\, we invite you to enjoy live jazz music and a full Mexican buffet featuring breakfast classics\, meats\, pastries\, soups\, breads\, coffee and agua frescas.
URL:https://theworksatl.com/event/23924/2031-02-09/
LOCATION:Chicheria Mexican Kitchen\, 202 Chattahoochee Row NW Suite C\, Atlanta\, GA\, 30318\, United States
CATEGORIES:Culinary,Family-Friendly
ATTACH;FMTTYPE=image/jpeg:https://theworksatl.com/wp-content/uploads/2025/10/Chicheria-Brunch-Square.jpg
END:VEVENT
BEGIN:VEVENT
DTSTART;TZID=UTC:20310215T110000
DTEND;TZID=UTC:20310215T150000
DTSTAMP:20260423T144130
CREATED:20260419T212437Z
LAST-MODIFIED:20260419T212437Z
UID:10004088-1928919600-1928934000@theworksatl.com
SUMMARY:Unlimited Gourmet Taco Tasting Experience
DESCRIPTION:Chichería Mexican Kitchen now offers an Unlimited Gourmet Taco Tasting Experience each week. Available every Saturday from 11 a.m. to 3 p.m.\, the experience features a rotating selection of chef-crafted tacos served continuously at the table. Guests can enjoy a variety of flavors including Baja Fish\, Coconut Shrimp\, Carne Asada and more\, all prepared on handmade blue corn tortillas pressed fresh daily. The tasting also includes chips\, dips and refreshing agua frescas.
URL:https://theworksatl.com/event/unlimited-gourmet-taco-tasting-experience/2031-02-15/
LOCATION:Chicheria Mexican Kitchen\, 202 Chattahoochee Row NW Suite C\, Atlanta\, GA\, 30318\, United States
CATEGORIES:Culinary,Family-Friendly
ATTACH;FMTTYPE=image/png:https://theworksatl.com/wp-content/uploads/2026/04/Taco-Tasting-Experience.png
END:VEVENT
BEGIN:VEVENT
DTSTART;TZID=UTC:20310216T110000
DTEND;TZID=UTC:20310216T150000
DTSTAMP:20260423T144130
CREATED:20251007T202810Z
LAST-MODIFIED:20251007T203037Z
UID:10003822-1929006000-1929020400@theworksatl.com
SUMMARY:Live Jazz Mexican Brunch Buffet
DESCRIPTION:Every Sunday from 11 a.m. to 3 p.m. at Chicheria Mexican Kitchen\, we invite you to enjoy live jazz music and a full Mexican buffet featuring breakfast classics\, meats\, pastries\, soups\, breads\, coffee and agua frescas.
URL:https://theworksatl.com/event/23924/2031-02-16/
LOCATION:Chicheria Mexican Kitchen\, 202 Chattahoochee Row NW Suite C\, Atlanta\, GA\, 30318\, United States
CATEGORIES:Culinary,Family-Friendly
ATTACH;FMTTYPE=image/jpeg:https://theworksatl.com/wp-content/uploads/2025/10/Chicheria-Brunch-Square.jpg
END:VEVENT
BEGIN:VEVENT
DTSTART;TZID=UTC:20310222T110000
DTEND;TZID=UTC:20310222T150000
DTSTAMP:20260423T144130
CREATED:20260419T212437Z
LAST-MODIFIED:20260419T212437Z
UID:10004089-1929524400-1929538800@theworksatl.com
SUMMARY:Unlimited Gourmet Taco Tasting Experience
DESCRIPTION:Chichería Mexican Kitchen now offers an Unlimited Gourmet Taco Tasting Experience each week. Available every Saturday from 11 a.m. to 3 p.m.\, the experience features a rotating selection of chef-crafted tacos served continuously at the table. Guests can enjoy a variety of flavors including Baja Fish\, Coconut Shrimp\, Carne Asada and more\, all prepared on handmade blue corn tortillas pressed fresh daily. The tasting also includes chips\, dips and refreshing agua frescas.
URL:https://theworksatl.com/event/unlimited-gourmet-taco-tasting-experience/2031-02-22/
LOCATION:Chicheria Mexican Kitchen\, 202 Chattahoochee Row NW Suite C\, Atlanta\, GA\, 30318\, United States
CATEGORIES:Culinary,Family-Friendly
ATTACH;FMTTYPE=image/png:https://theworksatl.com/wp-content/uploads/2026/04/Taco-Tasting-Experience.png
END:VEVENT
BEGIN:VEVENT
DTSTART;TZID=UTC:20310223T110000
DTEND;TZID=UTC:20310223T150000
DTSTAMP:20260423T144130
CREATED:20251007T202810Z
LAST-MODIFIED:20251007T203037Z
UID:10003823-1929610800-1929625200@theworksatl.com
SUMMARY:Live Jazz Mexican Brunch Buffet
DESCRIPTION:Every Sunday from 11 a.m. to 3 p.m. at Chicheria Mexican Kitchen\, we invite you to enjoy live jazz music and a full Mexican buffet featuring breakfast classics\, meats\, pastries\, soups\, breads\, coffee and agua frescas.
URL:https://theworksatl.com/event/23924/2031-02-23/
LOCATION:Chicheria Mexican Kitchen\, 202 Chattahoochee Row NW Suite C\, Atlanta\, GA\, 30318\, United States
CATEGORIES:Culinary,Family-Friendly
ATTACH;FMTTYPE=image/jpeg:https://theworksatl.com/wp-content/uploads/2025/10/Chicheria-Brunch-Square.jpg
END:VEVENT
BEGIN:VEVENT
DTSTART;TZID=UTC:20310301T110000
DTEND;TZID=UTC:20310301T150000
DTSTAMP:20260423T144130
CREATED:20260419T212437Z
LAST-MODIFIED:20260419T212437Z
UID:10004090-1930129200-1930143600@theworksatl.com
SUMMARY:Unlimited Gourmet Taco Tasting Experience
DESCRIPTION:Chichería Mexican Kitchen now offers an Unlimited Gourmet Taco Tasting Experience each week. Available every Saturday from 11 a.m. to 3 p.m.\, the experience features a rotating selection of chef-crafted tacos served continuously at the table. Guests can enjoy a variety of flavors including Baja Fish\, Coconut Shrimp\, Carne Asada and more\, all prepared on handmade blue corn tortillas pressed fresh daily. The tasting also includes chips\, dips and refreshing agua frescas.
URL:https://theworksatl.com/event/unlimited-gourmet-taco-tasting-experience/2031-03-01/
LOCATION:Chicheria Mexican Kitchen\, 202 Chattahoochee Row NW Suite C\, Atlanta\, GA\, 30318\, United States
CATEGORIES:Culinary,Family-Friendly
ATTACH;FMTTYPE=image/png:https://theworksatl.com/wp-content/uploads/2026/04/Taco-Tasting-Experience.png
END:VEVENT
BEGIN:VEVENT
DTSTART;TZID=UTC:20310302T110000
DTEND;TZID=UTC:20310302T150000
DTSTAMP:20260423T144130
CREATED:20251007T202810Z
LAST-MODIFIED:20251007T203037Z
UID:10003824-1930215600-1930230000@theworksatl.com
SUMMARY:Live Jazz Mexican Brunch Buffet
DESCRIPTION:Every Sunday from 11 a.m. to 3 p.m. at Chicheria Mexican Kitchen\, we invite you to enjoy live jazz music and a full Mexican buffet featuring breakfast classics\, meats\, pastries\, soups\, breads\, coffee and agua frescas.
URL:https://theworksatl.com/event/23924/2031-03-02/
LOCATION:Chicheria Mexican Kitchen\, 202 Chattahoochee Row NW Suite C\, Atlanta\, GA\, 30318\, United States
CATEGORIES:Culinary,Family-Friendly
ATTACH;FMTTYPE=image/jpeg:https://theworksatl.com/wp-content/uploads/2025/10/Chicheria-Brunch-Square.jpg
END:VEVENT
BEGIN:VEVENT
DTSTART;TZID=UTC:20310308T110000
DTEND;TZID=UTC:20310308T150000
DTSTAMP:20260423T144130
CREATED:20260419T212437Z
LAST-MODIFIED:20260419T212437Z
UID:10004091-1930734000-1930748400@theworksatl.com
SUMMARY:Unlimited Gourmet Taco Tasting Experience
DESCRIPTION:Chichería Mexican Kitchen now offers an Unlimited Gourmet Taco Tasting Experience each week. Available every Saturday from 11 a.m. to 3 p.m.\, the experience features a rotating selection of chef-crafted tacos served continuously at the table. Guests can enjoy a variety of flavors including Baja Fish\, Coconut Shrimp\, Carne Asada and more\, all prepared on handmade blue corn tortillas pressed fresh daily. The tasting also includes chips\, dips and refreshing agua frescas.
URL:https://theworksatl.com/event/unlimited-gourmet-taco-tasting-experience/2031-03-08/
LOCATION:Chicheria Mexican Kitchen\, 202 Chattahoochee Row NW Suite C\, Atlanta\, GA\, 30318\, United States
CATEGORIES:Culinary,Family-Friendly
ATTACH;FMTTYPE=image/png:https://theworksatl.com/wp-content/uploads/2026/04/Taco-Tasting-Experience.png
END:VEVENT
BEGIN:VEVENT
DTSTART;TZID=UTC:20310309T110000
DTEND;TZID=UTC:20310309T150000
DTSTAMP:20260423T144130
CREATED:20251007T202810Z
LAST-MODIFIED:20251007T203037Z
UID:10003825-1930820400-1930834800@theworksatl.com
SUMMARY:Live Jazz Mexican Brunch Buffet
DESCRIPTION:Every Sunday from 11 a.m. to 3 p.m. at Chicheria Mexican Kitchen\, we invite you to enjoy live jazz music and a full Mexican buffet featuring breakfast classics\, meats\, pastries\, soups\, breads\, coffee and agua frescas.
URL:https://theworksatl.com/event/23924/2031-03-09/
LOCATION:Chicheria Mexican Kitchen\, 202 Chattahoochee Row NW Suite C\, Atlanta\, GA\, 30318\, United States
CATEGORIES:Culinary,Family-Friendly
ATTACH;FMTTYPE=image/jpeg:https://theworksatl.com/wp-content/uploads/2025/10/Chicheria-Brunch-Square.jpg
END:VEVENT
BEGIN:VEVENT
DTSTART;TZID=UTC:20310315T110000
DTEND;TZID=UTC:20310315T150000
DTSTAMP:20260423T144130
CREATED:20260419T212437Z
LAST-MODIFIED:20260419T212437Z
UID:10004092-1931338800-1931353200@theworksatl.com
SUMMARY:Unlimited Gourmet Taco Tasting Experience
DESCRIPTION:Chichería Mexican Kitchen now offers an Unlimited Gourmet Taco Tasting Experience each week. Available every Saturday from 11 a.m. to 3 p.m.\, the experience features a rotating selection of chef-crafted tacos served continuously at the table. Guests can enjoy a variety of flavors including Baja Fish\, Coconut Shrimp\, Carne Asada and more\, all prepared on handmade blue corn tortillas pressed fresh daily. The tasting also includes chips\, dips and refreshing agua frescas.
URL:https://theworksatl.com/event/unlimited-gourmet-taco-tasting-experience/2031-03-15/
LOCATION:Chicheria Mexican Kitchen\, 202 Chattahoochee Row NW Suite C\, Atlanta\, GA\, 30318\, United States
CATEGORIES:Culinary,Family-Friendly
ATTACH;FMTTYPE=image/png:https://theworksatl.com/wp-content/uploads/2026/04/Taco-Tasting-Experience.png
END:VEVENT
BEGIN:VEVENT
DTSTART;TZID=UTC:20310316T110000
DTEND;TZID=UTC:20310316T150000
DTSTAMP:20260423T144130
CREATED:20251007T202810Z
LAST-MODIFIED:20251007T203037Z
UID:10003826-1931425200-1931439600@theworksatl.com
SUMMARY:Live Jazz Mexican Brunch Buffet
DESCRIPTION:Every Sunday from 11 a.m. to 3 p.m. at Chicheria Mexican Kitchen\, we invite you to enjoy live jazz music and a full Mexican buffet featuring breakfast classics\, meats\, pastries\, soups\, breads\, coffee and agua frescas.
URL:https://theworksatl.com/event/23924/2031-03-16/
LOCATION:Chicheria Mexican Kitchen\, 202 Chattahoochee Row NW Suite C\, Atlanta\, GA\, 30318\, United States
CATEGORIES:Culinary,Family-Friendly
ATTACH;FMTTYPE=image/jpeg:https://theworksatl.com/wp-content/uploads/2025/10/Chicheria-Brunch-Square.jpg
END:VEVENT
BEGIN:VEVENT
DTSTART;TZID=UTC:20310322T110000
DTEND;TZID=UTC:20310322T150000
DTSTAMP:20260423T144130
CREATED:20260419T212437Z
LAST-MODIFIED:20260419T212437Z
UID:10004093-1931943600-1931958000@theworksatl.com
SUMMARY:Unlimited Gourmet Taco Tasting Experience
DESCRIPTION:Chichería Mexican Kitchen now offers an Unlimited Gourmet Taco Tasting Experience each week. Available every Saturday from 11 a.m. to 3 p.m.\, the experience features a rotating selection of chef-crafted tacos served continuously at the table. Guests can enjoy a variety of flavors including Baja Fish\, Coconut Shrimp\, Carne Asada and more\, all prepared on handmade blue corn tortillas pressed fresh daily. The tasting also includes chips\, dips and refreshing agua frescas.
URL:https://theworksatl.com/event/unlimited-gourmet-taco-tasting-experience/2031-03-22/
LOCATION:Chicheria Mexican Kitchen\, 202 Chattahoochee Row NW Suite C\, Atlanta\, GA\, 30318\, United States
CATEGORIES:Culinary,Family-Friendly
ATTACH;FMTTYPE=image/png:https://theworksatl.com/wp-content/uploads/2026/04/Taco-Tasting-Experience.png
END:VEVENT
BEGIN:VEVENT
DTSTART;TZID=UTC:20310323T110000
DTEND;TZID=UTC:20310323T150000
DTSTAMP:20260423T144130
CREATED:20251007T202810Z
LAST-MODIFIED:20251007T203037Z
UID:10003827-1932030000-1932044400@theworksatl.com
SUMMARY:Live Jazz Mexican Brunch Buffet
DESCRIPTION:Every Sunday from 11 a.m. to 3 p.m. at Chicheria Mexican Kitchen\, we invite you to enjoy live jazz music and a full Mexican buffet featuring breakfast classics\, meats\, pastries\, soups\, breads\, coffee and agua frescas.
URL:https://theworksatl.com/event/23924/2031-03-23/
LOCATION:Chicheria Mexican Kitchen\, 202 Chattahoochee Row NW Suite C\, Atlanta\, GA\, 30318\, United States
CATEGORIES:Culinary,Family-Friendly
ATTACH;FMTTYPE=image/jpeg:https://theworksatl.com/wp-content/uploads/2025/10/Chicheria-Brunch-Square.jpg
END:VEVENT
BEGIN:VEVENT
DTSTART;TZID=UTC:20310329T110000
DTEND;TZID=UTC:20310329T150000
DTSTAMP:20260423T144130
CREATED:20260419T212437Z
LAST-MODIFIED:20260419T212437Z
UID:10004094-1932548400-1932562800@theworksatl.com
SUMMARY:Unlimited Gourmet Taco Tasting Experience
DESCRIPTION:Chichería Mexican Kitchen now offers an Unlimited Gourmet Taco Tasting Experience each week. Available every Saturday from 11 a.m. to 3 p.m.\, the experience features a rotating selection of chef-crafted tacos served continuously at the table. Guests can enjoy a variety of flavors including Baja Fish\, Coconut Shrimp\, Carne Asada and more\, all prepared on handmade blue corn tortillas pressed fresh daily. The tasting also includes chips\, dips and refreshing agua frescas.
URL:https://theworksatl.com/event/unlimited-gourmet-taco-tasting-experience/2031-03-29/
LOCATION:Chicheria Mexican Kitchen\, 202 Chattahoochee Row NW Suite C\, Atlanta\, GA\, 30318\, United States
CATEGORIES:Culinary,Family-Friendly
ATTACH;FMTTYPE=image/png:https://theworksatl.com/wp-content/uploads/2026/04/Taco-Tasting-Experience.png
END:VEVENT
END:VCALENDAR