BEGIN:VCALENDAR
VERSION:2.0
PRODID:-//The Works - ECPv6.15.20//NONSGML v1.0//EN
CALSCALE:GREGORIAN
METHOD:PUBLISH
X-WR-CALNAME:The Works
X-ORIGINAL-URL:https://theworksatl.com
X-WR-CALDESC:Events for The Works
REFRESH-INTERVAL;VALUE=DURATION:PT1H
X-Robots-Tag:noindex
X-PUBLISHED-TTL:PT1H
BEGIN:VTIMEZONE
TZID:UTC
BEGIN:STANDARD
TZOFFSETFROM:+0000
TZOFFSETTO:+0000
TZNAME:UTC
DTSTART:20270101T000000
END:STANDARD
END:VTIMEZONE
BEGIN:VEVENT
DTSTART;TZID=UTC:20280716T110000
DTEND;TZID=UTC:20280716T150000
DTSTAMP:20260422T145206
CREATED:20251007T202810Z
LAST-MODIFIED:20251007T203037Z
UID:10002561-1847358000-1847372400@theworksatl.com
SUMMARY:Live Jazz Mexican Brunch Buffet
DESCRIPTION:Every Sunday from 11 a.m. to 3 p.m. at Chicheria Mexican Kitchen\, we invite you to enjoy live jazz music and a full Mexican buffet featuring breakfast classics\, meats\, pastries\, soups\, breads\, coffee and agua frescas.
URL:https://theworksatl.com/event/23924/2028-07-16/
LOCATION:Chicheria Mexican Kitchen\, 202 Chattahoochee Row NW Suite C\, Atlanta\, GA\, 30318\, United States
CATEGORIES:Culinary,Family-Friendly
ATTACH;FMTTYPE=image/jpeg:https://theworksatl.com/wp-content/uploads/2025/10/Chicheria-Brunch-Square.jpg
END:VEVENT
BEGIN:VEVENT
DTSTART;TZID=UTC:20280722T110000
DTEND;TZID=UTC:20280722T150000
DTSTAMP:20260422T145206
CREATED:20260419T212437Z
LAST-MODIFIED:20260419T212437Z
UID:10003954-1847876400-1847890800@theworksatl.com
SUMMARY:Unlimited Gourmet Taco Tasting Experience
DESCRIPTION:Chichería Mexican Kitchen now offers an Unlimited Gourmet Taco Tasting Experience each week. Available every Saturday from 11 a.m. to 3 p.m.\, the experience features a rotating selection of chef-crafted tacos served continuously at the table. Guests can enjoy a variety of flavors including Baja Fish\, Coconut Shrimp\, Carne Asada and more\, all prepared on handmade blue corn tortillas pressed fresh daily. The tasting also includes chips\, dips and refreshing agua frescas.
URL:https://theworksatl.com/event/unlimited-gourmet-taco-tasting-experience/2028-07-22/
LOCATION:Chicheria Mexican Kitchen\, 202 Chattahoochee Row NW Suite C\, Atlanta\, GA\, 30318\, United States
CATEGORIES:Culinary,Family-Friendly
ATTACH;FMTTYPE=image/png:https://theworksatl.com/wp-content/uploads/2026/04/Taco-Tasting-Experience.png
END:VEVENT
BEGIN:VEVENT
DTSTART;TZID=UTC:20280723T110000
DTEND;TZID=UTC:20280723T150000
DTSTAMP:20260422T145206
CREATED:20251007T202810Z
LAST-MODIFIED:20251007T203037Z
UID:10002562-1847962800-1847977200@theworksatl.com
SUMMARY:Live Jazz Mexican Brunch Buffet
DESCRIPTION:Every Sunday from 11 a.m. to 3 p.m. at Chicheria Mexican Kitchen\, we invite you to enjoy live jazz music and a full Mexican buffet featuring breakfast classics\, meats\, pastries\, soups\, breads\, coffee and agua frescas.
URL:https://theworksatl.com/event/23924/2028-07-23/
LOCATION:Chicheria Mexican Kitchen\, 202 Chattahoochee Row NW Suite C\, Atlanta\, GA\, 30318\, United States
CATEGORIES:Culinary,Family-Friendly
ATTACH;FMTTYPE=image/jpeg:https://theworksatl.com/wp-content/uploads/2025/10/Chicheria-Brunch-Square.jpg
END:VEVENT
BEGIN:VEVENT
DTSTART;TZID=UTC:20280729T110000
DTEND;TZID=UTC:20280729T150000
DTSTAMP:20260422T145206
CREATED:20260419T212437Z
LAST-MODIFIED:20260419T212437Z
UID:10003955-1848481200-1848495600@theworksatl.com
SUMMARY:Unlimited Gourmet Taco Tasting Experience
DESCRIPTION:Chichería Mexican Kitchen now offers an Unlimited Gourmet Taco Tasting Experience each week. Available every Saturday from 11 a.m. to 3 p.m.\, the experience features a rotating selection of chef-crafted tacos served continuously at the table. Guests can enjoy a variety of flavors including Baja Fish\, Coconut Shrimp\, Carne Asada and more\, all prepared on handmade blue corn tortillas pressed fresh daily. The tasting also includes chips\, dips and refreshing agua frescas.
URL:https://theworksatl.com/event/unlimited-gourmet-taco-tasting-experience/2028-07-29/
LOCATION:Chicheria Mexican Kitchen\, 202 Chattahoochee Row NW Suite C\, Atlanta\, GA\, 30318\, United States
CATEGORIES:Culinary,Family-Friendly
ATTACH;FMTTYPE=image/png:https://theworksatl.com/wp-content/uploads/2026/04/Taco-Tasting-Experience.png
END:VEVENT
BEGIN:VEVENT
DTSTART;TZID=UTC:20280730T110000
DTEND;TZID=UTC:20280730T150000
DTSTAMP:20260422T145206
CREATED:20251007T202810Z
LAST-MODIFIED:20251007T203037Z
UID:10002563-1848567600-1848582000@theworksatl.com
SUMMARY:Live Jazz Mexican Brunch Buffet
DESCRIPTION:Every Sunday from 11 a.m. to 3 p.m. at Chicheria Mexican Kitchen\, we invite you to enjoy live jazz music and a full Mexican buffet featuring breakfast classics\, meats\, pastries\, soups\, breads\, coffee and agua frescas.
URL:https://theworksatl.com/event/23924/2028-07-30/
LOCATION:Chicheria Mexican Kitchen\, 202 Chattahoochee Row NW Suite C\, Atlanta\, GA\, 30318\, United States
CATEGORIES:Culinary,Family-Friendly
ATTACH;FMTTYPE=image/jpeg:https://theworksatl.com/wp-content/uploads/2025/10/Chicheria-Brunch-Square.jpg
END:VEVENT
BEGIN:VEVENT
DTSTART;TZID=UTC:20280805T110000
DTEND;TZID=UTC:20280805T150000
DTSTAMP:20260422T145206
CREATED:20260419T212437Z
LAST-MODIFIED:20260419T212437Z
UID:10003956-1849086000-1849100400@theworksatl.com
SUMMARY:Unlimited Gourmet Taco Tasting Experience
DESCRIPTION:Chichería Mexican Kitchen now offers an Unlimited Gourmet Taco Tasting Experience each week. Available every Saturday from 11 a.m. to 3 p.m.\, the experience features a rotating selection of chef-crafted tacos served continuously at the table. Guests can enjoy a variety of flavors including Baja Fish\, Coconut Shrimp\, Carne Asada and more\, all prepared on handmade blue corn tortillas pressed fresh daily. The tasting also includes chips\, dips and refreshing agua frescas.
URL:https://theworksatl.com/event/unlimited-gourmet-taco-tasting-experience/2028-08-05/
LOCATION:Chicheria Mexican Kitchen\, 202 Chattahoochee Row NW Suite C\, Atlanta\, GA\, 30318\, United States
CATEGORIES:Culinary,Family-Friendly
ATTACH;FMTTYPE=image/png:https://theworksatl.com/wp-content/uploads/2026/04/Taco-Tasting-Experience.png
END:VEVENT
BEGIN:VEVENT
DTSTART;TZID=UTC:20280806T110000
DTEND;TZID=UTC:20280806T150000
DTSTAMP:20260422T145206
CREATED:20251007T202810Z
LAST-MODIFIED:20251007T203037Z
UID:10002564-1849172400-1849186800@theworksatl.com
SUMMARY:Live Jazz Mexican Brunch Buffet
DESCRIPTION:Every Sunday from 11 a.m. to 3 p.m. at Chicheria Mexican Kitchen\, we invite you to enjoy live jazz music and a full Mexican buffet featuring breakfast classics\, meats\, pastries\, soups\, breads\, coffee and agua frescas.
URL:https://theworksatl.com/event/23924/2028-08-06/
LOCATION:Chicheria Mexican Kitchen\, 202 Chattahoochee Row NW Suite C\, Atlanta\, GA\, 30318\, United States
CATEGORIES:Culinary,Family-Friendly
ATTACH;FMTTYPE=image/jpeg:https://theworksatl.com/wp-content/uploads/2025/10/Chicheria-Brunch-Square.jpg
END:VEVENT
BEGIN:VEVENT
DTSTART;TZID=UTC:20280812T110000
DTEND;TZID=UTC:20280812T150000
DTSTAMP:20260422T145206
CREATED:20260419T212437Z
LAST-MODIFIED:20260419T212437Z
UID:10003957-1849690800-1849705200@theworksatl.com
SUMMARY:Unlimited Gourmet Taco Tasting Experience
DESCRIPTION:Chichería Mexican Kitchen now offers an Unlimited Gourmet Taco Tasting Experience each week. Available every Saturday from 11 a.m. to 3 p.m.\, the experience features a rotating selection of chef-crafted tacos served continuously at the table. Guests can enjoy a variety of flavors including Baja Fish\, Coconut Shrimp\, Carne Asada and more\, all prepared on handmade blue corn tortillas pressed fresh daily. The tasting also includes chips\, dips and refreshing agua frescas.
URL:https://theworksatl.com/event/unlimited-gourmet-taco-tasting-experience/2028-08-12/
LOCATION:Chicheria Mexican Kitchen\, 202 Chattahoochee Row NW Suite C\, Atlanta\, GA\, 30318\, United States
CATEGORIES:Culinary,Family-Friendly
ATTACH;FMTTYPE=image/png:https://theworksatl.com/wp-content/uploads/2026/04/Taco-Tasting-Experience.png
END:VEVENT
BEGIN:VEVENT
DTSTART;TZID=UTC:20280813T110000
DTEND;TZID=UTC:20280813T150000
DTSTAMP:20260422T145206
CREATED:20251007T202810Z
LAST-MODIFIED:20251007T203037Z
UID:10002565-1849777200-1849791600@theworksatl.com
SUMMARY:Live Jazz Mexican Brunch Buffet
DESCRIPTION:Every Sunday from 11 a.m. to 3 p.m. at Chicheria Mexican Kitchen\, we invite you to enjoy live jazz music and a full Mexican buffet featuring breakfast classics\, meats\, pastries\, soups\, breads\, coffee and agua frescas.
URL:https://theworksatl.com/event/23924/2028-08-13/
LOCATION:Chicheria Mexican Kitchen\, 202 Chattahoochee Row NW Suite C\, Atlanta\, GA\, 30318\, United States
CATEGORIES:Culinary,Family-Friendly
ATTACH;FMTTYPE=image/jpeg:https://theworksatl.com/wp-content/uploads/2025/10/Chicheria-Brunch-Square.jpg
END:VEVENT
BEGIN:VEVENT
DTSTART;TZID=UTC:20280819T110000
DTEND;TZID=UTC:20280819T150000
DTSTAMP:20260422T145206
CREATED:20260419T212437Z
LAST-MODIFIED:20260419T212437Z
UID:10003958-1850295600-1850310000@theworksatl.com
SUMMARY:Unlimited Gourmet Taco Tasting Experience
DESCRIPTION:Chichería Mexican Kitchen now offers an Unlimited Gourmet Taco Tasting Experience each week. Available every Saturday from 11 a.m. to 3 p.m.\, the experience features a rotating selection of chef-crafted tacos served continuously at the table. Guests can enjoy a variety of flavors including Baja Fish\, Coconut Shrimp\, Carne Asada and more\, all prepared on handmade blue corn tortillas pressed fresh daily. The tasting also includes chips\, dips and refreshing agua frescas.
URL:https://theworksatl.com/event/unlimited-gourmet-taco-tasting-experience/2028-08-19/
LOCATION:Chicheria Mexican Kitchen\, 202 Chattahoochee Row NW Suite C\, Atlanta\, GA\, 30318\, United States
CATEGORIES:Culinary,Family-Friendly
ATTACH;FMTTYPE=image/png:https://theworksatl.com/wp-content/uploads/2026/04/Taco-Tasting-Experience.png
END:VEVENT
BEGIN:VEVENT
DTSTART;TZID=UTC:20280820T110000
DTEND;TZID=UTC:20280820T150000
DTSTAMP:20260422T145206
CREATED:20251007T202810Z
LAST-MODIFIED:20251007T203037Z
UID:10002566-1850382000-1850396400@theworksatl.com
SUMMARY:Live Jazz Mexican Brunch Buffet
DESCRIPTION:Every Sunday from 11 a.m. to 3 p.m. at Chicheria Mexican Kitchen\, we invite you to enjoy live jazz music and a full Mexican buffet featuring breakfast classics\, meats\, pastries\, soups\, breads\, coffee and agua frescas.
URL:https://theworksatl.com/event/23924/2028-08-20/
LOCATION:Chicheria Mexican Kitchen\, 202 Chattahoochee Row NW Suite C\, Atlanta\, GA\, 30318\, United States
CATEGORIES:Culinary,Family-Friendly
ATTACH;FMTTYPE=image/jpeg:https://theworksatl.com/wp-content/uploads/2025/10/Chicheria-Brunch-Square.jpg
END:VEVENT
BEGIN:VEVENT
DTSTART;TZID=UTC:20280826T110000
DTEND;TZID=UTC:20280826T150000
DTSTAMP:20260422T145206
CREATED:20260419T212437Z
LAST-MODIFIED:20260419T212437Z
UID:10003959-1850900400-1850914800@theworksatl.com
SUMMARY:Unlimited Gourmet Taco Tasting Experience
DESCRIPTION:Chichería Mexican Kitchen now offers an Unlimited Gourmet Taco Tasting Experience each week. Available every Saturday from 11 a.m. to 3 p.m.\, the experience features a rotating selection of chef-crafted tacos served continuously at the table. Guests can enjoy a variety of flavors including Baja Fish\, Coconut Shrimp\, Carne Asada and more\, all prepared on handmade blue corn tortillas pressed fresh daily. The tasting also includes chips\, dips and refreshing agua frescas.
URL:https://theworksatl.com/event/unlimited-gourmet-taco-tasting-experience/2028-08-26/
LOCATION:Chicheria Mexican Kitchen\, 202 Chattahoochee Row NW Suite C\, Atlanta\, GA\, 30318\, United States
CATEGORIES:Culinary,Family-Friendly
ATTACH;FMTTYPE=image/png:https://theworksatl.com/wp-content/uploads/2026/04/Taco-Tasting-Experience.png
END:VEVENT
BEGIN:VEVENT
DTSTART;TZID=UTC:20280827T110000
DTEND;TZID=UTC:20280827T150000
DTSTAMP:20260422T145206
CREATED:20251007T202810Z
LAST-MODIFIED:20251007T203037Z
UID:10002567-1850986800-1851001200@theworksatl.com
SUMMARY:Live Jazz Mexican Brunch Buffet
DESCRIPTION:Every Sunday from 11 a.m. to 3 p.m. at Chicheria Mexican Kitchen\, we invite you to enjoy live jazz music and a full Mexican buffet featuring breakfast classics\, meats\, pastries\, soups\, breads\, coffee and agua frescas.
URL:https://theworksatl.com/event/23924/2028-08-27/
LOCATION:Chicheria Mexican Kitchen\, 202 Chattahoochee Row NW Suite C\, Atlanta\, GA\, 30318\, United States
CATEGORIES:Culinary,Family-Friendly
ATTACH;FMTTYPE=image/jpeg:https://theworksatl.com/wp-content/uploads/2025/10/Chicheria-Brunch-Square.jpg
END:VEVENT
BEGIN:VEVENT
DTSTART;TZID=UTC:20280902T110000
DTEND;TZID=UTC:20280902T150000
DTSTAMP:20260422T145206
CREATED:20260419T212437Z
LAST-MODIFIED:20260419T212437Z
UID:10003960-1851505200-1851519600@theworksatl.com
SUMMARY:Unlimited Gourmet Taco Tasting Experience
DESCRIPTION:Chichería Mexican Kitchen now offers an Unlimited Gourmet Taco Tasting Experience each week. Available every Saturday from 11 a.m. to 3 p.m.\, the experience features a rotating selection of chef-crafted tacos served continuously at the table. Guests can enjoy a variety of flavors including Baja Fish\, Coconut Shrimp\, Carne Asada and more\, all prepared on handmade blue corn tortillas pressed fresh daily. The tasting also includes chips\, dips and refreshing agua frescas.
URL:https://theworksatl.com/event/unlimited-gourmet-taco-tasting-experience/2028-09-02/
LOCATION:Chicheria Mexican Kitchen\, 202 Chattahoochee Row NW Suite C\, Atlanta\, GA\, 30318\, United States
CATEGORIES:Culinary,Family-Friendly
ATTACH;FMTTYPE=image/png:https://theworksatl.com/wp-content/uploads/2026/04/Taco-Tasting-Experience.png
END:VEVENT
BEGIN:VEVENT
DTSTART;TZID=UTC:20280903T110000
DTEND;TZID=UTC:20280903T150000
DTSTAMP:20260422T145206
CREATED:20251007T202810Z
LAST-MODIFIED:20251007T203037Z
UID:10002568-1851591600-1851606000@theworksatl.com
SUMMARY:Live Jazz Mexican Brunch Buffet
DESCRIPTION:Every Sunday from 11 a.m. to 3 p.m. at Chicheria Mexican Kitchen\, we invite you to enjoy live jazz music and a full Mexican buffet featuring breakfast classics\, meats\, pastries\, soups\, breads\, coffee and agua frescas.
URL:https://theworksatl.com/event/23924/2028-09-03/
LOCATION:Chicheria Mexican Kitchen\, 202 Chattahoochee Row NW Suite C\, Atlanta\, GA\, 30318\, United States
CATEGORIES:Culinary,Family-Friendly
ATTACH;FMTTYPE=image/jpeg:https://theworksatl.com/wp-content/uploads/2025/10/Chicheria-Brunch-Square.jpg
END:VEVENT
BEGIN:VEVENT
DTSTART;TZID=UTC:20280909T110000
DTEND;TZID=UTC:20280909T150000
DTSTAMP:20260422T145206
CREATED:20260419T212437Z
LAST-MODIFIED:20260419T212437Z
UID:10003961-1852110000-1852124400@theworksatl.com
SUMMARY:Unlimited Gourmet Taco Tasting Experience
DESCRIPTION:Chichería Mexican Kitchen now offers an Unlimited Gourmet Taco Tasting Experience each week. Available every Saturday from 11 a.m. to 3 p.m.\, the experience features a rotating selection of chef-crafted tacos served continuously at the table. Guests can enjoy a variety of flavors including Baja Fish\, Coconut Shrimp\, Carne Asada and more\, all prepared on handmade blue corn tortillas pressed fresh daily. The tasting also includes chips\, dips and refreshing agua frescas.
URL:https://theworksatl.com/event/unlimited-gourmet-taco-tasting-experience/2028-09-09/
LOCATION:Chicheria Mexican Kitchen\, 202 Chattahoochee Row NW Suite C\, Atlanta\, GA\, 30318\, United States
CATEGORIES:Culinary,Family-Friendly
ATTACH;FMTTYPE=image/png:https://theworksatl.com/wp-content/uploads/2026/04/Taco-Tasting-Experience.png
END:VEVENT
BEGIN:VEVENT
DTSTART;TZID=UTC:20280910T110000
DTEND;TZID=UTC:20280910T150000
DTSTAMP:20260422T145206
CREATED:20251007T202810Z
LAST-MODIFIED:20251007T203037Z
UID:10002569-1852196400-1852210800@theworksatl.com
SUMMARY:Live Jazz Mexican Brunch Buffet
DESCRIPTION:Every Sunday from 11 a.m. to 3 p.m. at Chicheria Mexican Kitchen\, we invite you to enjoy live jazz music and a full Mexican buffet featuring breakfast classics\, meats\, pastries\, soups\, breads\, coffee and agua frescas.
URL:https://theworksatl.com/event/23924/2028-09-10/
LOCATION:Chicheria Mexican Kitchen\, 202 Chattahoochee Row NW Suite C\, Atlanta\, GA\, 30318\, United States
CATEGORIES:Culinary,Family-Friendly
ATTACH;FMTTYPE=image/jpeg:https://theworksatl.com/wp-content/uploads/2025/10/Chicheria-Brunch-Square.jpg
END:VEVENT
BEGIN:VEVENT
DTSTART;TZID=UTC:20280916T110000
DTEND;TZID=UTC:20280916T150000
DTSTAMP:20260422T145206
CREATED:20260419T212437Z
LAST-MODIFIED:20260419T212437Z
UID:10003962-1852714800-1852729200@theworksatl.com
SUMMARY:Unlimited Gourmet Taco Tasting Experience
DESCRIPTION:Chichería Mexican Kitchen now offers an Unlimited Gourmet Taco Tasting Experience each week. Available every Saturday from 11 a.m. to 3 p.m.\, the experience features a rotating selection of chef-crafted tacos served continuously at the table. Guests can enjoy a variety of flavors including Baja Fish\, Coconut Shrimp\, Carne Asada and more\, all prepared on handmade blue corn tortillas pressed fresh daily. The tasting also includes chips\, dips and refreshing agua frescas.
URL:https://theworksatl.com/event/unlimited-gourmet-taco-tasting-experience/2028-09-16/
LOCATION:Chicheria Mexican Kitchen\, 202 Chattahoochee Row NW Suite C\, Atlanta\, GA\, 30318\, United States
CATEGORIES:Culinary,Family-Friendly
ATTACH;FMTTYPE=image/png:https://theworksatl.com/wp-content/uploads/2026/04/Taco-Tasting-Experience.png
END:VEVENT
BEGIN:VEVENT
DTSTART;TZID=UTC:20280917T110000
DTEND;TZID=UTC:20280917T150000
DTSTAMP:20260422T145206
CREATED:20251007T202810Z
LAST-MODIFIED:20251007T203037Z
UID:10002570-1852801200-1852815600@theworksatl.com
SUMMARY:Live Jazz Mexican Brunch Buffet
DESCRIPTION:Every Sunday from 11 a.m. to 3 p.m. at Chicheria Mexican Kitchen\, we invite you to enjoy live jazz music and a full Mexican buffet featuring breakfast classics\, meats\, pastries\, soups\, breads\, coffee and agua frescas.
URL:https://theworksatl.com/event/23924/2028-09-17/
LOCATION:Chicheria Mexican Kitchen\, 202 Chattahoochee Row NW Suite C\, Atlanta\, GA\, 30318\, United States
CATEGORIES:Culinary,Family-Friendly
ATTACH;FMTTYPE=image/jpeg:https://theworksatl.com/wp-content/uploads/2025/10/Chicheria-Brunch-Square.jpg
END:VEVENT
BEGIN:VEVENT
DTSTART;TZID=UTC:20280923T110000
DTEND;TZID=UTC:20280923T150000
DTSTAMP:20260422T145206
CREATED:20260419T212437Z
LAST-MODIFIED:20260419T212437Z
UID:10003963-1853319600-1853334000@theworksatl.com
SUMMARY:Unlimited Gourmet Taco Tasting Experience
DESCRIPTION:Chichería Mexican Kitchen now offers an Unlimited Gourmet Taco Tasting Experience each week. Available every Saturday from 11 a.m. to 3 p.m.\, the experience features a rotating selection of chef-crafted tacos served continuously at the table. Guests can enjoy a variety of flavors including Baja Fish\, Coconut Shrimp\, Carne Asada and more\, all prepared on handmade blue corn tortillas pressed fresh daily. The tasting also includes chips\, dips and refreshing agua frescas.
URL:https://theworksatl.com/event/unlimited-gourmet-taco-tasting-experience/2028-09-23/
LOCATION:Chicheria Mexican Kitchen\, 202 Chattahoochee Row NW Suite C\, Atlanta\, GA\, 30318\, United States
CATEGORIES:Culinary,Family-Friendly
ATTACH;FMTTYPE=image/png:https://theworksatl.com/wp-content/uploads/2026/04/Taco-Tasting-Experience.png
END:VEVENT
BEGIN:VEVENT
DTSTART;TZID=UTC:20280924T110000
DTEND;TZID=UTC:20280924T150000
DTSTAMP:20260422T145206
CREATED:20251007T202810Z
LAST-MODIFIED:20251007T203037Z
UID:10002571-1853406000-1853420400@theworksatl.com
SUMMARY:Live Jazz Mexican Brunch Buffet
DESCRIPTION:Every Sunday from 11 a.m. to 3 p.m. at Chicheria Mexican Kitchen\, we invite you to enjoy live jazz music and a full Mexican buffet featuring breakfast classics\, meats\, pastries\, soups\, breads\, coffee and agua frescas.
URL:https://theworksatl.com/event/23924/2028-09-24/
LOCATION:Chicheria Mexican Kitchen\, 202 Chattahoochee Row NW Suite C\, Atlanta\, GA\, 30318\, United States
CATEGORIES:Culinary,Family-Friendly
ATTACH;FMTTYPE=image/jpeg:https://theworksatl.com/wp-content/uploads/2025/10/Chicheria-Brunch-Square.jpg
END:VEVENT
BEGIN:VEVENT
DTSTART;TZID=UTC:20280930T110000
DTEND;TZID=UTC:20280930T150000
DTSTAMP:20260422T145206
CREATED:20260419T212437Z
LAST-MODIFIED:20260419T212437Z
UID:10003964-1853924400-1853938800@theworksatl.com
SUMMARY:Unlimited Gourmet Taco Tasting Experience
DESCRIPTION:Chichería Mexican Kitchen now offers an Unlimited Gourmet Taco Tasting Experience each week. Available every Saturday from 11 a.m. to 3 p.m.\, the experience features a rotating selection of chef-crafted tacos served continuously at the table. Guests can enjoy a variety of flavors including Baja Fish\, Coconut Shrimp\, Carne Asada and more\, all prepared on handmade blue corn tortillas pressed fresh daily. The tasting also includes chips\, dips and refreshing agua frescas.
URL:https://theworksatl.com/event/unlimited-gourmet-taco-tasting-experience/2028-09-30/
LOCATION:Chicheria Mexican Kitchen\, 202 Chattahoochee Row NW Suite C\, Atlanta\, GA\, 30318\, United States
CATEGORIES:Culinary,Family-Friendly
ATTACH;FMTTYPE=image/png:https://theworksatl.com/wp-content/uploads/2026/04/Taco-Tasting-Experience.png
END:VEVENT
BEGIN:VEVENT
DTSTART;TZID=UTC:20281001T110000
DTEND;TZID=UTC:20281001T150000
DTSTAMP:20260422T145206
CREATED:20251007T202810Z
LAST-MODIFIED:20251007T203037Z
UID:10002572-1854010800-1854025200@theworksatl.com
SUMMARY:Live Jazz Mexican Brunch Buffet
DESCRIPTION:Every Sunday from 11 a.m. to 3 p.m. at Chicheria Mexican Kitchen\, we invite you to enjoy live jazz music and a full Mexican buffet featuring breakfast classics\, meats\, pastries\, soups\, breads\, coffee and agua frescas.
URL:https://theworksatl.com/event/23924/2028-10-01/
LOCATION:Chicheria Mexican Kitchen\, 202 Chattahoochee Row NW Suite C\, Atlanta\, GA\, 30318\, United States
CATEGORIES:Culinary,Family-Friendly
ATTACH;FMTTYPE=image/jpeg:https://theworksatl.com/wp-content/uploads/2025/10/Chicheria-Brunch-Square.jpg
END:VEVENT
BEGIN:VEVENT
DTSTART;TZID=UTC:20281007T110000
DTEND;TZID=UTC:20281007T150000
DTSTAMP:20260422T145206
CREATED:20260419T212437Z
LAST-MODIFIED:20260419T212437Z
UID:10003965-1854529200-1854543600@theworksatl.com
SUMMARY:Unlimited Gourmet Taco Tasting Experience
DESCRIPTION:Chichería Mexican Kitchen now offers an Unlimited Gourmet Taco Tasting Experience each week. Available every Saturday from 11 a.m. to 3 p.m.\, the experience features a rotating selection of chef-crafted tacos served continuously at the table. Guests can enjoy a variety of flavors including Baja Fish\, Coconut Shrimp\, Carne Asada and more\, all prepared on handmade blue corn tortillas pressed fresh daily. The tasting also includes chips\, dips and refreshing agua frescas.
URL:https://theworksatl.com/event/unlimited-gourmet-taco-tasting-experience/2028-10-07/
LOCATION:Chicheria Mexican Kitchen\, 202 Chattahoochee Row NW Suite C\, Atlanta\, GA\, 30318\, United States
CATEGORIES:Culinary,Family-Friendly
ATTACH;FMTTYPE=image/png:https://theworksatl.com/wp-content/uploads/2026/04/Taco-Tasting-Experience.png
END:VEVENT
BEGIN:VEVENT
DTSTART;TZID=UTC:20281008T110000
DTEND;TZID=UTC:20281008T150000
DTSTAMP:20260422T145206
CREATED:20251007T202810Z
LAST-MODIFIED:20251007T203037Z
UID:10002573-1854615600-1854630000@theworksatl.com
SUMMARY:Live Jazz Mexican Brunch Buffet
DESCRIPTION:Every Sunday from 11 a.m. to 3 p.m. at Chicheria Mexican Kitchen\, we invite you to enjoy live jazz music and a full Mexican buffet featuring breakfast classics\, meats\, pastries\, soups\, breads\, coffee and agua frescas.
URL:https://theworksatl.com/event/23924/2028-10-08/
LOCATION:Chicheria Mexican Kitchen\, 202 Chattahoochee Row NW Suite C\, Atlanta\, GA\, 30318\, United States
CATEGORIES:Culinary,Family-Friendly
ATTACH;FMTTYPE=image/jpeg:https://theworksatl.com/wp-content/uploads/2025/10/Chicheria-Brunch-Square.jpg
END:VEVENT
BEGIN:VEVENT
DTSTART;TZID=UTC:20281014T110000
DTEND;TZID=UTC:20281014T150000
DTSTAMP:20260422T145206
CREATED:20260419T212437Z
LAST-MODIFIED:20260419T212437Z
UID:10003966-1855134000-1855148400@theworksatl.com
SUMMARY:Unlimited Gourmet Taco Tasting Experience
DESCRIPTION:Chichería Mexican Kitchen now offers an Unlimited Gourmet Taco Tasting Experience each week. Available every Saturday from 11 a.m. to 3 p.m.\, the experience features a rotating selection of chef-crafted tacos served continuously at the table. Guests can enjoy a variety of flavors including Baja Fish\, Coconut Shrimp\, Carne Asada and more\, all prepared on handmade blue corn tortillas pressed fresh daily. The tasting also includes chips\, dips and refreshing agua frescas.
URL:https://theworksatl.com/event/unlimited-gourmet-taco-tasting-experience/2028-10-14/
LOCATION:Chicheria Mexican Kitchen\, 202 Chattahoochee Row NW Suite C\, Atlanta\, GA\, 30318\, United States
CATEGORIES:Culinary,Family-Friendly
ATTACH;FMTTYPE=image/png:https://theworksatl.com/wp-content/uploads/2026/04/Taco-Tasting-Experience.png
END:VEVENT
BEGIN:VEVENT
DTSTART;TZID=UTC:20281015T110000
DTEND;TZID=UTC:20281015T150000
DTSTAMP:20260422T145206
CREATED:20251007T202810Z
LAST-MODIFIED:20251007T203037Z
UID:10002574-1855220400-1855234800@theworksatl.com
SUMMARY:Live Jazz Mexican Brunch Buffet
DESCRIPTION:Every Sunday from 11 a.m. to 3 p.m. at Chicheria Mexican Kitchen\, we invite you to enjoy live jazz music and a full Mexican buffet featuring breakfast classics\, meats\, pastries\, soups\, breads\, coffee and agua frescas.
URL:https://theworksatl.com/event/23924/2028-10-15/
LOCATION:Chicheria Mexican Kitchen\, 202 Chattahoochee Row NW Suite C\, Atlanta\, GA\, 30318\, United States
CATEGORIES:Culinary,Family-Friendly
ATTACH;FMTTYPE=image/jpeg:https://theworksatl.com/wp-content/uploads/2025/10/Chicheria-Brunch-Square.jpg
END:VEVENT
BEGIN:VEVENT
DTSTART;TZID=UTC:20281021T110000
DTEND;TZID=UTC:20281021T150000
DTSTAMP:20260422T145206
CREATED:20260419T212437Z
LAST-MODIFIED:20260419T212437Z
UID:10003967-1855738800-1855753200@theworksatl.com
SUMMARY:Unlimited Gourmet Taco Tasting Experience
DESCRIPTION:Chichería Mexican Kitchen now offers an Unlimited Gourmet Taco Tasting Experience each week. Available every Saturday from 11 a.m. to 3 p.m.\, the experience features a rotating selection of chef-crafted tacos served continuously at the table. Guests can enjoy a variety of flavors including Baja Fish\, Coconut Shrimp\, Carne Asada and more\, all prepared on handmade blue corn tortillas pressed fresh daily. The tasting also includes chips\, dips and refreshing agua frescas.
URL:https://theworksatl.com/event/unlimited-gourmet-taco-tasting-experience/2028-10-21/
LOCATION:Chicheria Mexican Kitchen\, 202 Chattahoochee Row NW Suite C\, Atlanta\, GA\, 30318\, United States
CATEGORIES:Culinary,Family-Friendly
ATTACH;FMTTYPE=image/png:https://theworksatl.com/wp-content/uploads/2026/04/Taco-Tasting-Experience.png
END:VEVENT
BEGIN:VEVENT
DTSTART;TZID=UTC:20281022T110000
DTEND;TZID=UTC:20281022T150000
DTSTAMP:20260422T145206
CREATED:20251007T202810Z
LAST-MODIFIED:20251007T203037Z
UID:10002575-1855825200-1855839600@theworksatl.com
SUMMARY:Live Jazz Mexican Brunch Buffet
DESCRIPTION:Every Sunday from 11 a.m. to 3 p.m. at Chicheria Mexican Kitchen\, we invite you to enjoy live jazz music and a full Mexican buffet featuring breakfast classics\, meats\, pastries\, soups\, breads\, coffee and agua frescas.
URL:https://theworksatl.com/event/23924/2028-10-22/
LOCATION:Chicheria Mexican Kitchen\, 202 Chattahoochee Row NW Suite C\, Atlanta\, GA\, 30318\, United States
CATEGORIES:Culinary,Family-Friendly
ATTACH;FMTTYPE=image/jpeg:https://theworksatl.com/wp-content/uploads/2025/10/Chicheria-Brunch-Square.jpg
END:VEVENT
BEGIN:VEVENT
DTSTART;TZID=UTC:20281028T110000
DTEND;TZID=UTC:20281028T150000
DTSTAMP:20260422T145206
CREATED:20260419T212437Z
LAST-MODIFIED:20260419T212437Z
UID:10003968-1856343600-1856358000@theworksatl.com
SUMMARY:Unlimited Gourmet Taco Tasting Experience
DESCRIPTION:Chichería Mexican Kitchen now offers an Unlimited Gourmet Taco Tasting Experience each week. Available every Saturday from 11 a.m. to 3 p.m.\, the experience features a rotating selection of chef-crafted tacos served continuously at the table. Guests can enjoy a variety of flavors including Baja Fish\, Coconut Shrimp\, Carne Asada and more\, all prepared on handmade blue corn tortillas pressed fresh daily. The tasting also includes chips\, dips and refreshing agua frescas.
URL:https://theworksatl.com/event/unlimited-gourmet-taco-tasting-experience/2028-10-28/
LOCATION:Chicheria Mexican Kitchen\, 202 Chattahoochee Row NW Suite C\, Atlanta\, GA\, 30318\, United States
CATEGORIES:Culinary,Family-Friendly
ATTACH;FMTTYPE=image/png:https://theworksatl.com/wp-content/uploads/2026/04/Taco-Tasting-Experience.png
END:VEVENT
END:VCALENDAR