BEGIN:VCALENDAR
VERSION:2.0
PRODID:-//The Works - ECPv6.15.20//NONSGML v1.0//EN
CALSCALE:GREGORIAN
METHOD:PUBLISH
X-WR-CALNAME:The Works
X-ORIGINAL-URL:https://theworksatl.com
X-WR-CALDESC:Events for The Works
REFRESH-INTERVAL;VALUE=DURATION:PT1H
X-Robots-Tag:noindex
X-PUBLISHED-TTL:PT1H
BEGIN:VTIMEZONE
TZID:UTC
BEGIN:STANDARD
TZOFFSETFROM:+0000
TZOFFSETTO:+0000
TZNAME:UTC
DTSTART:20250101T000000
END:STANDARD
END:VTIMEZONE
BEGIN:VEVENT
DTSTART;TZID=UTC:20260419T110000
DTEND;TZID=UTC:20260419T150000
DTSTAMP:20260419T145855
CREATED:20251007T202810Z
LAST-MODIFIED:20251007T203037Z
UID:10002444-1776596400-1776610800@theworksatl.com
SUMMARY:Live Jazz Mexican Brunch Buffet
DESCRIPTION:Every Sunday from 11 a.m. to 3 p.m. at Chicheria Mexican Kitchen\, we invite you to enjoy live jazz music and a full Mexican buffet featuring breakfast classics\, meats\, pastries\, soups\, breads\, coffee and agua frescas.
URL:https://theworksatl.com/event/23924/2026-04-19/
LOCATION:Chicheria Mexican Kitchen\, 202 Chattahoochee Row NW Suite C\, Atlanta\, GA\, 30318\, United States
CATEGORIES:Culinary,Family-Friendly
ATTACH;FMTTYPE=image/jpeg:https://theworksatl.com/wp-content/uploads/2025/10/Chicheria-Brunch-Square.jpg
END:VEVENT
BEGIN:VEVENT
DTSTART;TZID=UTC:20260426T110000
DTEND;TZID=UTC:20260426T150000
DTSTAMP:20260419T145855
CREATED:20251007T202810Z
LAST-MODIFIED:20251007T203037Z
UID:10002445-1777201200-1777215600@theworksatl.com
SUMMARY:Live Jazz Mexican Brunch Buffet
DESCRIPTION:Every Sunday from 11 a.m. to 3 p.m. at Chicheria Mexican Kitchen\, we invite you to enjoy live jazz music and a full Mexican buffet featuring breakfast classics\, meats\, pastries\, soups\, breads\, coffee and agua frescas.
URL:https://theworksatl.com/event/23924/2026-04-26/
LOCATION:Chicheria Mexican Kitchen\, 202 Chattahoochee Row NW Suite C\, Atlanta\, GA\, 30318\, United States
CATEGORIES:Culinary,Family-Friendly
ATTACH;FMTTYPE=image/jpeg:https://theworksatl.com/wp-content/uploads/2025/10/Chicheria-Brunch-Square.jpg
END:VEVENT
BEGIN:VEVENT
DTSTART;TZID=UTC:20260503T110000
DTEND;TZID=UTC:20260503T150000
DTSTAMP:20260419T145855
CREATED:20251007T202810Z
LAST-MODIFIED:20251007T203037Z
UID:10002446-1777806000-1777820400@theworksatl.com
SUMMARY:Live Jazz Mexican Brunch Buffet
DESCRIPTION:Every Sunday from 11 a.m. to 3 p.m. at Chicheria Mexican Kitchen\, we invite you to enjoy live jazz music and a full Mexican buffet featuring breakfast classics\, meats\, pastries\, soups\, breads\, coffee and agua frescas.
URL:https://theworksatl.com/event/23924/2026-05-03/
LOCATION:Chicheria Mexican Kitchen\, 202 Chattahoochee Row NW Suite C\, Atlanta\, GA\, 30318\, United States
CATEGORIES:Culinary,Family-Friendly
ATTACH;FMTTYPE=image/jpeg:https://theworksatl.com/wp-content/uploads/2025/10/Chicheria-Brunch-Square.jpg
END:VEVENT
BEGIN:VEVENT
DTSTART;TZID=UTC:20260510T110000
DTEND;TZID=UTC:20260510T150000
DTSTAMP:20260419T145855
CREATED:20251007T202810Z
LAST-MODIFIED:20251007T203037Z
UID:10002447-1778410800-1778425200@theworksatl.com
SUMMARY:Live Jazz Mexican Brunch Buffet
DESCRIPTION:Every Sunday from 11 a.m. to 3 p.m. at Chicheria Mexican Kitchen\, we invite you to enjoy live jazz music and a full Mexican buffet featuring breakfast classics\, meats\, pastries\, soups\, breads\, coffee and agua frescas.
URL:https://theworksatl.com/event/23924/2026-05-10/
LOCATION:Chicheria Mexican Kitchen\, 202 Chattahoochee Row NW Suite C\, Atlanta\, GA\, 30318\, United States
CATEGORIES:Culinary,Family-Friendly
ATTACH;FMTTYPE=image/jpeg:https://theworksatl.com/wp-content/uploads/2025/10/Chicheria-Brunch-Square.jpg
END:VEVENT
BEGIN:VEVENT
DTSTART;TZID=UTC:20260517T110000
DTEND;TZID=UTC:20260517T150000
DTSTAMP:20260419T145855
CREATED:20251007T202810Z
LAST-MODIFIED:20251007T203037Z
UID:10002448-1779015600-1779030000@theworksatl.com
SUMMARY:Live Jazz Mexican Brunch Buffet
DESCRIPTION:Every Sunday from 11 a.m. to 3 p.m. at Chicheria Mexican Kitchen\, we invite you to enjoy live jazz music and a full Mexican buffet featuring breakfast classics\, meats\, pastries\, soups\, breads\, coffee and agua frescas.
URL:https://theworksatl.com/event/23924/2026-05-17/
LOCATION:Chicheria Mexican Kitchen\, 202 Chattahoochee Row NW Suite C\, Atlanta\, GA\, 30318\, United States
CATEGORIES:Culinary,Family-Friendly
ATTACH;FMTTYPE=image/jpeg:https://theworksatl.com/wp-content/uploads/2025/10/Chicheria-Brunch-Square.jpg
END:VEVENT
BEGIN:VEVENT
DTSTART;TZID=UTC:20260524T110000
DTEND;TZID=UTC:20260524T150000
DTSTAMP:20260419T145855
CREATED:20251007T202810Z
LAST-MODIFIED:20251007T203037Z
UID:10002449-1779620400-1779634800@theworksatl.com
SUMMARY:Live Jazz Mexican Brunch Buffet
DESCRIPTION:Every Sunday from 11 a.m. to 3 p.m. at Chicheria Mexican Kitchen\, we invite you to enjoy live jazz music and a full Mexican buffet featuring breakfast classics\, meats\, pastries\, soups\, breads\, coffee and agua frescas.
URL:https://theworksatl.com/event/23924/2026-05-24/
LOCATION:Chicheria Mexican Kitchen\, 202 Chattahoochee Row NW Suite C\, Atlanta\, GA\, 30318\, United States
CATEGORIES:Culinary,Family-Friendly
ATTACH;FMTTYPE=image/jpeg:https://theworksatl.com/wp-content/uploads/2025/10/Chicheria-Brunch-Square.jpg
END:VEVENT
BEGIN:VEVENT
DTSTART;TZID=UTC:20260531T110000
DTEND;TZID=UTC:20260531T150000
DTSTAMP:20260419T145855
CREATED:20251007T202810Z
LAST-MODIFIED:20251007T203037Z
UID:10002450-1780225200-1780239600@theworksatl.com
SUMMARY:Live Jazz Mexican Brunch Buffet
DESCRIPTION:Every Sunday from 11 a.m. to 3 p.m. at Chicheria Mexican Kitchen\, we invite you to enjoy live jazz music and a full Mexican buffet featuring breakfast classics\, meats\, pastries\, soups\, breads\, coffee and agua frescas.
URL:https://theworksatl.com/event/23924/2026-05-31/
LOCATION:Chicheria Mexican Kitchen\, 202 Chattahoochee Row NW Suite C\, Atlanta\, GA\, 30318\, United States
CATEGORIES:Culinary,Family-Friendly
ATTACH;FMTTYPE=image/jpeg:https://theworksatl.com/wp-content/uploads/2025/10/Chicheria-Brunch-Square.jpg
END:VEVENT
BEGIN:VEVENT
DTSTART;TZID=UTC:20260607T110000
DTEND;TZID=UTC:20260607T150000
DTSTAMP:20260419T145855
CREATED:20251007T202810Z
LAST-MODIFIED:20251007T203037Z
UID:10002451-1780830000-1780844400@theworksatl.com
SUMMARY:Live Jazz Mexican Brunch Buffet
DESCRIPTION:Every Sunday from 11 a.m. to 3 p.m. at Chicheria Mexican Kitchen\, we invite you to enjoy live jazz music and a full Mexican buffet featuring breakfast classics\, meats\, pastries\, soups\, breads\, coffee and agua frescas.
URL:https://theworksatl.com/event/23924/2026-06-07/
LOCATION:Chicheria Mexican Kitchen\, 202 Chattahoochee Row NW Suite C\, Atlanta\, GA\, 30318\, United States
CATEGORIES:Culinary,Family-Friendly
ATTACH;FMTTYPE=image/jpeg:https://theworksatl.com/wp-content/uploads/2025/10/Chicheria-Brunch-Square.jpg
END:VEVENT
BEGIN:VEVENT
DTSTART;TZID=UTC:20260614T110000
DTEND;TZID=UTC:20260614T150000
DTSTAMP:20260419T145855
CREATED:20251007T202810Z
LAST-MODIFIED:20251007T203037Z
UID:10002452-1781434800-1781449200@theworksatl.com
SUMMARY:Live Jazz Mexican Brunch Buffet
DESCRIPTION:Every Sunday from 11 a.m. to 3 p.m. at Chicheria Mexican Kitchen\, we invite you to enjoy live jazz music and a full Mexican buffet featuring breakfast classics\, meats\, pastries\, soups\, breads\, coffee and agua frescas.
URL:https://theworksatl.com/event/23924/2026-06-14/
LOCATION:Chicheria Mexican Kitchen\, 202 Chattahoochee Row NW Suite C\, Atlanta\, GA\, 30318\, United States
CATEGORIES:Culinary,Family-Friendly
ATTACH;FMTTYPE=image/jpeg:https://theworksatl.com/wp-content/uploads/2025/10/Chicheria-Brunch-Square.jpg
END:VEVENT
BEGIN:VEVENT
DTSTART;TZID=UTC:20260621T110000
DTEND;TZID=UTC:20260621T150000
DTSTAMP:20260419T145855
CREATED:20251007T202810Z
LAST-MODIFIED:20251007T203037Z
UID:10002453-1782039600-1782054000@theworksatl.com
SUMMARY:Live Jazz Mexican Brunch Buffet
DESCRIPTION:Every Sunday from 11 a.m. to 3 p.m. at Chicheria Mexican Kitchen\, we invite you to enjoy live jazz music and a full Mexican buffet featuring breakfast classics\, meats\, pastries\, soups\, breads\, coffee and agua frescas.
URL:https://theworksatl.com/event/23924/2026-06-21/
LOCATION:Chicheria Mexican Kitchen\, 202 Chattahoochee Row NW Suite C\, Atlanta\, GA\, 30318\, United States
CATEGORIES:Culinary,Family-Friendly
ATTACH;FMTTYPE=image/jpeg:https://theworksatl.com/wp-content/uploads/2025/10/Chicheria-Brunch-Square.jpg
END:VEVENT
BEGIN:VEVENT
DTSTART;TZID=UTC:20260628T110000
DTEND;TZID=UTC:20260628T150000
DTSTAMP:20260419T145855
CREATED:20251007T202810Z
LAST-MODIFIED:20251007T203037Z
UID:10002454-1782644400-1782658800@theworksatl.com
SUMMARY:Live Jazz Mexican Brunch Buffet
DESCRIPTION:Every Sunday from 11 a.m. to 3 p.m. at Chicheria Mexican Kitchen\, we invite you to enjoy live jazz music and a full Mexican buffet featuring breakfast classics\, meats\, pastries\, soups\, breads\, coffee and agua frescas.
URL:https://theworksatl.com/event/23924/2026-06-28/
LOCATION:Chicheria Mexican Kitchen\, 202 Chattahoochee Row NW Suite C\, Atlanta\, GA\, 30318\, United States
CATEGORIES:Culinary,Family-Friendly
ATTACH;FMTTYPE=image/jpeg:https://theworksatl.com/wp-content/uploads/2025/10/Chicheria-Brunch-Square.jpg
END:VEVENT
BEGIN:VEVENT
DTSTART;TZID=UTC:20260705T110000
DTEND;TZID=UTC:20260705T150000
DTSTAMP:20260419T145855
CREATED:20251007T202810Z
LAST-MODIFIED:20251007T203037Z
UID:10002455-1783249200-1783263600@theworksatl.com
SUMMARY:Live Jazz Mexican Brunch Buffet
DESCRIPTION:Every Sunday from 11 a.m. to 3 p.m. at Chicheria Mexican Kitchen\, we invite you to enjoy live jazz music and a full Mexican buffet featuring breakfast classics\, meats\, pastries\, soups\, breads\, coffee and agua frescas.
URL:https://theworksatl.com/event/23924/2026-07-05/
LOCATION:Chicheria Mexican Kitchen\, 202 Chattahoochee Row NW Suite C\, Atlanta\, GA\, 30318\, United States
CATEGORIES:Culinary,Family-Friendly
ATTACH;FMTTYPE=image/jpeg:https://theworksatl.com/wp-content/uploads/2025/10/Chicheria-Brunch-Square.jpg
END:VEVENT
BEGIN:VEVENT
DTSTART;TZID=UTC:20260712T110000
DTEND;TZID=UTC:20260712T150000
DTSTAMP:20260419T145855
CREATED:20251007T202810Z
LAST-MODIFIED:20251007T203037Z
UID:10002456-1783854000-1783868400@theworksatl.com
SUMMARY:Live Jazz Mexican Brunch Buffet
DESCRIPTION:Every Sunday from 11 a.m. to 3 p.m. at Chicheria Mexican Kitchen\, we invite you to enjoy live jazz music and a full Mexican buffet featuring breakfast classics\, meats\, pastries\, soups\, breads\, coffee and agua frescas.
URL:https://theworksatl.com/event/23924/2026-07-12/
LOCATION:Chicheria Mexican Kitchen\, 202 Chattahoochee Row NW Suite C\, Atlanta\, GA\, 30318\, United States
CATEGORIES:Culinary,Family-Friendly
ATTACH;FMTTYPE=image/jpeg:https://theworksatl.com/wp-content/uploads/2025/10/Chicheria-Brunch-Square.jpg
END:VEVENT
BEGIN:VEVENT
DTSTART;TZID=UTC:20260719T110000
DTEND;TZID=UTC:20260719T150000
DTSTAMP:20260419T145855
CREATED:20251007T202810Z
LAST-MODIFIED:20251007T203037Z
UID:10002457-1784458800-1784473200@theworksatl.com
SUMMARY:Live Jazz Mexican Brunch Buffet
DESCRIPTION:Every Sunday from 11 a.m. to 3 p.m. at Chicheria Mexican Kitchen\, we invite you to enjoy live jazz music and a full Mexican buffet featuring breakfast classics\, meats\, pastries\, soups\, breads\, coffee and agua frescas.
URL:https://theworksatl.com/event/23924/2026-07-19/
LOCATION:Chicheria Mexican Kitchen\, 202 Chattahoochee Row NW Suite C\, Atlanta\, GA\, 30318\, United States
CATEGORIES:Culinary,Family-Friendly
ATTACH;FMTTYPE=image/jpeg:https://theworksatl.com/wp-content/uploads/2025/10/Chicheria-Brunch-Square.jpg
END:VEVENT
BEGIN:VEVENT
DTSTART;TZID=UTC:20260726T110000
DTEND;TZID=UTC:20260726T150000
DTSTAMP:20260419T145855
CREATED:20251007T202810Z
LAST-MODIFIED:20251007T203037Z
UID:10002458-1785063600-1785078000@theworksatl.com
SUMMARY:Live Jazz Mexican Brunch Buffet
DESCRIPTION:Every Sunday from 11 a.m. to 3 p.m. at Chicheria Mexican Kitchen\, we invite you to enjoy live jazz music and a full Mexican buffet featuring breakfast classics\, meats\, pastries\, soups\, breads\, coffee and agua frescas.
URL:https://theworksatl.com/event/23924/2026-07-26/
LOCATION:Chicheria Mexican Kitchen\, 202 Chattahoochee Row NW Suite C\, Atlanta\, GA\, 30318\, United States
CATEGORIES:Culinary,Family-Friendly
ATTACH;FMTTYPE=image/jpeg:https://theworksatl.com/wp-content/uploads/2025/10/Chicheria-Brunch-Square.jpg
END:VEVENT
BEGIN:VEVENT
DTSTART;TZID=UTC:20260802T110000
DTEND;TZID=UTC:20260802T150000
DTSTAMP:20260419T145855
CREATED:20251007T202810Z
LAST-MODIFIED:20251007T203037Z
UID:10002459-1785668400-1785682800@theworksatl.com
SUMMARY:Live Jazz Mexican Brunch Buffet
DESCRIPTION:Every Sunday from 11 a.m. to 3 p.m. at Chicheria Mexican Kitchen\, we invite you to enjoy live jazz music and a full Mexican buffet featuring breakfast classics\, meats\, pastries\, soups\, breads\, coffee and agua frescas.
URL:https://theworksatl.com/event/23924/2026-08-02/
LOCATION:Chicheria Mexican Kitchen\, 202 Chattahoochee Row NW Suite C\, Atlanta\, GA\, 30318\, United States
CATEGORIES:Culinary,Family-Friendly
ATTACH;FMTTYPE=image/jpeg:https://theworksatl.com/wp-content/uploads/2025/10/Chicheria-Brunch-Square.jpg
END:VEVENT
BEGIN:VEVENT
DTSTART;TZID=UTC:20260809T110000
DTEND;TZID=UTC:20260809T150000
DTSTAMP:20260419T145855
CREATED:20251007T202810Z
LAST-MODIFIED:20251007T203037Z
UID:10002460-1786273200-1786287600@theworksatl.com
SUMMARY:Live Jazz Mexican Brunch Buffet
DESCRIPTION:Every Sunday from 11 a.m. to 3 p.m. at Chicheria Mexican Kitchen\, we invite you to enjoy live jazz music and a full Mexican buffet featuring breakfast classics\, meats\, pastries\, soups\, breads\, coffee and agua frescas.
URL:https://theworksatl.com/event/23924/2026-08-09/
LOCATION:Chicheria Mexican Kitchen\, 202 Chattahoochee Row NW Suite C\, Atlanta\, GA\, 30318\, United States
CATEGORIES:Culinary,Family-Friendly
ATTACH;FMTTYPE=image/jpeg:https://theworksatl.com/wp-content/uploads/2025/10/Chicheria-Brunch-Square.jpg
END:VEVENT
BEGIN:VEVENT
DTSTART;TZID=UTC:20260816T110000
DTEND;TZID=UTC:20260816T150000
DTSTAMP:20260419T145855
CREATED:20251007T202810Z
LAST-MODIFIED:20251007T203037Z
UID:10002461-1786878000-1786892400@theworksatl.com
SUMMARY:Live Jazz Mexican Brunch Buffet
DESCRIPTION:Every Sunday from 11 a.m. to 3 p.m. at Chicheria Mexican Kitchen\, we invite you to enjoy live jazz music and a full Mexican buffet featuring breakfast classics\, meats\, pastries\, soups\, breads\, coffee and agua frescas.
URL:https://theworksatl.com/event/23924/2026-08-16/
LOCATION:Chicheria Mexican Kitchen\, 202 Chattahoochee Row NW Suite C\, Atlanta\, GA\, 30318\, United States
CATEGORIES:Culinary,Family-Friendly
ATTACH;FMTTYPE=image/jpeg:https://theworksatl.com/wp-content/uploads/2025/10/Chicheria-Brunch-Square.jpg
END:VEVENT
BEGIN:VEVENT
DTSTART;TZID=UTC:20260823T110000
DTEND;TZID=UTC:20260823T150000
DTSTAMP:20260419T145855
CREATED:20251007T202810Z
LAST-MODIFIED:20251007T203037Z
UID:10002462-1787482800-1787497200@theworksatl.com
SUMMARY:Live Jazz Mexican Brunch Buffet
DESCRIPTION:Every Sunday from 11 a.m. to 3 p.m. at Chicheria Mexican Kitchen\, we invite you to enjoy live jazz music and a full Mexican buffet featuring breakfast classics\, meats\, pastries\, soups\, breads\, coffee and agua frescas.
URL:https://theworksatl.com/event/23924/2026-08-23/
LOCATION:Chicheria Mexican Kitchen\, 202 Chattahoochee Row NW Suite C\, Atlanta\, GA\, 30318\, United States
CATEGORIES:Culinary,Family-Friendly
ATTACH;FMTTYPE=image/jpeg:https://theworksatl.com/wp-content/uploads/2025/10/Chicheria-Brunch-Square.jpg
END:VEVENT
BEGIN:VEVENT
DTSTART;TZID=UTC:20260830T110000
DTEND;TZID=UTC:20260830T150000
DTSTAMP:20260419T145855
CREATED:20251007T202810Z
LAST-MODIFIED:20251007T203037Z
UID:10002463-1788087600-1788102000@theworksatl.com
SUMMARY:Live Jazz Mexican Brunch Buffet
DESCRIPTION:Every Sunday from 11 a.m. to 3 p.m. at Chicheria Mexican Kitchen\, we invite you to enjoy live jazz music and a full Mexican buffet featuring breakfast classics\, meats\, pastries\, soups\, breads\, coffee and agua frescas.
URL:https://theworksatl.com/event/23924/2026-08-30/
LOCATION:Chicheria Mexican Kitchen\, 202 Chattahoochee Row NW Suite C\, Atlanta\, GA\, 30318\, United States
CATEGORIES:Culinary,Family-Friendly
ATTACH;FMTTYPE=image/jpeg:https://theworksatl.com/wp-content/uploads/2025/10/Chicheria-Brunch-Square.jpg
END:VEVENT
BEGIN:VEVENT
DTSTART;TZID=UTC:20260906T110000
DTEND;TZID=UTC:20260906T150000
DTSTAMP:20260419T145855
CREATED:20251007T202810Z
LAST-MODIFIED:20251007T203037Z
UID:10002464-1788692400-1788706800@theworksatl.com
SUMMARY:Live Jazz Mexican Brunch Buffet
DESCRIPTION:Every Sunday from 11 a.m. to 3 p.m. at Chicheria Mexican Kitchen\, we invite you to enjoy live jazz music and a full Mexican buffet featuring breakfast classics\, meats\, pastries\, soups\, breads\, coffee and agua frescas.
URL:https://theworksatl.com/event/23924/2026-09-06/
LOCATION:Chicheria Mexican Kitchen\, 202 Chattahoochee Row NW Suite C\, Atlanta\, GA\, 30318\, United States
CATEGORIES:Culinary,Family-Friendly
ATTACH;FMTTYPE=image/jpeg:https://theworksatl.com/wp-content/uploads/2025/10/Chicheria-Brunch-Square.jpg
END:VEVENT
BEGIN:VEVENT
DTSTART;TZID=UTC:20260913T110000
DTEND;TZID=UTC:20260913T150000
DTSTAMP:20260419T145855
CREATED:20251007T202810Z
LAST-MODIFIED:20251007T203037Z
UID:10002465-1789297200-1789311600@theworksatl.com
SUMMARY:Live Jazz Mexican Brunch Buffet
DESCRIPTION:Every Sunday from 11 a.m. to 3 p.m. at Chicheria Mexican Kitchen\, we invite you to enjoy live jazz music and a full Mexican buffet featuring breakfast classics\, meats\, pastries\, soups\, breads\, coffee and agua frescas.
URL:https://theworksatl.com/event/23924/2026-09-13/
LOCATION:Chicheria Mexican Kitchen\, 202 Chattahoochee Row NW Suite C\, Atlanta\, GA\, 30318\, United States
CATEGORIES:Culinary,Family-Friendly
ATTACH;FMTTYPE=image/jpeg:https://theworksatl.com/wp-content/uploads/2025/10/Chicheria-Brunch-Square.jpg
END:VEVENT
BEGIN:VEVENT
DTSTART;TZID=UTC:20260920T110000
DTEND;TZID=UTC:20260920T150000
DTSTAMP:20260419T145855
CREATED:20251007T202810Z
LAST-MODIFIED:20251007T203037Z
UID:10002466-1789902000-1789916400@theworksatl.com
SUMMARY:Live Jazz Mexican Brunch Buffet
DESCRIPTION:Every Sunday from 11 a.m. to 3 p.m. at Chicheria Mexican Kitchen\, we invite you to enjoy live jazz music and a full Mexican buffet featuring breakfast classics\, meats\, pastries\, soups\, breads\, coffee and agua frescas.
URL:https://theworksatl.com/event/23924/2026-09-20/
LOCATION:Chicheria Mexican Kitchen\, 202 Chattahoochee Row NW Suite C\, Atlanta\, GA\, 30318\, United States
CATEGORIES:Culinary,Family-Friendly
ATTACH;FMTTYPE=image/jpeg:https://theworksatl.com/wp-content/uploads/2025/10/Chicheria-Brunch-Square.jpg
END:VEVENT
BEGIN:VEVENT
DTSTART;TZID=UTC:20260927T110000
DTEND;TZID=UTC:20260927T150000
DTSTAMP:20260419T145855
CREATED:20251007T202810Z
LAST-MODIFIED:20251007T203037Z
UID:10002467-1790506800-1790521200@theworksatl.com
SUMMARY:Live Jazz Mexican Brunch Buffet
DESCRIPTION:Every Sunday from 11 a.m. to 3 p.m. at Chicheria Mexican Kitchen\, we invite you to enjoy live jazz music and a full Mexican buffet featuring breakfast classics\, meats\, pastries\, soups\, breads\, coffee and agua frescas.
URL:https://theworksatl.com/event/23924/2026-09-27/
LOCATION:Chicheria Mexican Kitchen\, 202 Chattahoochee Row NW Suite C\, Atlanta\, GA\, 30318\, United States
CATEGORIES:Culinary,Family-Friendly
ATTACH;FMTTYPE=image/jpeg:https://theworksatl.com/wp-content/uploads/2025/10/Chicheria-Brunch-Square.jpg
END:VEVENT
BEGIN:VEVENT
DTSTART;TZID=UTC:20261004T110000
DTEND;TZID=UTC:20261004T150000
DTSTAMP:20260419T145855
CREATED:20251007T202810Z
LAST-MODIFIED:20251007T203037Z
UID:10002468-1791111600-1791126000@theworksatl.com
SUMMARY:Live Jazz Mexican Brunch Buffet
DESCRIPTION:Every Sunday from 11 a.m. to 3 p.m. at Chicheria Mexican Kitchen\, we invite you to enjoy live jazz music and a full Mexican buffet featuring breakfast classics\, meats\, pastries\, soups\, breads\, coffee and agua frescas.
URL:https://theworksatl.com/event/23924/2026-10-04/
LOCATION:Chicheria Mexican Kitchen\, 202 Chattahoochee Row NW Suite C\, Atlanta\, GA\, 30318\, United States
CATEGORIES:Culinary,Family-Friendly
ATTACH;FMTTYPE=image/jpeg:https://theworksatl.com/wp-content/uploads/2025/10/Chicheria-Brunch-Square.jpg
END:VEVENT
BEGIN:VEVENT
DTSTART;TZID=UTC:20261011T110000
DTEND;TZID=UTC:20261011T150000
DTSTAMP:20260419T145855
CREATED:20251007T202810Z
LAST-MODIFIED:20251007T203037Z
UID:10002469-1791716400-1791730800@theworksatl.com
SUMMARY:Live Jazz Mexican Brunch Buffet
DESCRIPTION:Every Sunday from 11 a.m. to 3 p.m. at Chicheria Mexican Kitchen\, we invite you to enjoy live jazz music and a full Mexican buffet featuring breakfast classics\, meats\, pastries\, soups\, breads\, coffee and agua frescas.
URL:https://theworksatl.com/event/23924/2026-10-11/
LOCATION:Chicheria Mexican Kitchen\, 202 Chattahoochee Row NW Suite C\, Atlanta\, GA\, 30318\, United States
CATEGORIES:Culinary,Family-Friendly
ATTACH;FMTTYPE=image/jpeg:https://theworksatl.com/wp-content/uploads/2025/10/Chicheria-Brunch-Square.jpg
END:VEVENT
BEGIN:VEVENT
DTSTART;TZID=UTC:20261018T110000
DTEND;TZID=UTC:20261018T150000
DTSTAMP:20260419T145855
CREATED:20251007T202810Z
LAST-MODIFIED:20251007T203037Z
UID:10002470-1792321200-1792335600@theworksatl.com
SUMMARY:Live Jazz Mexican Brunch Buffet
DESCRIPTION:Every Sunday from 11 a.m. to 3 p.m. at Chicheria Mexican Kitchen\, we invite you to enjoy live jazz music and a full Mexican buffet featuring breakfast classics\, meats\, pastries\, soups\, breads\, coffee and agua frescas.
URL:https://theworksatl.com/event/23924/2026-10-18/
LOCATION:Chicheria Mexican Kitchen\, 202 Chattahoochee Row NW Suite C\, Atlanta\, GA\, 30318\, United States
CATEGORIES:Culinary,Family-Friendly
ATTACH;FMTTYPE=image/jpeg:https://theworksatl.com/wp-content/uploads/2025/10/Chicheria-Brunch-Square.jpg
END:VEVENT
BEGIN:VEVENT
DTSTART;TZID=UTC:20261025T110000
DTEND;TZID=UTC:20261025T150000
DTSTAMP:20260419T145855
CREATED:20251007T202810Z
LAST-MODIFIED:20251007T203037Z
UID:10002471-1792926000-1792940400@theworksatl.com
SUMMARY:Live Jazz Mexican Brunch Buffet
DESCRIPTION:Every Sunday from 11 a.m. to 3 p.m. at Chicheria Mexican Kitchen\, we invite you to enjoy live jazz music and a full Mexican buffet featuring breakfast classics\, meats\, pastries\, soups\, breads\, coffee and agua frescas.
URL:https://theworksatl.com/event/23924/2026-10-25/
LOCATION:Chicheria Mexican Kitchen\, 202 Chattahoochee Row NW Suite C\, Atlanta\, GA\, 30318\, United States
CATEGORIES:Culinary,Family-Friendly
ATTACH;FMTTYPE=image/jpeg:https://theworksatl.com/wp-content/uploads/2025/10/Chicheria-Brunch-Square.jpg
END:VEVENT
BEGIN:VEVENT
DTSTART;TZID=UTC:20261101T110000
DTEND;TZID=UTC:20261101T150000
DTSTAMP:20260419T145855
CREATED:20251007T202810Z
LAST-MODIFIED:20251007T203037Z
UID:10002472-1793530800-1793545200@theworksatl.com
SUMMARY:Live Jazz Mexican Brunch Buffet
DESCRIPTION:Every Sunday from 11 a.m. to 3 p.m. at Chicheria Mexican Kitchen\, we invite you to enjoy live jazz music and a full Mexican buffet featuring breakfast classics\, meats\, pastries\, soups\, breads\, coffee and agua frescas.
URL:https://theworksatl.com/event/23924/2026-11-01/
LOCATION:Chicheria Mexican Kitchen\, 202 Chattahoochee Row NW Suite C\, Atlanta\, GA\, 30318\, United States
CATEGORIES:Culinary,Family-Friendly
ATTACH;FMTTYPE=image/jpeg:https://theworksatl.com/wp-content/uploads/2025/10/Chicheria-Brunch-Square.jpg
END:VEVENT
BEGIN:VEVENT
DTSTART;TZID=UTC:20261108T110000
DTEND;TZID=UTC:20261108T150000
DTSTAMP:20260419T145855
CREATED:20251007T202810Z
LAST-MODIFIED:20251007T203037Z
UID:10002473-1794135600-1794150000@theworksatl.com
SUMMARY:Live Jazz Mexican Brunch Buffet
DESCRIPTION:Every Sunday from 11 a.m. to 3 p.m. at Chicheria Mexican Kitchen\, we invite you to enjoy live jazz music and a full Mexican buffet featuring breakfast classics\, meats\, pastries\, soups\, breads\, coffee and agua frescas.
URL:https://theworksatl.com/event/23924/2026-11-08/
LOCATION:Chicheria Mexican Kitchen\, 202 Chattahoochee Row NW Suite C\, Atlanta\, GA\, 30318\, United States
CATEGORIES:Culinary,Family-Friendly
ATTACH;FMTTYPE=image/jpeg:https://theworksatl.com/wp-content/uploads/2025/10/Chicheria-Brunch-Square.jpg
END:VEVENT
END:VCALENDAR