BEGIN:VCALENDAR
VERSION:2.0
PRODID:-//The Works - ECPv6.15.20//NONSGML v1.0//EN
CALSCALE:GREGORIAN
METHOD:PUBLISH
X-ORIGINAL-URL:https://theworksatl.com
X-WR-CALDESC:Events for The Works
REFRESH-INTERVAL;VALUE=DURATION:PT1H
X-Robots-Tag:noindex
X-PUBLISHED-TTL:PT1H
BEGIN:VTIMEZONE
TZID:UTC
BEGIN:STANDARD
TZOFFSETFROM:+0000
TZOFFSETTO:+0000
TZNAME:UTC
DTSTART:20240101T000000
END:STANDARD
END:VTIMEZONE
BEGIN:VEVENT
DTSTART;TZID=UTC:20260419T110000
DTEND;TZID=UTC:20260419T150000
DTSTAMP:20260421T181129
CREATED:20251007T202810Z
LAST-MODIFIED:20251007T203037Z
UID:10002444-1776596400-1776610800@theworksatl.com
SUMMARY:Live Jazz Mexican Brunch Buffet
DESCRIPTION:Every Sunday from 11 a.m. to 3 p.m. at Chicheria Mexican Kitchen\, we invite you to enjoy live jazz music and a full Mexican buffet featuring breakfast classics\, meats\, pastries\, soups\, breads\, coffee and agua frescas.
URL:https://theworksatl.com/event/23924/2026-04-19/
LOCATION:Chicheria Mexican Kitchen\, 202 Chattahoochee Row NW Suite C\, Atlanta\, GA\, 30318\, United States
CATEGORIES:Culinary,Family-Friendly
ATTACH;FMTTYPE=image/jpeg:https://theworksatl.com/wp-content/uploads/2025/10/Chicheria-Brunch-Square.jpg
END:VEVENT
BEGIN:VEVENT
DTSTART;TZID=UTC:20260412T110000
DTEND;TZID=UTC:20260412T150000
DTSTAMP:20260421T181129
CREATED:20251007T202810Z
LAST-MODIFIED:20251007T203037Z
UID:10002443-1775991600-1776006000@theworksatl.com
SUMMARY:Live Jazz Mexican Brunch Buffet
DESCRIPTION:Every Sunday from 11 a.m. to 3 p.m. at Chicheria Mexican Kitchen\, we invite you to enjoy live jazz music and a full Mexican buffet featuring breakfast classics\, meats\, pastries\, soups\, breads\, coffee and agua frescas.
URL:https://theworksatl.com/event/23924/2026-04-12/
LOCATION:Chicheria Mexican Kitchen\, 202 Chattahoochee Row NW Suite C\, Atlanta\, GA\, 30318\, United States
CATEGORIES:Culinary,Family-Friendly
ATTACH;FMTTYPE=image/jpeg:https://theworksatl.com/wp-content/uploads/2025/10/Chicheria-Brunch-Square.jpg
END:VEVENT
BEGIN:VEVENT
DTSTART;TZID=UTC:20260405T110000
DTEND;TZID=UTC:20260405T150000
DTSTAMP:20260421T181129
CREATED:20251007T202810Z
LAST-MODIFIED:20251007T203037Z
UID:10002442-1775386800-1775401200@theworksatl.com
SUMMARY:Live Jazz Mexican Brunch Buffet
DESCRIPTION:Every Sunday from 11 a.m. to 3 p.m. at Chicheria Mexican Kitchen\, we invite you to enjoy live jazz music and a full Mexican buffet featuring breakfast classics\, meats\, pastries\, soups\, breads\, coffee and agua frescas.
URL:https://theworksatl.com/event/23924/2026-04-05/
LOCATION:Chicheria Mexican Kitchen\, 202 Chattahoochee Row NW Suite C\, Atlanta\, GA\, 30318\, United States
CATEGORIES:Culinary,Family-Friendly
ATTACH;FMTTYPE=image/jpeg:https://theworksatl.com/wp-content/uploads/2025/10/Chicheria-Brunch-Square.jpg
END:VEVENT
BEGIN:VEVENT
DTSTART;TZID=UTC:20260329T110000
DTEND;TZID=UTC:20260329T150000
DTSTAMP:20260421T181129
CREATED:20251007T202810Z
LAST-MODIFIED:20251007T203037Z
UID:10002441-1774782000-1774796400@theworksatl.com
SUMMARY:Live Jazz Mexican Brunch Buffet
DESCRIPTION:Every Sunday from 11 a.m. to 3 p.m. at Chicheria Mexican Kitchen\, we invite you to enjoy live jazz music and a full Mexican buffet featuring breakfast classics\, meats\, pastries\, soups\, breads\, coffee and agua frescas.
URL:https://theworksatl.com/event/23924/2026-03-29/
LOCATION:Chicheria Mexican Kitchen\, 202 Chattahoochee Row NW Suite C\, Atlanta\, GA\, 30318\, United States
CATEGORIES:Culinary,Family-Friendly
ATTACH;FMTTYPE=image/jpeg:https://theworksatl.com/wp-content/uploads/2025/10/Chicheria-Brunch-Square.jpg
END:VEVENT
BEGIN:VEVENT
DTSTART;TZID=UTC:20260326T183000
DTEND;TZID=UTC:20260326T203000
DTSTAMP:20260421T181129
CREATED:20260312T150935Z
LAST-MODIFIED:20260312T152511Z
UID:10003772-1774549800-1774557000@theworksatl.com
SUMMARY:Salsa Dancing Class & Taco Dinner
DESCRIPTION:Join us for a fun evening of tacos\, chips and salsa\, margaritas\, and a guided\, all-level salsa dancing lesson with instructor Gina. Perfect for date night or a night out with friends.
URL:https://theworksatl.com/event/salsa-dancing-class-taco-dinner/
LOCATION:Chicheria Mexican Kitchen\, 202 Chattahoochee Row NW Suite C\, Atlanta\, GA\, 30318\, United States
CATEGORIES:Culinary
ATTACH;FMTTYPE=image/png:https://theworksatl.com/wp-content/uploads/2026/03/Salsa-and-Tacos-Chicheria.png
END:VEVENT
BEGIN:VEVENT
DTSTART;TZID=UTC:20260322T110000
DTEND;TZID=UTC:20260322T150000
DTSTAMP:20260421T181129
CREATED:20251007T202810Z
LAST-MODIFIED:20251007T203037Z
UID:10002440-1774177200-1774191600@theworksatl.com
SUMMARY:Live Jazz Mexican Brunch Buffet
DESCRIPTION:Every Sunday from 11 a.m. to 3 p.m. at Chicheria Mexican Kitchen\, we invite you to enjoy live jazz music and a full Mexican buffet featuring breakfast classics\, meats\, pastries\, soups\, breads\, coffee and agua frescas.
URL:https://theworksatl.com/event/23924/2026-03-22/
LOCATION:Chicheria Mexican Kitchen\, 202 Chattahoochee Row NW Suite C\, Atlanta\, GA\, 30318\, United States
CATEGORIES:Culinary,Family-Friendly
ATTACH;FMTTYPE=image/jpeg:https://theworksatl.com/wp-content/uploads/2025/10/Chicheria-Brunch-Square.jpg
END:VEVENT
BEGIN:VEVENT
DTSTART;TZID=UTC:20260319T160000
DTEND;TZID=UTC:20260320T220000
DTSTAMP:20260421T181129
CREATED:20260312T151819Z
LAST-MODIFIED:20260312T151819Z
UID:10003773-1773936000-1774044000@theworksatl.com
SUMMARY:Taco Takeover
DESCRIPTION:Chicheria and Frazie’s Meat & Market join forces for a limited-time taco collaboration for two nights only. Try exclusive tacos from Guest Chef Mark Frazie featuring premium smoked meats from Frazie’s and handmade blue corn tortillas from Chicheria.
URL:https://theworksatl.com/event/taco-takeover/
LOCATION:Chicheria Mexican Kitchen\, 202 Chattahoochee Row NW Suite C\, Atlanta\, GA\, 30318\, United States
CATEGORIES:Culinary
ATTACH;FMTTYPE=image/png:https://theworksatl.com/wp-content/uploads/2026/03/Taco-Takeover-Chicheria.png
END:VEVENT
BEGIN:VEVENT
DTSTART;TZID=UTC:20260315T110000
DTEND;TZID=UTC:20260315T150000
DTSTAMP:20260421T181129
CREATED:20251007T202810Z
LAST-MODIFIED:20251007T203037Z
UID:10002439-1773572400-1773586800@theworksatl.com
SUMMARY:Live Jazz Mexican Brunch Buffet
DESCRIPTION:Every Sunday from 11 a.m. to 3 p.m. at Chicheria Mexican Kitchen\, we invite you to enjoy live jazz music and a full Mexican buffet featuring breakfast classics\, meats\, pastries\, soups\, breads\, coffee and agua frescas.
URL:https://theworksatl.com/event/23924/2026-03-15/
LOCATION:Chicheria Mexican Kitchen\, 202 Chattahoochee Row NW Suite C\, Atlanta\, GA\, 30318\, United States
CATEGORIES:Culinary,Family-Friendly
ATTACH;FMTTYPE=image/jpeg:https://theworksatl.com/wp-content/uploads/2025/10/Chicheria-Brunch-Square.jpg
END:VEVENT
BEGIN:VEVENT
DTSTART;TZID=UTC:20260308T110000
DTEND;TZID=UTC:20260308T150000
DTSTAMP:20260421T181129
CREATED:20251007T202810Z
LAST-MODIFIED:20251007T203037Z
UID:10002438-1772967600-1772982000@theworksatl.com
SUMMARY:Live Jazz Mexican Brunch Buffet
DESCRIPTION:Every Sunday from 11 a.m. to 3 p.m. at Chicheria Mexican Kitchen\, we invite you to enjoy live jazz music and a full Mexican buffet featuring breakfast classics\, meats\, pastries\, soups\, breads\, coffee and agua frescas.
URL:https://theworksatl.com/event/23924/2026-03-08/
LOCATION:Chicheria Mexican Kitchen\, 202 Chattahoochee Row NW Suite C\, Atlanta\, GA\, 30318\, United States
CATEGORIES:Culinary,Family-Friendly
ATTACH;FMTTYPE=image/jpeg:https://theworksatl.com/wp-content/uploads/2025/10/Chicheria-Brunch-Square.jpg
END:VEVENT
BEGIN:VEVENT
DTSTART;TZID=UTC:20260301T110000
DTEND;TZID=UTC:20260301T150000
DTSTAMP:20260421T181129
CREATED:20251007T202810Z
LAST-MODIFIED:20251007T203037Z
UID:10002437-1772362800-1772377200@theworksatl.com
SUMMARY:Live Jazz Mexican Brunch Buffet
DESCRIPTION:Every Sunday from 11 a.m. to 3 p.m. at Chicheria Mexican Kitchen\, we invite you to enjoy live jazz music and a full Mexican buffet featuring breakfast classics\, meats\, pastries\, soups\, breads\, coffee and agua frescas.
URL:https://theworksatl.com/event/23924/2026-03-01/
LOCATION:Chicheria Mexican Kitchen\, 202 Chattahoochee Row NW Suite C\, Atlanta\, GA\, 30318\, United States
CATEGORIES:Culinary,Family-Friendly
ATTACH;FMTTYPE=image/jpeg:https://theworksatl.com/wp-content/uploads/2025/10/Chicheria-Brunch-Square.jpg
END:VEVENT
BEGIN:VEVENT
DTSTART;TZID=UTC:20260222T110000
DTEND;TZID=UTC:20260222T150000
DTSTAMP:20260421T181129
CREATED:20251007T202810Z
LAST-MODIFIED:20251007T203037Z
UID:10002436-1771758000-1771772400@theworksatl.com
SUMMARY:Live Jazz Mexican Brunch Buffet
DESCRIPTION:Every Sunday from 11 a.m. to 3 p.m. at Chicheria Mexican Kitchen\, we invite you to enjoy live jazz music and a full Mexican buffet featuring breakfast classics\, meats\, pastries\, soups\, breads\, coffee and agua frescas.
URL:https://theworksatl.com/event/23924/2026-02-22/
LOCATION:Chicheria Mexican Kitchen\, 202 Chattahoochee Row NW Suite C\, Atlanta\, GA\, 30318\, United States
CATEGORIES:Culinary,Family-Friendly
ATTACH;FMTTYPE=image/jpeg:https://theworksatl.com/wp-content/uploads/2025/10/Chicheria-Brunch-Square.jpg
END:VEVENT
BEGIN:VEVENT
DTSTART;TZID=UTC:20260215T110000
DTEND;TZID=UTC:20260215T150000
DTSTAMP:20260421T181129
CREATED:20251007T202810Z
LAST-MODIFIED:20251007T203037Z
UID:10002435-1771153200-1771167600@theworksatl.com
SUMMARY:Live Jazz Mexican Brunch Buffet
DESCRIPTION:Every Sunday from 11 a.m. to 3 p.m. at Chicheria Mexican Kitchen\, we invite you to enjoy live jazz music and a full Mexican buffet featuring breakfast classics\, meats\, pastries\, soups\, breads\, coffee and agua frescas.
URL:https://theworksatl.com/event/23924/2026-02-15/
LOCATION:Chicheria Mexican Kitchen\, 202 Chattahoochee Row NW Suite C\, Atlanta\, GA\, 30318\, United States
CATEGORIES:Culinary,Family-Friendly
ATTACH;FMTTYPE=image/jpeg:https://theworksatl.com/wp-content/uploads/2025/10/Chicheria-Brunch-Square.jpg
END:VEVENT
BEGIN:VEVENT
DTSTART;TZID=UTC:20260210T183000
DTEND;TZID=UTC:20260210T210000
DTSTAMP:20260421T181129
CREATED:20260113T200422Z
LAST-MODIFIED:20260130T183355Z
UID:10003573-1770748200-1770757200@theworksatl.com
SUMMARY:A Night of Mole
DESCRIPTION:Join Chef Joey Vazquez and Chef Gustavo Bautista for an intimate\, one-night-only five-course dinner celebrating the rich diversity of mole. Each course features a unique regional preparation\, paired with four curated wines for a refined pre-Valentine’s experience. Tickets are $95 plus tax and gratuity and can be reserved at chicheriamx.com.
URL:https://theworksatl.com/event/a-night-of-mole/
LOCATION:Chicheria Mexican Kitchen\, 202 Chattahoochee Row NW Suite C\, Atlanta\, GA\, 30318\, United States
CATEGORIES:Culinary
ATTACH;FMTTYPE=image/png:https://theworksatl.com/wp-content/uploads/2026/01/A-night-of-mole.png
END:VEVENT
BEGIN:VEVENT
DTSTART;TZID=UTC:20260208T110000
DTEND;TZID=UTC:20260208T150000
DTSTAMP:20260421T181129
CREATED:20251007T202810Z
LAST-MODIFIED:20251007T203037Z
UID:10002434-1770548400-1770562800@theworksatl.com
SUMMARY:Live Jazz Mexican Brunch Buffet
DESCRIPTION:Every Sunday from 11 a.m. to 3 p.m. at Chicheria Mexican Kitchen\, we invite you to enjoy live jazz music and a full Mexican buffet featuring breakfast classics\, meats\, pastries\, soups\, breads\, coffee and agua frescas.
URL:https://theworksatl.com/event/23924/2026-02-08/
LOCATION:Chicheria Mexican Kitchen\, 202 Chattahoochee Row NW Suite C\, Atlanta\, GA\, 30318\, United States
CATEGORIES:Culinary,Family-Friendly
ATTACH;FMTTYPE=image/jpeg:https://theworksatl.com/wp-content/uploads/2025/10/Chicheria-Brunch-Square.jpg
END:VEVENT
BEGIN:VEVENT
DTSTART;TZID=UTC:20260201T110000
DTEND;TZID=UTC:20260201T150000
DTSTAMP:20260421T181129
CREATED:20251007T202810Z
LAST-MODIFIED:20251007T203037Z
UID:10002433-1769943600-1769958000@theworksatl.com
SUMMARY:Live Jazz Mexican Brunch Buffet
DESCRIPTION:Every Sunday from 11 a.m. to 3 p.m. at Chicheria Mexican Kitchen\, we invite you to enjoy live jazz music and a full Mexican buffet featuring breakfast classics\, meats\, pastries\, soups\, breads\, coffee and agua frescas.
URL:https://theworksatl.com/event/23924/2026-02-01/
LOCATION:Chicheria Mexican Kitchen\, 202 Chattahoochee Row NW Suite C\, Atlanta\, GA\, 30318\, United States
CATEGORIES:Culinary,Family-Friendly
ATTACH;FMTTYPE=image/jpeg:https://theworksatl.com/wp-content/uploads/2025/10/Chicheria-Brunch-Square.jpg
END:VEVENT
BEGIN:VEVENT
DTSTART;VALUE=DATE:20260128
DTEND;VALUE=DATE:20260223
DTSTAMP:20260421T181129
CREATED:20260130T175747Z
LAST-MODIFIED:20260130T181630Z
UID:10003580-1769558400-1771804799@theworksatl.com
SUMMARY:The Rose Garden at Chicheria
DESCRIPTION:Chichería Mexican Kitchen transforms into The Rose Garden from Jan. 28-Feb. 22\, offering a visually striking\, cocktail-forward Valentine’s pop-up centered on tequila\, mezcal and romance. Designed as a low-pressure alternative to traditional Valentine’s dinners\, the multi-week experience features immersive rose-filled décor\, candlelight moments\, pink and red lighting and a limited-edition menu of rose-toned cocktails. Food offerings include shareable snacks and a rose-themed dessert\, encouraging guests to focus on connection and conversation. Valentine’s Day\, Saturday\, Feb. 14\, serves as the peak experience night with full décor\, elevated staffing and optional dinner upgrades\, including the Backpacking Through Baja menu paired with Valentine’s cocktails. Reservations can be made online.
URL:https://theworksatl.com/event/the-rose-garden-at-chicheria/
LOCATION:Chicheria Mexican Kitchen\, 202 Chattahoochee Row NW Suite C\, Atlanta\, GA\, 30318\, United States
CATEGORIES:Culinary
ATTACH;FMTTYPE=image/webp:https://theworksatl.com/wp-content/uploads/2026/01/therosegardenatchicheria.webp
END:VEVENT
BEGIN:VEVENT
DTSTART;TZID=UTC:20260125T170000
DTEND;TZID=UTC:20260125T220000
DTSTAMP:20260421T181129
CREATED:20260108T143032Z
LAST-MODIFIED:20260108T143032Z
UID:10003568-1769360400-1769378400@theworksatl.com
SUMMARY:National Fish Taco Day Celebration
DESCRIPTION:Chichería Mexican Kitchen celebrates National Fish Taco Day with a one-night-only offer: signature Baja Fish Tacos for just $2 each during dinner. Voted “Best Tacos in the City” by Atlanta Best Media in 2025\, these crispy mahi mahi tacos come on house-made blue corn tortillas with fresh toppings. The dine-in special is exclusive to Chichería Insiders (limit 3 per guest). Sign up online to unlock the deal and join the celebration!
URL:https://theworksatl.com/event/national-fish-taco-day-celebration/
LOCATION:Chicheria Mexican Kitchen\, 202 Chattahoochee Row NW Suite C\, Atlanta\, GA\, 30318\, United States
ATTACH;FMTTYPE=image/jpeg:https://theworksatl.com/wp-content/uploads/2026/01/National-Fish-Taco-Day.jpg
END:VEVENT
BEGIN:VEVENT
DTSTART;TZID=UTC:20260125T110000
DTEND;TZID=UTC:20260125T150000
DTSTAMP:20260421T181129
CREATED:20251007T202810Z
LAST-MODIFIED:20251007T203037Z
UID:10002432-1769338800-1769353200@theworksatl.com
SUMMARY:Live Jazz Mexican Brunch Buffet
DESCRIPTION:Every Sunday from 11 a.m. to 3 p.m. at Chicheria Mexican Kitchen\, we invite you to enjoy live jazz music and a full Mexican buffet featuring breakfast classics\, meats\, pastries\, soups\, breads\, coffee and agua frescas.
URL:https://theworksatl.com/event/23924/2026-01-25/
LOCATION:Chicheria Mexican Kitchen\, 202 Chattahoochee Row NW Suite C\, Atlanta\, GA\, 30318\, United States
CATEGORIES:Culinary,Family-Friendly
ATTACH;FMTTYPE=image/jpeg:https://theworksatl.com/wp-content/uploads/2025/10/Chicheria-Brunch-Square.jpg
END:VEVENT
BEGIN:VEVENT
DTSTART;TZID=UTC:20260118T110000
DTEND;TZID=UTC:20260118T150000
DTSTAMP:20260421T181129
CREATED:20251007T202810Z
LAST-MODIFIED:20251007T203037Z
UID:10002431-1768734000-1768748400@theworksatl.com
SUMMARY:Live Jazz Mexican Brunch Buffet
DESCRIPTION:Every Sunday from 11 a.m. to 3 p.m. at Chicheria Mexican Kitchen\, we invite you to enjoy live jazz music and a full Mexican buffet featuring breakfast classics\, meats\, pastries\, soups\, breads\, coffee and agua frescas.
URL:https://theworksatl.com/event/23924/2026-01-18/
LOCATION:Chicheria Mexican Kitchen\, 202 Chattahoochee Row NW Suite C\, Atlanta\, GA\, 30318\, United States
CATEGORIES:Culinary,Family-Friendly
ATTACH;FMTTYPE=image/jpeg:https://theworksatl.com/wp-content/uploads/2025/10/Chicheria-Brunch-Square.jpg
END:VEVENT
BEGIN:VEVENT
DTSTART;TZID=UTC:20260112T110000
DTEND;TZID=UTC:20260112T220000
DTSTAMP:20260421T181129
CREATED:20260108T151914Z
LAST-MODIFIED:20260108T151914Z
UID:10003569-1768215600-1768255200@theworksatl.com
SUMMARY:Celebrate National Gluten-Free Day at Chichería
DESCRIPTION:Chichería Mexican Kitchen\, a dedicated 100% gluten-free restaurant\, invites guests to celebrate National Gluten-Free Day with a special\, all-day offer. Guests who purchase two entrées will receive a free dessert\, available for dine-in only. Known as a trusted destination for the gluten-free community in Atlanta\, Chichería serves a fully gluten-free menu daily\, from Baja-inspired tacos made with housemade blue corn tortillas to scratch-made desserts.
URL:https://theworksatl.com/event/celebrate-national-gluten-free-day-at-chicheria/
LOCATION:Chicheria Mexican Kitchen\, 202 Chattahoochee Row NW Suite C\, Atlanta\, GA\, 30318\, United States
ATTACH;FMTTYPE=image/jpeg:https://theworksatl.com/wp-content/uploads/2026/01/National-Fish-Taco-Day.jpg
END:VEVENT
BEGIN:VEVENT
DTSTART;TZID=UTC:20260111T110000
DTEND;TZID=UTC:20260111T150000
DTSTAMP:20260421T181129
CREATED:20251007T202810Z
LAST-MODIFIED:20251007T203037Z
UID:10002430-1768129200-1768143600@theworksatl.com
SUMMARY:Live Jazz Mexican Brunch Buffet
DESCRIPTION:Every Sunday from 11 a.m. to 3 p.m. at Chicheria Mexican Kitchen\, we invite you to enjoy live jazz music and a full Mexican buffet featuring breakfast classics\, meats\, pastries\, soups\, breads\, coffee and agua frescas.
URL:https://theworksatl.com/event/23924/2026-01-11/
LOCATION:Chicheria Mexican Kitchen\, 202 Chattahoochee Row NW Suite C\, Atlanta\, GA\, 30318\, United States
CATEGORIES:Culinary,Family-Friendly
ATTACH;FMTTYPE=image/jpeg:https://theworksatl.com/wp-content/uploads/2025/10/Chicheria-Brunch-Square.jpg
END:VEVENT
BEGIN:VEVENT
DTSTART;TZID=UTC:20260104T110000
DTEND;TZID=UTC:20260104T150000
DTSTAMP:20260421T181129
CREATED:20251007T202810Z
LAST-MODIFIED:20251007T203037Z
UID:10002429-1767524400-1767538800@theworksatl.com
SUMMARY:Live Jazz Mexican Brunch Buffet
DESCRIPTION:Every Sunday from 11 a.m. to 3 p.m. at Chicheria Mexican Kitchen\, we invite you to enjoy live jazz music and a full Mexican buffet featuring breakfast classics\, meats\, pastries\, soups\, breads\, coffee and agua frescas.
URL:https://theworksatl.com/event/23924/2026-01-04/
LOCATION:Chicheria Mexican Kitchen\, 202 Chattahoochee Row NW Suite C\, Atlanta\, GA\, 30318\, United States
CATEGORIES:Culinary,Family-Friendly
ATTACH;FMTTYPE=image/jpeg:https://theworksatl.com/wp-content/uploads/2025/10/Chicheria-Brunch-Square.jpg
END:VEVENT
BEGIN:VEVENT
DTSTART;TZID=UTC:20251231T220000
DTEND;TZID=UTC:20260101T010000
DTSTAMP:20260421T181129
CREATED:20251126T150048Z
LAST-MODIFIED:20251217T185224Z
UID:10002811-1767218400-1767229200@theworksatl.com
SUMMARY:Midnight in Mexico: A Jazz New Year's Eve
DESCRIPTION:Ring in 2026 with a unique blend of smooth live jazz\, Mexican tradition\, and a laidback late-night celebration. Chicheria invites you to Midnight in Mexico: A Jazz New Year’s Eve celebration! Begin the evening with a festive welcome cocktail while enjoying unlimited chips & salsa\, a menu of amazing Mexican dishes\, and live jazz. At midnight\, raise your glass for a sparkling champagne toast and welcome the new year!
URL:https://theworksatl.com/event/midnight-in-mexico-a-jazz-new-years-eve/
LOCATION:Chicheria Mexican Kitchen\, 202 Chattahoochee Row NW Suite C\, Atlanta\, GA\, 30318\, United States
ATTACH;FMTTYPE=image/png:https://theworksatl.com/wp-content/uploads/2025/11/Chicheria-New-Years-Eve.png
END:VEVENT
BEGIN:VEVENT
DTSTART;TZID=UTC:20251228T110000
DTEND;TZID=UTC:20251228T150000
DTSTAMP:20260421T181129
CREATED:20251007T202810Z
LAST-MODIFIED:20251007T203037Z
UID:10002428-1766919600-1766934000@theworksatl.com
SUMMARY:Live Jazz Mexican Brunch Buffet
DESCRIPTION:Every Sunday from 11 a.m. to 3 p.m. at Chicheria Mexican Kitchen\, we invite you to enjoy live jazz music and a full Mexican buffet featuring breakfast classics\, meats\, pastries\, soups\, breads\, coffee and agua frescas.
URL:https://theworksatl.com/event/23924/2025-12-28/
LOCATION:Chicheria Mexican Kitchen\, 202 Chattahoochee Row NW Suite C\, Atlanta\, GA\, 30318\, United States
CATEGORIES:Culinary,Family-Friendly
ATTACH;FMTTYPE=image/jpeg:https://theworksatl.com/wp-content/uploads/2025/10/Chicheria-Brunch-Square.jpg
END:VEVENT
BEGIN:VEVENT
DTSTART;TZID=UTC:20251221T110000
DTEND;TZID=UTC:20251221T150000
DTSTAMP:20260421T181129
CREATED:20251007T202810Z
LAST-MODIFIED:20251007T203037Z
UID:10002427-1766314800-1766329200@theworksatl.com
SUMMARY:Live Jazz Mexican Brunch Buffet
DESCRIPTION:Every Sunday from 11 a.m. to 3 p.m. at Chicheria Mexican Kitchen\, we invite you to enjoy live jazz music and a full Mexican buffet featuring breakfast classics\, meats\, pastries\, soups\, breads\, coffee and agua frescas.
URL:https://theworksatl.com/event/23924/2025-12-21/
LOCATION:Chicheria Mexican Kitchen\, 202 Chattahoochee Row NW Suite C\, Atlanta\, GA\, 30318\, United States
CATEGORIES:Culinary,Family-Friendly
ATTACH;FMTTYPE=image/jpeg:https://theworksatl.com/wp-content/uploads/2025/10/Chicheria-Brunch-Square.jpg
END:VEVENT
BEGIN:VEVENT
DTSTART;TZID=UTC:20251214T110000
DTEND;TZID=UTC:20251214T150000
DTSTAMP:20260421T181129
CREATED:20251007T202810Z
LAST-MODIFIED:20251007T203037Z
UID:10002426-1765710000-1765724400@theworksatl.com
SUMMARY:Live Jazz Mexican Brunch Buffet
DESCRIPTION:Every Sunday from 11 a.m. to 3 p.m. at Chicheria Mexican Kitchen\, we invite you to enjoy live jazz music and a full Mexican buffet featuring breakfast classics\, meats\, pastries\, soups\, breads\, coffee and agua frescas.
URL:https://theworksatl.com/event/23924/2025-12-14/
LOCATION:Chicheria Mexican Kitchen\, 202 Chattahoochee Row NW Suite C\, Atlanta\, GA\, 30318\, United States
CATEGORIES:Culinary,Family-Friendly
ATTACH;FMTTYPE=image/jpeg:https://theworksatl.com/wp-content/uploads/2025/10/Chicheria-Brunch-Square.jpg
END:VEVENT
BEGIN:VEVENT
DTSTART;TZID=UTC:20251212T180000
DTEND;TZID=UTC:20251212T190000
DTSTAMP:20260421T181129
CREATED:20251030T205942Z
LAST-MODIFIED:20251101T141411Z
UID:10002696-1765562400-1765566000@theworksatl.com
SUMMARY:Santa Sighting
DESCRIPTION:Santa’s spicing up his holiday with bold bites at Chicheria — come meet the big guy himself and enjoy handmade tortillas\, seasonal margaritas and more!
URL:https://theworksatl.com/event/santa-sighting-9/
LOCATION:Chicheria Mexican Kitchen\, 202 Chattahoochee Row NW Suite C\, Atlanta\, GA\, 30318\, United States
CATEGORIES:Holiday
ATTACH;FMTTYPE=image/jpeg:https://theworksatl.com/wp-content/uploads/2025/10/4x4-Santa-Sightings-12-2-1.jpg
END:VEVENT
BEGIN:VEVENT
DTSTART;TZID=UTC:20251207T110000
DTEND;TZID=UTC:20251207T150000
DTSTAMP:20260421T181129
CREATED:20251007T202810Z
LAST-MODIFIED:20251007T203037Z
UID:10002425-1765105200-1765119600@theworksatl.com
SUMMARY:Live Jazz Mexican Brunch Buffet
DESCRIPTION:Every Sunday from 11 a.m. to 3 p.m. at Chicheria Mexican Kitchen\, we invite you to enjoy live jazz music and a full Mexican buffet featuring breakfast classics\, meats\, pastries\, soups\, breads\, coffee and agua frescas.
URL:https://theworksatl.com/event/23924/2025-12-07/
LOCATION:Chicheria Mexican Kitchen\, 202 Chattahoochee Row NW Suite C\, Atlanta\, GA\, 30318\, United States
CATEGORIES:Culinary,Family-Friendly
ATTACH;FMTTYPE=image/jpeg:https://theworksatl.com/wp-content/uploads/2025/10/Chicheria-Brunch-Square.jpg
END:VEVENT
BEGIN:VEVENT
DTSTART;TZID=UTC:20251130T110000
DTEND;TZID=UTC:20251130T150000
DTSTAMP:20260421T181129
CREATED:20251007T202810Z
LAST-MODIFIED:20251007T203037Z
UID:10002424-1764500400-1764514800@theworksatl.com
SUMMARY:Live Jazz Mexican Brunch Buffet
DESCRIPTION:Every Sunday from 11 a.m. to 3 p.m. at Chicheria Mexican Kitchen\, we invite you to enjoy live jazz music and a full Mexican buffet featuring breakfast classics\, meats\, pastries\, soups\, breads\, coffee and agua frescas.
URL:https://theworksatl.com/event/23924/2025-11-30/
LOCATION:Chicheria Mexican Kitchen\, 202 Chattahoochee Row NW Suite C\, Atlanta\, GA\, 30318\, United States
CATEGORIES:Culinary,Family-Friendly
ATTACH;FMTTYPE=image/jpeg:https://theworksatl.com/wp-content/uploads/2025/10/Chicheria-Brunch-Square.jpg
END:VEVENT
BEGIN:VEVENT
DTSTART;TZID=UTC:20251123T110000
DTEND;TZID=UTC:20251123T150000
DTSTAMP:20260421T181129
CREATED:20251007T202810Z
LAST-MODIFIED:20251007T203037Z
UID:10002423-1763895600-1763910000@theworksatl.com
SUMMARY:Live Jazz Mexican Brunch Buffet
DESCRIPTION:Every Sunday from 11 a.m. to 3 p.m. at Chicheria Mexican Kitchen\, we invite you to enjoy live jazz music and a full Mexican buffet featuring breakfast classics\, meats\, pastries\, soups\, breads\, coffee and agua frescas.
URL:https://theworksatl.com/event/23924/2025-11-23/
LOCATION:Chicheria Mexican Kitchen\, 202 Chattahoochee Row NW Suite C\, Atlanta\, GA\, 30318\, United States
CATEGORIES:Culinary,Family-Friendly
ATTACH;FMTTYPE=image/jpeg:https://theworksatl.com/wp-content/uploads/2025/10/Chicheria-Brunch-Square.jpg
END:VEVENT
END:VCALENDAR