BEGIN:VCALENDAR
VERSION:2.0
PRODID:-//The Works - ECPv6.15.20//NONSGML v1.0//EN
CALSCALE:GREGORIAN
METHOD:PUBLISH
X-ORIGINAL-URL:https://theworksatl.com
X-WR-CALDESC:Events for The Works
REFRESH-INTERVAL;VALUE=DURATION:PT1H
X-Robots-Tag:noindex
X-PUBLISHED-TTL:PT1H
BEGIN:VTIMEZONE
TZID:UTC
BEGIN:STANDARD
TZOFFSETFROM:+0000
TZOFFSETTO:+0000
TZNAME:UTC
DTSTART:20270101T000000
END:STANDARD
END:VTIMEZONE
BEGIN:VEVENT
DTSTART;TZID=UTC:20280429T110000
DTEND;TZID=UTC:20280429T150000
DTSTAMP:20260422T133625
CREATED:20260419T212437Z
LAST-MODIFIED:20260419T212437Z
UID:10003942-1840618800-1840633200@theworksatl.com
SUMMARY:Unlimited Gourmet Taco Tasting Experience
DESCRIPTION:Chichería Mexican Kitchen now offers an Unlimited Gourmet Taco Tasting Experience each week. Available every Saturday from 11 a.m. to 3 p.m.\, the experience features a rotating selection of chef-crafted tacos served continuously at the table. Guests can enjoy a variety of flavors including Baja Fish\, Coconut Shrimp\, Carne Asada and more\, all prepared on handmade blue corn tortillas pressed fresh daily. The tasting also includes chips\, dips and refreshing agua frescas.
URL:https://theworksatl.com/event/unlimited-gourmet-taco-tasting-experience/2028-04-29/
LOCATION:Chicheria Mexican Kitchen\, 202 Chattahoochee Row NW Suite C\, Atlanta\, GA\, 30318\, United States
CATEGORIES:Culinary,Family-Friendly
ATTACH;FMTTYPE=image/png:https://theworksatl.com/wp-content/uploads/2026/04/Taco-Tasting-Experience.png
END:VEVENT
BEGIN:VEVENT
DTSTART;TZID=UTC:20280430T110000
DTEND;TZID=UTC:20280430T150000
DTSTAMP:20260422T133625
CREATED:20251007T202810Z
LAST-MODIFIED:20251007T203037Z
UID:10002550-1840705200-1840719600@theworksatl.com
SUMMARY:Live Jazz Mexican Brunch Buffet
DESCRIPTION:Every Sunday from 11 a.m. to 3 p.m. at Chicheria Mexican Kitchen\, we invite you to enjoy live jazz music and a full Mexican buffet featuring breakfast classics\, meats\, pastries\, soups\, breads\, coffee and agua frescas.
URL:https://theworksatl.com/event/23924/2028-04-30/
LOCATION:Chicheria Mexican Kitchen\, 202 Chattahoochee Row NW Suite C\, Atlanta\, GA\, 30318\, United States
CATEGORIES:Culinary,Family-Friendly
ATTACH;FMTTYPE=image/jpeg:https://theworksatl.com/wp-content/uploads/2025/10/Chicheria-Brunch-Square.jpg
END:VEVENT
BEGIN:VEVENT
DTSTART;TZID=UTC:20280503T180000
DTEND;TZID=UTC:20280503T210000
DTSTAMP:20260422T133625
CREATED:20260106T155948Z
LAST-MODIFIED:20260106T155948Z
UID:10003322-1840989600-1841000400@theworksatl.com
SUMMARY:Indie Market
DESCRIPTION:Chattahoochee Food Works is hosting an evening indie pop up shop every Wednesday 6pm-9pm. This market houses local businesses\, handcrafted goods\, thrifted items\, and more!
URL:https://theworksatl.com/event/indie-market-2/2028-05-03/
LOCATION:Chattahoochee Food Works\, 1235 Chattahoochee Ave NW Suite 130\, Atlanta\, GA\, 30318\, United States
CATEGORIES:Shopping
ATTACH;FMTTYPE=image/png:https://theworksatl.com/wp-content/uploads/2025/01/Indie-Market-CFW-4x4-2.png
END:VEVENT
BEGIN:VEVENT
DTSTART;TZID=UTC:20280506T110000
DTEND;TZID=UTC:20280506T150000
DTSTAMP:20260422T133625
CREATED:20260419T212437Z
LAST-MODIFIED:20260419T212437Z
UID:10003943-1841223600-1841238000@theworksatl.com
SUMMARY:Unlimited Gourmet Taco Tasting Experience
DESCRIPTION:Chichería Mexican Kitchen now offers an Unlimited Gourmet Taco Tasting Experience each week. Available every Saturday from 11 a.m. to 3 p.m.\, the experience features a rotating selection of chef-crafted tacos served continuously at the table. Guests can enjoy a variety of flavors including Baja Fish\, Coconut Shrimp\, Carne Asada and more\, all prepared on handmade blue corn tortillas pressed fresh daily. The tasting also includes chips\, dips and refreshing agua frescas.
URL:https://theworksatl.com/event/unlimited-gourmet-taco-tasting-experience/2028-05-06/
LOCATION:Chicheria Mexican Kitchen\, 202 Chattahoochee Row NW Suite C\, Atlanta\, GA\, 30318\, United States
CATEGORIES:Culinary,Family-Friendly
ATTACH;FMTTYPE=image/png:https://theworksatl.com/wp-content/uploads/2026/04/Taco-Tasting-Experience.png
END:VEVENT
BEGIN:VEVENT
DTSTART;TZID=UTC:20280507T110000
DTEND;TZID=UTC:20280507T150000
DTSTAMP:20260422T133625
CREATED:20251007T202810Z
LAST-MODIFIED:20251007T203037Z
UID:10002551-1841310000-1841324400@theworksatl.com
SUMMARY:Live Jazz Mexican Brunch Buffet
DESCRIPTION:Every Sunday from 11 a.m. to 3 p.m. at Chicheria Mexican Kitchen\, we invite you to enjoy live jazz music and a full Mexican buffet featuring breakfast classics\, meats\, pastries\, soups\, breads\, coffee and agua frescas.
URL:https://theworksatl.com/event/23924/2028-05-07/
LOCATION:Chicheria Mexican Kitchen\, 202 Chattahoochee Row NW Suite C\, Atlanta\, GA\, 30318\, United States
CATEGORIES:Culinary,Family-Friendly
ATTACH;FMTTYPE=image/jpeg:https://theworksatl.com/wp-content/uploads/2025/10/Chicheria-Brunch-Square.jpg
END:VEVENT
BEGIN:VEVENT
DTSTART;TZID=UTC:20280510T180000
DTEND;TZID=UTC:20280510T210000
DTSTAMP:20260422T133625
CREATED:20260106T155948Z
LAST-MODIFIED:20260106T155948Z
UID:10003323-1841594400-1841605200@theworksatl.com
SUMMARY:Indie Market
DESCRIPTION:Chattahoochee Food Works is hosting an evening indie pop up shop every Wednesday 6pm-9pm. This market houses local businesses\, handcrafted goods\, thrifted items\, and more!
URL:https://theworksatl.com/event/indie-market-2/2028-05-10/
LOCATION:Chattahoochee Food Works\, 1235 Chattahoochee Ave NW Suite 130\, Atlanta\, GA\, 30318\, United States
CATEGORIES:Shopping
ATTACH;FMTTYPE=image/png:https://theworksatl.com/wp-content/uploads/2025/01/Indie-Market-CFW-4x4-2.png
END:VEVENT
BEGIN:VEVENT
DTSTART;TZID=UTC:20280513T110000
DTEND;TZID=UTC:20280513T150000
DTSTAMP:20260422T133625
CREATED:20260419T212437Z
LAST-MODIFIED:20260419T212437Z
UID:10003944-1841828400-1841842800@theworksatl.com
SUMMARY:Unlimited Gourmet Taco Tasting Experience
DESCRIPTION:Chichería Mexican Kitchen now offers an Unlimited Gourmet Taco Tasting Experience each week. Available every Saturday from 11 a.m. to 3 p.m.\, the experience features a rotating selection of chef-crafted tacos served continuously at the table. Guests can enjoy a variety of flavors including Baja Fish\, Coconut Shrimp\, Carne Asada and more\, all prepared on handmade blue corn tortillas pressed fresh daily. The tasting also includes chips\, dips and refreshing agua frescas.
URL:https://theworksatl.com/event/unlimited-gourmet-taco-tasting-experience/2028-05-13/
LOCATION:Chicheria Mexican Kitchen\, 202 Chattahoochee Row NW Suite C\, Atlanta\, GA\, 30318\, United States
CATEGORIES:Culinary,Family-Friendly
ATTACH;FMTTYPE=image/png:https://theworksatl.com/wp-content/uploads/2026/04/Taco-Tasting-Experience.png
END:VEVENT
BEGIN:VEVENT
DTSTART;TZID=UTC:20280514T110000
DTEND;TZID=UTC:20280514T150000
DTSTAMP:20260422T133625
CREATED:20251007T202810Z
LAST-MODIFIED:20251007T203037Z
UID:10002552-1841914800-1841929200@theworksatl.com
SUMMARY:Live Jazz Mexican Brunch Buffet
DESCRIPTION:Every Sunday from 11 a.m. to 3 p.m. at Chicheria Mexican Kitchen\, we invite you to enjoy live jazz music and a full Mexican buffet featuring breakfast classics\, meats\, pastries\, soups\, breads\, coffee and agua frescas.
URL:https://theworksatl.com/event/23924/2028-05-14/
LOCATION:Chicheria Mexican Kitchen\, 202 Chattahoochee Row NW Suite C\, Atlanta\, GA\, 30318\, United States
CATEGORIES:Culinary,Family-Friendly
ATTACH;FMTTYPE=image/jpeg:https://theworksatl.com/wp-content/uploads/2025/10/Chicheria-Brunch-Square.jpg
END:VEVENT
BEGIN:VEVENT
DTSTART;TZID=UTC:20280517T180000
DTEND;TZID=UTC:20280517T210000
DTSTAMP:20260422T133625
CREATED:20260106T155948Z
LAST-MODIFIED:20260106T155948Z
UID:10003324-1842199200-1842210000@theworksatl.com
SUMMARY:Indie Market
DESCRIPTION:Chattahoochee Food Works is hosting an evening indie pop up shop every Wednesday 6pm-9pm. This market houses local businesses\, handcrafted goods\, thrifted items\, and more!
URL:https://theworksatl.com/event/indie-market-2/2028-05-17/
LOCATION:Chattahoochee Food Works\, 1235 Chattahoochee Ave NW Suite 130\, Atlanta\, GA\, 30318\, United States
CATEGORIES:Shopping
ATTACH;FMTTYPE=image/png:https://theworksatl.com/wp-content/uploads/2025/01/Indie-Market-CFW-4x4-2.png
END:VEVENT
BEGIN:VEVENT
DTSTART;TZID=UTC:20280520T110000
DTEND;TZID=UTC:20280520T150000
DTSTAMP:20260422T133625
CREATED:20260419T212437Z
LAST-MODIFIED:20260419T212437Z
UID:10003945-1842433200-1842447600@theworksatl.com
SUMMARY:Unlimited Gourmet Taco Tasting Experience
DESCRIPTION:Chichería Mexican Kitchen now offers an Unlimited Gourmet Taco Tasting Experience each week. Available every Saturday from 11 a.m. to 3 p.m.\, the experience features a rotating selection of chef-crafted tacos served continuously at the table. Guests can enjoy a variety of flavors including Baja Fish\, Coconut Shrimp\, Carne Asada and more\, all prepared on handmade blue corn tortillas pressed fresh daily. The tasting also includes chips\, dips and refreshing agua frescas.
URL:https://theworksatl.com/event/unlimited-gourmet-taco-tasting-experience/2028-05-20/
LOCATION:Chicheria Mexican Kitchen\, 202 Chattahoochee Row NW Suite C\, Atlanta\, GA\, 30318\, United States
CATEGORIES:Culinary,Family-Friendly
ATTACH;FMTTYPE=image/png:https://theworksatl.com/wp-content/uploads/2026/04/Taco-Tasting-Experience.png
END:VEVENT
BEGIN:VEVENT
DTSTART;TZID=UTC:20280521T110000
DTEND;TZID=UTC:20280521T150000
DTSTAMP:20260422T133625
CREATED:20251007T202810Z
LAST-MODIFIED:20251007T203037Z
UID:10002553-1842519600-1842534000@theworksatl.com
SUMMARY:Live Jazz Mexican Brunch Buffet
DESCRIPTION:Every Sunday from 11 a.m. to 3 p.m. at Chicheria Mexican Kitchen\, we invite you to enjoy live jazz music and a full Mexican buffet featuring breakfast classics\, meats\, pastries\, soups\, breads\, coffee and agua frescas.
URL:https://theworksatl.com/event/23924/2028-05-21/
LOCATION:Chicheria Mexican Kitchen\, 202 Chattahoochee Row NW Suite C\, Atlanta\, GA\, 30318\, United States
CATEGORIES:Culinary,Family-Friendly
ATTACH;FMTTYPE=image/jpeg:https://theworksatl.com/wp-content/uploads/2025/10/Chicheria-Brunch-Square.jpg
END:VEVENT
BEGIN:VEVENT
DTSTART;TZID=UTC:20280524T180000
DTEND;TZID=UTC:20280524T210000
DTSTAMP:20260422T133625
CREATED:20260106T155948Z
LAST-MODIFIED:20260106T155948Z
UID:10003325-1842804000-1842814800@theworksatl.com
SUMMARY:Indie Market
DESCRIPTION:Chattahoochee Food Works is hosting an evening indie pop up shop every Wednesday 6pm-9pm. This market houses local businesses\, handcrafted goods\, thrifted items\, and more!
URL:https://theworksatl.com/event/indie-market-2/2028-05-24/
LOCATION:Chattahoochee Food Works\, 1235 Chattahoochee Ave NW Suite 130\, Atlanta\, GA\, 30318\, United States
CATEGORIES:Shopping
ATTACH;FMTTYPE=image/png:https://theworksatl.com/wp-content/uploads/2025/01/Indie-Market-CFW-4x4-2.png
END:VEVENT
BEGIN:VEVENT
DTSTART;TZID=UTC:20280527T110000
DTEND;TZID=UTC:20280527T150000
DTSTAMP:20260422T133625
CREATED:20260419T212437Z
LAST-MODIFIED:20260419T212437Z
UID:10003946-1843038000-1843052400@theworksatl.com
SUMMARY:Unlimited Gourmet Taco Tasting Experience
DESCRIPTION:Chichería Mexican Kitchen now offers an Unlimited Gourmet Taco Tasting Experience each week. Available every Saturday from 11 a.m. to 3 p.m.\, the experience features a rotating selection of chef-crafted tacos served continuously at the table. Guests can enjoy a variety of flavors including Baja Fish\, Coconut Shrimp\, Carne Asada and more\, all prepared on handmade blue corn tortillas pressed fresh daily. The tasting also includes chips\, dips and refreshing agua frescas.
URL:https://theworksatl.com/event/unlimited-gourmet-taco-tasting-experience/2028-05-27/
LOCATION:Chicheria Mexican Kitchen\, 202 Chattahoochee Row NW Suite C\, Atlanta\, GA\, 30318\, United States
CATEGORIES:Culinary,Family-Friendly
ATTACH;FMTTYPE=image/png:https://theworksatl.com/wp-content/uploads/2026/04/Taco-Tasting-Experience.png
END:VEVENT
BEGIN:VEVENT
DTSTART;TZID=UTC:20280528T110000
DTEND;TZID=UTC:20280528T150000
DTSTAMP:20260422T133625
CREATED:20251007T202810Z
LAST-MODIFIED:20251007T203037Z
UID:10002554-1843124400-1843138800@theworksatl.com
SUMMARY:Live Jazz Mexican Brunch Buffet
DESCRIPTION:Every Sunday from 11 a.m. to 3 p.m. at Chicheria Mexican Kitchen\, we invite you to enjoy live jazz music and a full Mexican buffet featuring breakfast classics\, meats\, pastries\, soups\, breads\, coffee and agua frescas.
URL:https://theworksatl.com/event/23924/2028-05-28/
LOCATION:Chicheria Mexican Kitchen\, 202 Chattahoochee Row NW Suite C\, Atlanta\, GA\, 30318\, United States
CATEGORIES:Culinary,Family-Friendly
ATTACH;FMTTYPE=image/jpeg:https://theworksatl.com/wp-content/uploads/2025/10/Chicheria-Brunch-Square.jpg
END:VEVENT
BEGIN:VEVENT
DTSTART;TZID=UTC:20280531T180000
DTEND;TZID=UTC:20280531T210000
DTSTAMP:20260422T133625
CREATED:20260106T155948Z
LAST-MODIFIED:20260106T155948Z
UID:10003326-1843408800-1843419600@theworksatl.com
SUMMARY:Indie Market
DESCRIPTION:Chattahoochee Food Works is hosting an evening indie pop up shop every Wednesday 6pm-9pm. This market houses local businesses\, handcrafted goods\, thrifted items\, and more!
URL:https://theworksatl.com/event/indie-market-2/2028-05-31/
LOCATION:Chattahoochee Food Works\, 1235 Chattahoochee Ave NW Suite 130\, Atlanta\, GA\, 30318\, United States
CATEGORIES:Shopping
ATTACH;FMTTYPE=image/png:https://theworksatl.com/wp-content/uploads/2025/01/Indie-Market-CFW-4x4-2.png
END:VEVENT
BEGIN:VEVENT
DTSTART;TZID=UTC:20280603T110000
DTEND;TZID=UTC:20280603T150000
DTSTAMP:20260422T133625
CREATED:20260419T212437Z
LAST-MODIFIED:20260419T212437Z
UID:10003947-1843642800-1843657200@theworksatl.com
SUMMARY:Unlimited Gourmet Taco Tasting Experience
DESCRIPTION:Chichería Mexican Kitchen now offers an Unlimited Gourmet Taco Tasting Experience each week. Available every Saturday from 11 a.m. to 3 p.m.\, the experience features a rotating selection of chef-crafted tacos served continuously at the table. Guests can enjoy a variety of flavors including Baja Fish\, Coconut Shrimp\, Carne Asada and more\, all prepared on handmade blue corn tortillas pressed fresh daily. The tasting also includes chips\, dips and refreshing agua frescas.
URL:https://theworksatl.com/event/unlimited-gourmet-taco-tasting-experience/2028-06-03/
LOCATION:Chicheria Mexican Kitchen\, 202 Chattahoochee Row NW Suite C\, Atlanta\, GA\, 30318\, United States
CATEGORIES:Culinary,Family-Friendly
ATTACH;FMTTYPE=image/png:https://theworksatl.com/wp-content/uploads/2026/04/Taco-Tasting-Experience.png
END:VEVENT
BEGIN:VEVENT
DTSTART;TZID=UTC:20280604T110000
DTEND;TZID=UTC:20280604T150000
DTSTAMP:20260422T133625
CREATED:20251007T202810Z
LAST-MODIFIED:20251007T203037Z
UID:10002555-1843729200-1843743600@theworksatl.com
SUMMARY:Live Jazz Mexican Brunch Buffet
DESCRIPTION:Every Sunday from 11 a.m. to 3 p.m. at Chicheria Mexican Kitchen\, we invite you to enjoy live jazz music and a full Mexican buffet featuring breakfast classics\, meats\, pastries\, soups\, breads\, coffee and agua frescas.
URL:https://theworksatl.com/event/23924/2028-06-04/
LOCATION:Chicheria Mexican Kitchen\, 202 Chattahoochee Row NW Suite C\, Atlanta\, GA\, 30318\, United States
CATEGORIES:Culinary,Family-Friendly
ATTACH;FMTTYPE=image/jpeg:https://theworksatl.com/wp-content/uploads/2025/10/Chicheria-Brunch-Square.jpg
END:VEVENT
BEGIN:VEVENT
DTSTART;TZID=UTC:20280607T180000
DTEND;TZID=UTC:20280607T210000
DTSTAMP:20260422T133625
CREATED:20260106T155948Z
LAST-MODIFIED:20260106T155948Z
UID:10003327-1844013600-1844024400@theworksatl.com
SUMMARY:Indie Market
DESCRIPTION:Chattahoochee Food Works is hosting an evening indie pop up shop every Wednesday 6pm-9pm. This market houses local businesses\, handcrafted goods\, thrifted items\, and more!
URL:https://theworksatl.com/event/indie-market-2/2028-06-07/
LOCATION:Chattahoochee Food Works\, 1235 Chattahoochee Ave NW Suite 130\, Atlanta\, GA\, 30318\, United States
CATEGORIES:Shopping
ATTACH;FMTTYPE=image/png:https://theworksatl.com/wp-content/uploads/2025/01/Indie-Market-CFW-4x4-2.png
END:VEVENT
BEGIN:VEVENT
DTSTART;TZID=UTC:20280610T110000
DTEND;TZID=UTC:20280610T150000
DTSTAMP:20260422T133625
CREATED:20260419T212437Z
LAST-MODIFIED:20260419T212437Z
UID:10003948-1844247600-1844262000@theworksatl.com
SUMMARY:Unlimited Gourmet Taco Tasting Experience
DESCRIPTION:Chichería Mexican Kitchen now offers an Unlimited Gourmet Taco Tasting Experience each week. Available every Saturday from 11 a.m. to 3 p.m.\, the experience features a rotating selection of chef-crafted tacos served continuously at the table. Guests can enjoy a variety of flavors including Baja Fish\, Coconut Shrimp\, Carne Asada and more\, all prepared on handmade blue corn tortillas pressed fresh daily. The tasting also includes chips\, dips and refreshing agua frescas.
URL:https://theworksatl.com/event/unlimited-gourmet-taco-tasting-experience/2028-06-10/
LOCATION:Chicheria Mexican Kitchen\, 202 Chattahoochee Row NW Suite C\, Atlanta\, GA\, 30318\, United States
CATEGORIES:Culinary,Family-Friendly
ATTACH;FMTTYPE=image/png:https://theworksatl.com/wp-content/uploads/2026/04/Taco-Tasting-Experience.png
END:VEVENT
BEGIN:VEVENT
DTSTART;TZID=UTC:20280611T110000
DTEND;TZID=UTC:20280611T150000
DTSTAMP:20260422T133625
CREATED:20251007T202810Z
LAST-MODIFIED:20251007T203037Z
UID:10002556-1844334000-1844348400@theworksatl.com
SUMMARY:Live Jazz Mexican Brunch Buffet
DESCRIPTION:Every Sunday from 11 a.m. to 3 p.m. at Chicheria Mexican Kitchen\, we invite you to enjoy live jazz music and a full Mexican buffet featuring breakfast classics\, meats\, pastries\, soups\, breads\, coffee and agua frescas.
URL:https://theworksatl.com/event/23924/2028-06-11/
LOCATION:Chicheria Mexican Kitchen\, 202 Chattahoochee Row NW Suite C\, Atlanta\, GA\, 30318\, United States
CATEGORIES:Culinary,Family-Friendly
ATTACH;FMTTYPE=image/jpeg:https://theworksatl.com/wp-content/uploads/2025/10/Chicheria-Brunch-Square.jpg
END:VEVENT
BEGIN:VEVENT
DTSTART;TZID=UTC:20280614T180000
DTEND;TZID=UTC:20280614T210000
DTSTAMP:20260422T133625
CREATED:20260106T155948Z
LAST-MODIFIED:20260106T155948Z
UID:10003328-1844618400-1844629200@theworksatl.com
SUMMARY:Indie Market
DESCRIPTION:Chattahoochee Food Works is hosting an evening indie pop up shop every Wednesday 6pm-9pm. This market houses local businesses\, handcrafted goods\, thrifted items\, and more!
URL:https://theworksatl.com/event/indie-market-2/2028-06-14/
LOCATION:Chattahoochee Food Works\, 1235 Chattahoochee Ave NW Suite 130\, Atlanta\, GA\, 30318\, United States
CATEGORIES:Shopping
ATTACH;FMTTYPE=image/png:https://theworksatl.com/wp-content/uploads/2025/01/Indie-Market-CFW-4x4-2.png
END:VEVENT
BEGIN:VEVENT
DTSTART;TZID=UTC:20280617T110000
DTEND;TZID=UTC:20280617T150000
DTSTAMP:20260422T133625
CREATED:20260419T212437Z
LAST-MODIFIED:20260419T212437Z
UID:10003949-1844852400-1844866800@theworksatl.com
SUMMARY:Unlimited Gourmet Taco Tasting Experience
DESCRIPTION:Chichería Mexican Kitchen now offers an Unlimited Gourmet Taco Tasting Experience each week. Available every Saturday from 11 a.m. to 3 p.m.\, the experience features a rotating selection of chef-crafted tacos served continuously at the table. Guests can enjoy a variety of flavors including Baja Fish\, Coconut Shrimp\, Carne Asada and more\, all prepared on handmade blue corn tortillas pressed fresh daily. The tasting also includes chips\, dips and refreshing agua frescas.
URL:https://theworksatl.com/event/unlimited-gourmet-taco-tasting-experience/2028-06-17/
LOCATION:Chicheria Mexican Kitchen\, 202 Chattahoochee Row NW Suite C\, Atlanta\, GA\, 30318\, United States
CATEGORIES:Culinary,Family-Friendly
ATTACH;FMTTYPE=image/png:https://theworksatl.com/wp-content/uploads/2026/04/Taco-Tasting-Experience.png
END:VEVENT
BEGIN:VEVENT
DTSTART;TZID=UTC:20280618T110000
DTEND;TZID=UTC:20280618T150000
DTSTAMP:20260422T133625
CREATED:20251007T202810Z
LAST-MODIFIED:20251007T203037Z
UID:10002557-1844938800-1844953200@theworksatl.com
SUMMARY:Live Jazz Mexican Brunch Buffet
DESCRIPTION:Every Sunday from 11 a.m. to 3 p.m. at Chicheria Mexican Kitchen\, we invite you to enjoy live jazz music and a full Mexican buffet featuring breakfast classics\, meats\, pastries\, soups\, breads\, coffee and agua frescas.
URL:https://theworksatl.com/event/23924/2028-06-18/
LOCATION:Chicheria Mexican Kitchen\, 202 Chattahoochee Row NW Suite C\, Atlanta\, GA\, 30318\, United States
CATEGORIES:Culinary,Family-Friendly
ATTACH;FMTTYPE=image/jpeg:https://theworksatl.com/wp-content/uploads/2025/10/Chicheria-Brunch-Square.jpg
END:VEVENT
BEGIN:VEVENT
DTSTART;TZID=UTC:20280621T180000
DTEND;TZID=UTC:20280621T210000
DTSTAMP:20260422T133625
CREATED:20260106T155948Z
LAST-MODIFIED:20260106T155948Z
UID:10003329-1845223200-1845234000@theworksatl.com
SUMMARY:Indie Market
DESCRIPTION:Chattahoochee Food Works is hosting an evening indie pop up shop every Wednesday 6pm-9pm. This market houses local businesses\, handcrafted goods\, thrifted items\, and more!
URL:https://theworksatl.com/event/indie-market-2/2028-06-21/
LOCATION:Chattahoochee Food Works\, 1235 Chattahoochee Ave NW Suite 130\, Atlanta\, GA\, 30318\, United States
CATEGORIES:Shopping
ATTACH;FMTTYPE=image/png:https://theworksatl.com/wp-content/uploads/2025/01/Indie-Market-CFW-4x4-2.png
END:VEVENT
BEGIN:VEVENT
DTSTART;TZID=UTC:20280624T110000
DTEND;TZID=UTC:20280624T150000
DTSTAMP:20260422T133625
CREATED:20260419T212437Z
LAST-MODIFIED:20260419T212437Z
UID:10003950-1845457200-1845471600@theworksatl.com
SUMMARY:Unlimited Gourmet Taco Tasting Experience
DESCRIPTION:Chichería Mexican Kitchen now offers an Unlimited Gourmet Taco Tasting Experience each week. Available every Saturday from 11 a.m. to 3 p.m.\, the experience features a rotating selection of chef-crafted tacos served continuously at the table. Guests can enjoy a variety of flavors including Baja Fish\, Coconut Shrimp\, Carne Asada and more\, all prepared on handmade blue corn tortillas pressed fresh daily. The tasting also includes chips\, dips and refreshing agua frescas.
URL:https://theworksatl.com/event/unlimited-gourmet-taco-tasting-experience/2028-06-24/
LOCATION:Chicheria Mexican Kitchen\, 202 Chattahoochee Row NW Suite C\, Atlanta\, GA\, 30318\, United States
CATEGORIES:Culinary,Family-Friendly
ATTACH;FMTTYPE=image/png:https://theworksatl.com/wp-content/uploads/2026/04/Taco-Tasting-Experience.png
END:VEVENT
BEGIN:VEVENT
DTSTART;TZID=UTC:20280625T110000
DTEND;TZID=UTC:20280625T150000
DTSTAMP:20260422T133625
CREATED:20251007T202810Z
LAST-MODIFIED:20251007T203037Z
UID:10002558-1845543600-1845558000@theworksatl.com
SUMMARY:Live Jazz Mexican Brunch Buffet
DESCRIPTION:Every Sunday from 11 a.m. to 3 p.m. at Chicheria Mexican Kitchen\, we invite you to enjoy live jazz music and a full Mexican buffet featuring breakfast classics\, meats\, pastries\, soups\, breads\, coffee and agua frescas.
URL:https://theworksatl.com/event/23924/2028-06-25/
LOCATION:Chicheria Mexican Kitchen\, 202 Chattahoochee Row NW Suite C\, Atlanta\, GA\, 30318\, United States
CATEGORIES:Culinary,Family-Friendly
ATTACH;FMTTYPE=image/jpeg:https://theworksatl.com/wp-content/uploads/2025/10/Chicheria-Brunch-Square.jpg
END:VEVENT
BEGIN:VEVENT
DTSTART;TZID=UTC:20280628T180000
DTEND;TZID=UTC:20280628T210000
DTSTAMP:20260422T133625
CREATED:20260106T155948Z
LAST-MODIFIED:20260106T155948Z
UID:10003330-1845828000-1845838800@theworksatl.com
SUMMARY:Indie Market
DESCRIPTION:Chattahoochee Food Works is hosting an evening indie pop up shop every Wednesday 6pm-9pm. This market houses local businesses\, handcrafted goods\, thrifted items\, and more!
URL:https://theworksatl.com/event/indie-market-2/2028-06-28/
LOCATION:Chattahoochee Food Works\, 1235 Chattahoochee Ave NW Suite 130\, Atlanta\, GA\, 30318\, United States
CATEGORIES:Shopping
ATTACH;FMTTYPE=image/png:https://theworksatl.com/wp-content/uploads/2025/01/Indie-Market-CFW-4x4-2.png
END:VEVENT
BEGIN:VEVENT
DTSTART;TZID=UTC:20280701T110000
DTEND;TZID=UTC:20280701T150000
DTSTAMP:20260422T133625
CREATED:20260419T212437Z
LAST-MODIFIED:20260419T212437Z
UID:10003951-1846062000-1846076400@theworksatl.com
SUMMARY:Unlimited Gourmet Taco Tasting Experience
DESCRIPTION:Chichería Mexican Kitchen now offers an Unlimited Gourmet Taco Tasting Experience each week. Available every Saturday from 11 a.m. to 3 p.m.\, the experience features a rotating selection of chef-crafted tacos served continuously at the table. Guests can enjoy a variety of flavors including Baja Fish\, Coconut Shrimp\, Carne Asada and more\, all prepared on handmade blue corn tortillas pressed fresh daily. The tasting also includes chips\, dips and refreshing agua frescas.
URL:https://theworksatl.com/event/unlimited-gourmet-taco-tasting-experience/2028-07-01/
LOCATION:Chicheria Mexican Kitchen\, 202 Chattahoochee Row NW Suite C\, Atlanta\, GA\, 30318\, United States
CATEGORIES:Culinary,Family-Friendly
ATTACH;FMTTYPE=image/png:https://theworksatl.com/wp-content/uploads/2026/04/Taco-Tasting-Experience.png
END:VEVENT
BEGIN:VEVENT
DTSTART;TZID=UTC:20280702T110000
DTEND;TZID=UTC:20280702T150000
DTSTAMP:20260422T133625
CREATED:20251007T202810Z
LAST-MODIFIED:20251007T203037Z
UID:10002559-1846148400-1846162800@theworksatl.com
SUMMARY:Live Jazz Mexican Brunch Buffet
DESCRIPTION:Every Sunday from 11 a.m. to 3 p.m. at Chicheria Mexican Kitchen\, we invite you to enjoy live jazz music and a full Mexican buffet featuring breakfast classics\, meats\, pastries\, soups\, breads\, coffee and agua frescas.
URL:https://theworksatl.com/event/23924/2028-07-02/
LOCATION:Chicheria Mexican Kitchen\, 202 Chattahoochee Row NW Suite C\, Atlanta\, GA\, 30318\, United States
CATEGORIES:Culinary,Family-Friendly
ATTACH;FMTTYPE=image/jpeg:https://theworksatl.com/wp-content/uploads/2025/10/Chicheria-Brunch-Square.jpg
END:VEVENT
BEGIN:VEVENT
DTSTART;TZID=UTC:20280705T180000
DTEND;TZID=UTC:20280705T210000
DTSTAMP:20260422T133625
CREATED:20260106T155948Z
LAST-MODIFIED:20260106T155948Z
UID:10003331-1846432800-1846443600@theworksatl.com
SUMMARY:Indie Market
DESCRIPTION:Chattahoochee Food Works is hosting an evening indie pop up shop every Wednesday 6pm-9pm. This market houses local businesses\, handcrafted goods\, thrifted items\, and more!
URL:https://theworksatl.com/event/indie-market-2/2028-07-05/
LOCATION:Chattahoochee Food Works\, 1235 Chattahoochee Ave NW Suite 130\, Atlanta\, GA\, 30318\, United States
CATEGORIES:Shopping
ATTACH;FMTTYPE=image/png:https://theworksatl.com/wp-content/uploads/2025/01/Indie-Market-CFW-4x4-2.png
END:VEVENT
END:VCALENDAR