BEGIN:VCALENDAR
VERSION:2.0
PRODID:-//The Works - ECPv6.15.20//NONSGML v1.0//EN
CALSCALE:GREGORIAN
METHOD:PUBLISH
X-ORIGINAL-URL:https://theworksatl.com
X-WR-CALDESC:Events for The Works
REFRESH-INTERVAL;VALUE=DURATION:PT1H
X-Robots-Tag:noindex
X-PUBLISHED-TTL:PT1H
BEGIN:VTIMEZONE
TZID:UTC
BEGIN:STANDARD
TZOFFSETFROM:+0000
TZOFFSETTO:+0000
TZNAME:UTC
DTSTART:20280101T000000
END:STANDARD
END:VTIMEZONE
BEGIN:VEVENT
DTSTART;TZID=UTC:20290107T110000
DTEND;TZID=UTC:20290107T150000
DTSTAMP:20260422T221532
CREATED:20251007T202810Z
LAST-MODIFIED:20251007T203037Z
UID:10002586-1862478000-1862492400@theworksatl.com
SUMMARY:Live Jazz Mexican Brunch Buffet
DESCRIPTION:Every Sunday from 11 a.m. to 3 p.m. at Chicheria Mexican Kitchen\, we invite you to enjoy live jazz music and a full Mexican buffet featuring breakfast classics\, meats\, pastries\, soups\, breads\, coffee and agua frescas.
URL:https://theworksatl.com/event/23924/2029-01-07/
LOCATION:Chicheria Mexican Kitchen\, 202 Chattahoochee Row NW Suite C\, Atlanta\, GA\, 30318\, United States
CATEGORIES:Culinary,Family-Friendly
ATTACH;FMTTYPE=image/jpeg:https://theworksatl.com/wp-content/uploads/2025/10/Chicheria-Brunch-Square.jpg
END:VEVENT
BEGIN:VEVENT
DTSTART;TZID=UTC:20290110T180000
DTEND;TZID=UTC:20290110T210000
DTSTAMP:20260422T221532
CREATED:20260106T155948Z
LAST-MODIFIED:20260106T155948Z
UID:10003358-1862762400-1862773200@theworksatl.com
SUMMARY:Indie Market
DESCRIPTION:Chattahoochee Food Works is hosting an evening indie pop up shop every Wednesday 6pm-9pm. This market houses local businesses\, handcrafted goods\, thrifted items\, and more!
URL:https://theworksatl.com/event/indie-market-2/2029-01-10/
LOCATION:Chattahoochee Food Works\, 1235 Chattahoochee Ave NW Suite 130\, Atlanta\, GA\, 30318\, United States
CATEGORIES:Shopping
ATTACH;FMTTYPE=image/png:https://theworksatl.com/wp-content/uploads/2025/01/Indie-Market-CFW-4x4-2.png
END:VEVENT
BEGIN:VEVENT
DTSTART;TZID=UTC:20290113T110000
DTEND;TZID=UTC:20290113T150000
DTSTAMP:20260422T221532
CREATED:20260419T212437Z
LAST-MODIFIED:20260419T212437Z
UID:10003979-1862996400-1863010800@theworksatl.com
SUMMARY:Unlimited Gourmet Taco Tasting Experience
DESCRIPTION:Chichería Mexican Kitchen now offers an Unlimited Gourmet Taco Tasting Experience each week. Available every Saturday from 11 a.m. to 3 p.m.\, the experience features a rotating selection of chef-crafted tacos served continuously at the table. Guests can enjoy a variety of flavors including Baja Fish\, Coconut Shrimp\, Carne Asada and more\, all prepared on handmade blue corn tortillas pressed fresh daily. The tasting also includes chips\, dips and refreshing agua frescas.
URL:https://theworksatl.com/event/unlimited-gourmet-taco-tasting-experience/2029-01-13/
LOCATION:Chicheria Mexican Kitchen\, 202 Chattahoochee Row NW Suite C\, Atlanta\, GA\, 30318\, United States
CATEGORIES:Culinary,Family-Friendly
ATTACH;FMTTYPE=image/png:https://theworksatl.com/wp-content/uploads/2026/04/Taco-Tasting-Experience.png
END:VEVENT
BEGIN:VEVENT
DTSTART;TZID=UTC:20290114T110000
DTEND;TZID=UTC:20290114T150000
DTSTAMP:20260422T221532
CREATED:20251007T202810Z
LAST-MODIFIED:20251007T203037Z
UID:10002587-1863082800-1863097200@theworksatl.com
SUMMARY:Live Jazz Mexican Brunch Buffet
DESCRIPTION:Every Sunday from 11 a.m. to 3 p.m. at Chicheria Mexican Kitchen\, we invite you to enjoy live jazz music and a full Mexican buffet featuring breakfast classics\, meats\, pastries\, soups\, breads\, coffee and agua frescas.
URL:https://theworksatl.com/event/23924/2029-01-14/
LOCATION:Chicheria Mexican Kitchen\, 202 Chattahoochee Row NW Suite C\, Atlanta\, GA\, 30318\, United States
CATEGORIES:Culinary,Family-Friendly
ATTACH;FMTTYPE=image/jpeg:https://theworksatl.com/wp-content/uploads/2025/10/Chicheria-Brunch-Square.jpg
END:VEVENT
BEGIN:VEVENT
DTSTART;TZID=UTC:20290117T180000
DTEND;TZID=UTC:20290117T210000
DTSTAMP:20260422T221532
CREATED:20260106T155948Z
LAST-MODIFIED:20260106T155948Z
UID:10003359-1863367200-1863378000@theworksatl.com
SUMMARY:Indie Market
DESCRIPTION:Chattahoochee Food Works is hosting an evening indie pop up shop every Wednesday 6pm-9pm. This market houses local businesses\, handcrafted goods\, thrifted items\, and more!
URL:https://theworksatl.com/event/indie-market-2/2029-01-17/
LOCATION:Chattahoochee Food Works\, 1235 Chattahoochee Ave NW Suite 130\, Atlanta\, GA\, 30318\, United States
CATEGORIES:Shopping
ATTACH;FMTTYPE=image/png:https://theworksatl.com/wp-content/uploads/2025/01/Indie-Market-CFW-4x4-2.png
END:VEVENT
BEGIN:VEVENT
DTSTART;TZID=UTC:20290120T110000
DTEND;TZID=UTC:20290120T150000
DTSTAMP:20260422T221532
CREATED:20260419T212437Z
LAST-MODIFIED:20260419T212437Z
UID:10003980-1863601200-1863615600@theworksatl.com
SUMMARY:Unlimited Gourmet Taco Tasting Experience
DESCRIPTION:Chichería Mexican Kitchen now offers an Unlimited Gourmet Taco Tasting Experience each week. Available every Saturday from 11 a.m. to 3 p.m.\, the experience features a rotating selection of chef-crafted tacos served continuously at the table. Guests can enjoy a variety of flavors including Baja Fish\, Coconut Shrimp\, Carne Asada and more\, all prepared on handmade blue corn tortillas pressed fresh daily. The tasting also includes chips\, dips and refreshing agua frescas.
URL:https://theworksatl.com/event/unlimited-gourmet-taco-tasting-experience/2029-01-20/
LOCATION:Chicheria Mexican Kitchen\, 202 Chattahoochee Row NW Suite C\, Atlanta\, GA\, 30318\, United States
CATEGORIES:Culinary,Family-Friendly
ATTACH;FMTTYPE=image/png:https://theworksatl.com/wp-content/uploads/2026/04/Taco-Tasting-Experience.png
END:VEVENT
BEGIN:VEVENT
DTSTART;TZID=UTC:20290121T110000
DTEND;TZID=UTC:20290121T150000
DTSTAMP:20260422T221532
CREATED:20251007T202810Z
LAST-MODIFIED:20251007T203037Z
UID:10002588-1863687600-1863702000@theworksatl.com
SUMMARY:Live Jazz Mexican Brunch Buffet
DESCRIPTION:Every Sunday from 11 a.m. to 3 p.m. at Chicheria Mexican Kitchen\, we invite you to enjoy live jazz music and a full Mexican buffet featuring breakfast classics\, meats\, pastries\, soups\, breads\, coffee and agua frescas.
URL:https://theworksatl.com/event/23924/2029-01-21/
LOCATION:Chicheria Mexican Kitchen\, 202 Chattahoochee Row NW Suite C\, Atlanta\, GA\, 30318\, United States
CATEGORIES:Culinary,Family-Friendly
ATTACH;FMTTYPE=image/jpeg:https://theworksatl.com/wp-content/uploads/2025/10/Chicheria-Brunch-Square.jpg
END:VEVENT
BEGIN:VEVENT
DTSTART;TZID=UTC:20290124T180000
DTEND;TZID=UTC:20290124T210000
DTSTAMP:20260422T221532
CREATED:20260106T155948Z
LAST-MODIFIED:20260106T155948Z
UID:10003360-1863972000-1863982800@theworksatl.com
SUMMARY:Indie Market
DESCRIPTION:Chattahoochee Food Works is hosting an evening indie pop up shop every Wednesday 6pm-9pm. This market houses local businesses\, handcrafted goods\, thrifted items\, and more!
URL:https://theworksatl.com/event/indie-market-2/2029-01-24/
LOCATION:Chattahoochee Food Works\, 1235 Chattahoochee Ave NW Suite 130\, Atlanta\, GA\, 30318\, United States
CATEGORIES:Shopping
ATTACH;FMTTYPE=image/png:https://theworksatl.com/wp-content/uploads/2025/01/Indie-Market-CFW-4x4-2.png
END:VEVENT
BEGIN:VEVENT
DTSTART;TZID=UTC:20290127T110000
DTEND;TZID=UTC:20290127T150000
DTSTAMP:20260422T221532
CREATED:20260419T212437Z
LAST-MODIFIED:20260419T212437Z
UID:10003981-1864206000-1864220400@theworksatl.com
SUMMARY:Unlimited Gourmet Taco Tasting Experience
DESCRIPTION:Chichería Mexican Kitchen now offers an Unlimited Gourmet Taco Tasting Experience each week. Available every Saturday from 11 a.m. to 3 p.m.\, the experience features a rotating selection of chef-crafted tacos served continuously at the table. Guests can enjoy a variety of flavors including Baja Fish\, Coconut Shrimp\, Carne Asada and more\, all prepared on handmade blue corn tortillas pressed fresh daily. The tasting also includes chips\, dips and refreshing agua frescas.
URL:https://theworksatl.com/event/unlimited-gourmet-taco-tasting-experience/2029-01-27/
LOCATION:Chicheria Mexican Kitchen\, 202 Chattahoochee Row NW Suite C\, Atlanta\, GA\, 30318\, United States
CATEGORIES:Culinary,Family-Friendly
ATTACH;FMTTYPE=image/png:https://theworksatl.com/wp-content/uploads/2026/04/Taco-Tasting-Experience.png
END:VEVENT
BEGIN:VEVENT
DTSTART;TZID=UTC:20290128T110000
DTEND;TZID=UTC:20290128T150000
DTSTAMP:20260422T221532
CREATED:20251007T202810Z
LAST-MODIFIED:20251007T203037Z
UID:10002589-1864292400-1864306800@theworksatl.com
SUMMARY:Live Jazz Mexican Brunch Buffet
DESCRIPTION:Every Sunday from 11 a.m. to 3 p.m. at Chicheria Mexican Kitchen\, we invite you to enjoy live jazz music and a full Mexican buffet featuring breakfast classics\, meats\, pastries\, soups\, breads\, coffee and agua frescas.
URL:https://theworksatl.com/event/23924/2029-01-28/
LOCATION:Chicheria Mexican Kitchen\, 202 Chattahoochee Row NW Suite C\, Atlanta\, GA\, 30318\, United States
CATEGORIES:Culinary,Family-Friendly
ATTACH;FMTTYPE=image/jpeg:https://theworksatl.com/wp-content/uploads/2025/10/Chicheria-Brunch-Square.jpg
END:VEVENT
BEGIN:VEVENT
DTSTART;TZID=UTC:20290131T180000
DTEND;TZID=UTC:20290131T210000
DTSTAMP:20260422T221532
CREATED:20260106T155948Z
LAST-MODIFIED:20260106T155948Z
UID:10003361-1864576800-1864587600@theworksatl.com
SUMMARY:Indie Market
DESCRIPTION:Chattahoochee Food Works is hosting an evening indie pop up shop every Wednesday 6pm-9pm. This market houses local businesses\, handcrafted goods\, thrifted items\, and more!
URL:https://theworksatl.com/event/indie-market-2/2029-01-31/
LOCATION:Chattahoochee Food Works\, 1235 Chattahoochee Ave NW Suite 130\, Atlanta\, GA\, 30318\, United States
CATEGORIES:Shopping
ATTACH;FMTTYPE=image/png:https://theworksatl.com/wp-content/uploads/2025/01/Indie-Market-CFW-4x4-2.png
END:VEVENT
BEGIN:VEVENT
DTSTART;TZID=UTC:20290203T110000
DTEND;TZID=UTC:20290203T150000
DTSTAMP:20260422T221532
CREATED:20260419T212437Z
LAST-MODIFIED:20260419T212437Z
UID:10003982-1864810800-1864825200@theworksatl.com
SUMMARY:Unlimited Gourmet Taco Tasting Experience
DESCRIPTION:Chichería Mexican Kitchen now offers an Unlimited Gourmet Taco Tasting Experience each week. Available every Saturday from 11 a.m. to 3 p.m.\, the experience features a rotating selection of chef-crafted tacos served continuously at the table. Guests can enjoy a variety of flavors including Baja Fish\, Coconut Shrimp\, Carne Asada and more\, all prepared on handmade blue corn tortillas pressed fresh daily. The tasting also includes chips\, dips and refreshing agua frescas.
URL:https://theworksatl.com/event/unlimited-gourmet-taco-tasting-experience/2029-02-03/
LOCATION:Chicheria Mexican Kitchen\, 202 Chattahoochee Row NW Suite C\, Atlanta\, GA\, 30318\, United States
CATEGORIES:Culinary,Family-Friendly
ATTACH;FMTTYPE=image/png:https://theworksatl.com/wp-content/uploads/2026/04/Taco-Tasting-Experience.png
END:VEVENT
BEGIN:VEVENT
DTSTART;TZID=UTC:20290204T110000
DTEND;TZID=UTC:20290204T150000
DTSTAMP:20260422T221532
CREATED:20251007T202810Z
LAST-MODIFIED:20251007T203037Z
UID:10002590-1864897200-1864911600@theworksatl.com
SUMMARY:Live Jazz Mexican Brunch Buffet
DESCRIPTION:Every Sunday from 11 a.m. to 3 p.m. at Chicheria Mexican Kitchen\, we invite you to enjoy live jazz music and a full Mexican buffet featuring breakfast classics\, meats\, pastries\, soups\, breads\, coffee and agua frescas.
URL:https://theworksatl.com/event/23924/2029-02-04/
LOCATION:Chicheria Mexican Kitchen\, 202 Chattahoochee Row NW Suite C\, Atlanta\, GA\, 30318\, United States
CATEGORIES:Culinary,Family-Friendly
ATTACH;FMTTYPE=image/jpeg:https://theworksatl.com/wp-content/uploads/2025/10/Chicheria-Brunch-Square.jpg
END:VEVENT
BEGIN:VEVENT
DTSTART;TZID=UTC:20290207T180000
DTEND;TZID=UTC:20290207T210000
DTSTAMP:20260422T221532
CREATED:20260106T155948Z
LAST-MODIFIED:20260106T155948Z
UID:10003362-1865181600-1865192400@theworksatl.com
SUMMARY:Indie Market
DESCRIPTION:Chattahoochee Food Works is hosting an evening indie pop up shop every Wednesday 6pm-9pm. This market houses local businesses\, handcrafted goods\, thrifted items\, and more!
URL:https://theworksatl.com/event/indie-market-2/2029-02-07/
LOCATION:Chattahoochee Food Works\, 1235 Chattahoochee Ave NW Suite 130\, Atlanta\, GA\, 30318\, United States
CATEGORIES:Shopping
ATTACH;FMTTYPE=image/png:https://theworksatl.com/wp-content/uploads/2025/01/Indie-Market-CFW-4x4-2.png
END:VEVENT
BEGIN:VEVENT
DTSTART;TZID=UTC:20290210T110000
DTEND;TZID=UTC:20290210T150000
DTSTAMP:20260422T221532
CREATED:20260419T212437Z
LAST-MODIFIED:20260419T212437Z
UID:10003983-1865415600-1865430000@theworksatl.com
SUMMARY:Unlimited Gourmet Taco Tasting Experience
DESCRIPTION:Chichería Mexican Kitchen now offers an Unlimited Gourmet Taco Tasting Experience each week. Available every Saturday from 11 a.m. to 3 p.m.\, the experience features a rotating selection of chef-crafted tacos served continuously at the table. Guests can enjoy a variety of flavors including Baja Fish\, Coconut Shrimp\, Carne Asada and more\, all prepared on handmade blue corn tortillas pressed fresh daily. The tasting also includes chips\, dips and refreshing agua frescas.
URL:https://theworksatl.com/event/unlimited-gourmet-taco-tasting-experience/2029-02-10/
LOCATION:Chicheria Mexican Kitchen\, 202 Chattahoochee Row NW Suite C\, Atlanta\, GA\, 30318\, United States
CATEGORIES:Culinary,Family-Friendly
ATTACH;FMTTYPE=image/png:https://theworksatl.com/wp-content/uploads/2026/04/Taco-Tasting-Experience.png
END:VEVENT
BEGIN:VEVENT
DTSTART;TZID=UTC:20290211T110000
DTEND;TZID=UTC:20290211T150000
DTSTAMP:20260422T221532
CREATED:20251007T202810Z
LAST-MODIFIED:20251007T203037Z
UID:10002591-1865502000-1865516400@theworksatl.com
SUMMARY:Live Jazz Mexican Brunch Buffet
DESCRIPTION:Every Sunday from 11 a.m. to 3 p.m. at Chicheria Mexican Kitchen\, we invite you to enjoy live jazz music and a full Mexican buffet featuring breakfast classics\, meats\, pastries\, soups\, breads\, coffee and agua frescas.
URL:https://theworksatl.com/event/23924/2029-02-11/
LOCATION:Chicheria Mexican Kitchen\, 202 Chattahoochee Row NW Suite C\, Atlanta\, GA\, 30318\, United States
CATEGORIES:Culinary,Family-Friendly
ATTACH;FMTTYPE=image/jpeg:https://theworksatl.com/wp-content/uploads/2025/10/Chicheria-Brunch-Square.jpg
END:VEVENT
BEGIN:VEVENT
DTSTART;TZID=UTC:20290214T180000
DTEND;TZID=UTC:20290214T210000
DTSTAMP:20260422T221532
CREATED:20260106T155948Z
LAST-MODIFIED:20260106T155948Z
UID:10003363-1865786400-1865797200@theworksatl.com
SUMMARY:Indie Market
DESCRIPTION:Chattahoochee Food Works is hosting an evening indie pop up shop every Wednesday 6pm-9pm. This market houses local businesses\, handcrafted goods\, thrifted items\, and more!
URL:https://theworksatl.com/event/indie-market-2/2029-02-14/
LOCATION:Chattahoochee Food Works\, 1235 Chattahoochee Ave NW Suite 130\, Atlanta\, GA\, 30318\, United States
CATEGORIES:Shopping
ATTACH;FMTTYPE=image/png:https://theworksatl.com/wp-content/uploads/2025/01/Indie-Market-CFW-4x4-2.png
END:VEVENT
BEGIN:VEVENT
DTSTART;TZID=UTC:20290217T110000
DTEND;TZID=UTC:20290217T150000
DTSTAMP:20260422T221532
CREATED:20260419T212437Z
LAST-MODIFIED:20260419T212437Z
UID:10003984-1866020400-1866034800@theworksatl.com
SUMMARY:Unlimited Gourmet Taco Tasting Experience
DESCRIPTION:Chichería Mexican Kitchen now offers an Unlimited Gourmet Taco Tasting Experience each week. Available every Saturday from 11 a.m. to 3 p.m.\, the experience features a rotating selection of chef-crafted tacos served continuously at the table. Guests can enjoy a variety of flavors including Baja Fish\, Coconut Shrimp\, Carne Asada and more\, all prepared on handmade blue corn tortillas pressed fresh daily. The tasting also includes chips\, dips and refreshing agua frescas.
URL:https://theworksatl.com/event/unlimited-gourmet-taco-tasting-experience/2029-02-17/
LOCATION:Chicheria Mexican Kitchen\, 202 Chattahoochee Row NW Suite C\, Atlanta\, GA\, 30318\, United States
CATEGORIES:Culinary,Family-Friendly
ATTACH;FMTTYPE=image/png:https://theworksatl.com/wp-content/uploads/2026/04/Taco-Tasting-Experience.png
END:VEVENT
BEGIN:VEVENT
DTSTART;TZID=UTC:20290218T110000
DTEND;TZID=UTC:20290218T150000
DTSTAMP:20260422T221532
CREATED:20251007T202810Z
LAST-MODIFIED:20251007T203037Z
UID:10002592-1866106800-1866121200@theworksatl.com
SUMMARY:Live Jazz Mexican Brunch Buffet
DESCRIPTION:Every Sunday from 11 a.m. to 3 p.m. at Chicheria Mexican Kitchen\, we invite you to enjoy live jazz music and a full Mexican buffet featuring breakfast classics\, meats\, pastries\, soups\, breads\, coffee and agua frescas.
URL:https://theworksatl.com/event/23924/2029-02-18/
LOCATION:Chicheria Mexican Kitchen\, 202 Chattahoochee Row NW Suite C\, Atlanta\, GA\, 30318\, United States
CATEGORIES:Culinary,Family-Friendly
ATTACH;FMTTYPE=image/jpeg:https://theworksatl.com/wp-content/uploads/2025/10/Chicheria-Brunch-Square.jpg
END:VEVENT
BEGIN:VEVENT
DTSTART;TZID=UTC:20290221T180000
DTEND;TZID=UTC:20290221T210000
DTSTAMP:20260422T221532
CREATED:20260106T155948Z
LAST-MODIFIED:20260106T155948Z
UID:10003364-1866391200-1866402000@theworksatl.com
SUMMARY:Indie Market
DESCRIPTION:Chattahoochee Food Works is hosting an evening indie pop up shop every Wednesday 6pm-9pm. This market houses local businesses\, handcrafted goods\, thrifted items\, and more!
URL:https://theworksatl.com/event/indie-market-2/2029-02-21/
LOCATION:Chattahoochee Food Works\, 1235 Chattahoochee Ave NW Suite 130\, Atlanta\, GA\, 30318\, United States
CATEGORIES:Shopping
ATTACH;FMTTYPE=image/png:https://theworksatl.com/wp-content/uploads/2025/01/Indie-Market-CFW-4x4-2.png
END:VEVENT
BEGIN:VEVENT
DTSTART;TZID=UTC:20290224T110000
DTEND;TZID=UTC:20290224T150000
DTSTAMP:20260422T221532
CREATED:20260419T212437Z
LAST-MODIFIED:20260419T212437Z
UID:10003985-1866625200-1866639600@theworksatl.com
SUMMARY:Unlimited Gourmet Taco Tasting Experience
DESCRIPTION:Chichería Mexican Kitchen now offers an Unlimited Gourmet Taco Tasting Experience each week. Available every Saturday from 11 a.m. to 3 p.m.\, the experience features a rotating selection of chef-crafted tacos served continuously at the table. Guests can enjoy a variety of flavors including Baja Fish\, Coconut Shrimp\, Carne Asada and more\, all prepared on handmade blue corn tortillas pressed fresh daily. The tasting also includes chips\, dips and refreshing agua frescas.
URL:https://theworksatl.com/event/unlimited-gourmet-taco-tasting-experience/2029-02-24/
LOCATION:Chicheria Mexican Kitchen\, 202 Chattahoochee Row NW Suite C\, Atlanta\, GA\, 30318\, United States
CATEGORIES:Culinary,Family-Friendly
ATTACH;FMTTYPE=image/png:https://theworksatl.com/wp-content/uploads/2026/04/Taco-Tasting-Experience.png
END:VEVENT
BEGIN:VEVENT
DTSTART;TZID=UTC:20290225T110000
DTEND;TZID=UTC:20290225T150000
DTSTAMP:20260422T221532
CREATED:20251007T202810Z
LAST-MODIFIED:20251007T203037Z
UID:10002593-1866711600-1866726000@theworksatl.com
SUMMARY:Live Jazz Mexican Brunch Buffet
DESCRIPTION:Every Sunday from 11 a.m. to 3 p.m. at Chicheria Mexican Kitchen\, we invite you to enjoy live jazz music and a full Mexican buffet featuring breakfast classics\, meats\, pastries\, soups\, breads\, coffee and agua frescas.
URL:https://theworksatl.com/event/23924/2029-02-25/
LOCATION:Chicheria Mexican Kitchen\, 202 Chattahoochee Row NW Suite C\, Atlanta\, GA\, 30318\, United States
CATEGORIES:Culinary,Family-Friendly
ATTACH;FMTTYPE=image/jpeg:https://theworksatl.com/wp-content/uploads/2025/10/Chicheria-Brunch-Square.jpg
END:VEVENT
BEGIN:VEVENT
DTSTART;TZID=UTC:20290228T180000
DTEND;TZID=UTC:20290228T210000
DTSTAMP:20260422T221532
CREATED:20260106T155948Z
LAST-MODIFIED:20260106T155948Z
UID:10003365-1866996000-1867006800@theworksatl.com
SUMMARY:Indie Market
DESCRIPTION:Chattahoochee Food Works is hosting an evening indie pop up shop every Wednesday 6pm-9pm. This market houses local businesses\, handcrafted goods\, thrifted items\, and more!
URL:https://theworksatl.com/event/indie-market-2/2029-02-28/
LOCATION:Chattahoochee Food Works\, 1235 Chattahoochee Ave NW Suite 130\, Atlanta\, GA\, 30318\, United States
CATEGORIES:Shopping
ATTACH;FMTTYPE=image/png:https://theworksatl.com/wp-content/uploads/2025/01/Indie-Market-CFW-4x4-2.png
END:VEVENT
BEGIN:VEVENT
DTSTART;TZID=UTC:20290303T110000
DTEND;TZID=UTC:20290303T150000
DTSTAMP:20260422T221532
CREATED:20260419T212437Z
LAST-MODIFIED:20260419T212437Z
UID:10003986-1867230000-1867244400@theworksatl.com
SUMMARY:Unlimited Gourmet Taco Tasting Experience
DESCRIPTION:Chichería Mexican Kitchen now offers an Unlimited Gourmet Taco Tasting Experience each week. Available every Saturday from 11 a.m. to 3 p.m.\, the experience features a rotating selection of chef-crafted tacos served continuously at the table. Guests can enjoy a variety of flavors including Baja Fish\, Coconut Shrimp\, Carne Asada and more\, all prepared on handmade blue corn tortillas pressed fresh daily. The tasting also includes chips\, dips and refreshing agua frescas.
URL:https://theworksatl.com/event/unlimited-gourmet-taco-tasting-experience/2029-03-03/
LOCATION:Chicheria Mexican Kitchen\, 202 Chattahoochee Row NW Suite C\, Atlanta\, GA\, 30318\, United States
CATEGORIES:Culinary,Family-Friendly
ATTACH;FMTTYPE=image/png:https://theworksatl.com/wp-content/uploads/2026/04/Taco-Tasting-Experience.png
END:VEVENT
BEGIN:VEVENT
DTSTART;TZID=UTC:20290304T110000
DTEND;TZID=UTC:20290304T150000
DTSTAMP:20260422T221532
CREATED:20251007T202810Z
LAST-MODIFIED:20251007T203037Z
UID:10002594-1867316400-1867330800@theworksatl.com
SUMMARY:Live Jazz Mexican Brunch Buffet
DESCRIPTION:Every Sunday from 11 a.m. to 3 p.m. at Chicheria Mexican Kitchen\, we invite you to enjoy live jazz music and a full Mexican buffet featuring breakfast classics\, meats\, pastries\, soups\, breads\, coffee and agua frescas.
URL:https://theworksatl.com/event/23924/2029-03-04/
LOCATION:Chicheria Mexican Kitchen\, 202 Chattahoochee Row NW Suite C\, Atlanta\, GA\, 30318\, United States
CATEGORIES:Culinary,Family-Friendly
ATTACH;FMTTYPE=image/jpeg:https://theworksatl.com/wp-content/uploads/2025/10/Chicheria-Brunch-Square.jpg
END:VEVENT
BEGIN:VEVENT
DTSTART;TZID=UTC:20290307T180000
DTEND;TZID=UTC:20290307T210000
DTSTAMP:20260422T221532
CREATED:20260106T155948Z
LAST-MODIFIED:20260106T155948Z
UID:10003366-1867600800-1867611600@theworksatl.com
SUMMARY:Indie Market
DESCRIPTION:Chattahoochee Food Works is hosting an evening indie pop up shop every Wednesday 6pm-9pm. This market houses local businesses\, handcrafted goods\, thrifted items\, and more!
URL:https://theworksatl.com/event/indie-market-2/2029-03-07/
LOCATION:Chattahoochee Food Works\, 1235 Chattahoochee Ave NW Suite 130\, Atlanta\, GA\, 30318\, United States
CATEGORIES:Shopping
ATTACH;FMTTYPE=image/png:https://theworksatl.com/wp-content/uploads/2025/01/Indie-Market-CFW-4x4-2.png
END:VEVENT
BEGIN:VEVENT
DTSTART;TZID=UTC:20290310T110000
DTEND;TZID=UTC:20290310T150000
DTSTAMP:20260422T221532
CREATED:20260419T212437Z
LAST-MODIFIED:20260419T212437Z
UID:10003987-1867834800-1867849200@theworksatl.com
SUMMARY:Unlimited Gourmet Taco Tasting Experience
DESCRIPTION:Chichería Mexican Kitchen now offers an Unlimited Gourmet Taco Tasting Experience each week. Available every Saturday from 11 a.m. to 3 p.m.\, the experience features a rotating selection of chef-crafted tacos served continuously at the table. Guests can enjoy a variety of flavors including Baja Fish\, Coconut Shrimp\, Carne Asada and more\, all prepared on handmade blue corn tortillas pressed fresh daily. The tasting also includes chips\, dips and refreshing agua frescas.
URL:https://theworksatl.com/event/unlimited-gourmet-taco-tasting-experience/2029-03-10/
LOCATION:Chicheria Mexican Kitchen\, 202 Chattahoochee Row NW Suite C\, Atlanta\, GA\, 30318\, United States
CATEGORIES:Culinary,Family-Friendly
ATTACH;FMTTYPE=image/png:https://theworksatl.com/wp-content/uploads/2026/04/Taco-Tasting-Experience.png
END:VEVENT
BEGIN:VEVENT
DTSTART;TZID=UTC:20290311T110000
DTEND;TZID=UTC:20290311T150000
DTSTAMP:20260422T221532
CREATED:20251007T202810Z
LAST-MODIFIED:20251007T203037Z
UID:10002595-1867921200-1867935600@theworksatl.com
SUMMARY:Live Jazz Mexican Brunch Buffet
DESCRIPTION:Every Sunday from 11 a.m. to 3 p.m. at Chicheria Mexican Kitchen\, we invite you to enjoy live jazz music and a full Mexican buffet featuring breakfast classics\, meats\, pastries\, soups\, breads\, coffee and agua frescas.
URL:https://theworksatl.com/event/23924/2029-03-11/
LOCATION:Chicheria Mexican Kitchen\, 202 Chattahoochee Row NW Suite C\, Atlanta\, GA\, 30318\, United States
CATEGORIES:Culinary,Family-Friendly
ATTACH;FMTTYPE=image/jpeg:https://theworksatl.com/wp-content/uploads/2025/10/Chicheria-Brunch-Square.jpg
END:VEVENT
BEGIN:VEVENT
DTSTART;TZID=UTC:20290314T180000
DTEND;TZID=UTC:20290314T210000
DTSTAMP:20260422T221532
CREATED:20260106T155948Z
LAST-MODIFIED:20260106T155948Z
UID:10003367-1868205600-1868216400@theworksatl.com
SUMMARY:Indie Market
DESCRIPTION:Chattahoochee Food Works is hosting an evening indie pop up shop every Wednesday 6pm-9pm. This market houses local businesses\, handcrafted goods\, thrifted items\, and more!
URL:https://theworksatl.com/event/indie-market-2/2029-03-14/
LOCATION:Chattahoochee Food Works\, 1235 Chattahoochee Ave NW Suite 130\, Atlanta\, GA\, 30318\, United States
CATEGORIES:Shopping
ATTACH;FMTTYPE=image/png:https://theworksatl.com/wp-content/uploads/2025/01/Indie-Market-CFW-4x4-2.png
END:VEVENT
BEGIN:VEVENT
DTSTART;TZID=UTC:20290317T110000
DTEND;TZID=UTC:20290317T150000
DTSTAMP:20260422T221532
CREATED:20260419T212437Z
LAST-MODIFIED:20260419T212437Z
UID:10003988-1868439600-1868454000@theworksatl.com
SUMMARY:Unlimited Gourmet Taco Tasting Experience
DESCRIPTION:Chichería Mexican Kitchen now offers an Unlimited Gourmet Taco Tasting Experience each week. Available every Saturday from 11 a.m. to 3 p.m.\, the experience features a rotating selection of chef-crafted tacos served continuously at the table. Guests can enjoy a variety of flavors including Baja Fish\, Coconut Shrimp\, Carne Asada and more\, all prepared on handmade blue corn tortillas pressed fresh daily. The tasting also includes chips\, dips and refreshing agua frescas.
URL:https://theworksatl.com/event/unlimited-gourmet-taco-tasting-experience/2029-03-17/
LOCATION:Chicheria Mexican Kitchen\, 202 Chattahoochee Row NW Suite C\, Atlanta\, GA\, 30318\, United States
CATEGORIES:Culinary,Family-Friendly
ATTACH;FMTTYPE=image/png:https://theworksatl.com/wp-content/uploads/2026/04/Taco-Tasting-Experience.png
END:VEVENT
END:VCALENDAR