BEGIN:VCALENDAR
VERSION:2.0
PRODID:-//The Works - ECPv6.15.20//NONSGML v1.0//EN
CALSCALE:GREGORIAN
METHOD:PUBLISH
X-ORIGINAL-URL:https://theworksatl.com
X-WR-CALDESC:Events for The Works
REFRESH-INTERVAL;VALUE=DURATION:PT1H
X-Robots-Tag:noindex
X-PUBLISHED-TTL:PT1H
BEGIN:VTIMEZONE
TZID:UTC
BEGIN:STANDARD
TZOFFSETFROM:+0000
TZOFFSETTO:+0000
TZNAME:UTC
DTSTART:20270101T000000
END:STANDARD
END:VTIMEZONE
BEGIN:VEVENT
DTSTART;TZID=UTC:20280101T110000
DTEND;TZID=UTC:20280101T150000
DTSTAMP:20260420T074235
CREATED:20260419T212437Z
LAST-MODIFIED:20260419T212437Z
UID:10003925-1830337200-1830351600@theworksatl.com
SUMMARY:Unlimited Gourmet Taco Tasting Experience
DESCRIPTION:Chichería Mexican Kitchen now offers an Unlimited Gourmet Taco Tasting Experience each week. Available every Saturday from 11 a.m. to 3 p.m.\, the experience features a rotating selection of chef-crafted tacos served continuously at the table. Guests can enjoy a variety of flavors including Baja Fish\, Coconut Shrimp\, Carne Asada and more\, all prepared on handmade blue corn tortillas pressed fresh daily. The tasting also includes chips\, dips and refreshing agua frescas.
URL:https://theworksatl.com/event/unlimited-gourmet-taco-tasting-experience/2028-01-01/
LOCATION:Chicheria Mexican Kitchen\, 202 Chattahoochee Row NW Suite C\, Atlanta\, GA\, 30318\, United States
CATEGORIES:Culinary,Family-Friendly
ATTACH;FMTTYPE=image/png:https://theworksatl.com/wp-content/uploads/2026/04/Taco-Tasting-Experience.png
END:VEVENT
BEGIN:VEVENT
DTSTART;TZID=UTC:20280102T110000
DTEND;TZID=UTC:20280102T150000
DTSTAMP:20260420T074235
CREATED:20251007T202810Z
LAST-MODIFIED:20251007T203037Z
UID:10002533-1830423600-1830438000@theworksatl.com
SUMMARY:Live Jazz Mexican Brunch Buffet
DESCRIPTION:Every Sunday from 11 a.m. to 3 p.m. at Chicheria Mexican Kitchen\, we invite you to enjoy live jazz music and a full Mexican buffet featuring breakfast classics\, meats\, pastries\, soups\, breads\, coffee and agua frescas.
URL:https://theworksatl.com/event/23924/2028-01-02/
LOCATION:Chicheria Mexican Kitchen\, 202 Chattahoochee Row NW Suite C\, Atlanta\, GA\, 30318\, United States
CATEGORIES:Culinary,Family-Friendly
ATTACH;FMTTYPE=image/jpeg:https://theworksatl.com/wp-content/uploads/2025/10/Chicheria-Brunch-Square.jpg
END:VEVENT
BEGIN:VEVENT
DTSTART;TZID=UTC:20280105T180000
DTEND;TZID=UTC:20280105T210000
DTSTAMP:20260420T074235
CREATED:20260106T155948Z
LAST-MODIFIED:20260106T155948Z
UID:10003305-1830708000-1830718800@theworksatl.com
SUMMARY:Indie Market
DESCRIPTION:Chattahoochee Food Works is hosting an evening indie pop up shop every Wednesday 6pm-9pm. This market houses local businesses\, handcrafted goods\, thrifted items\, and more!
URL:https://theworksatl.com/event/indie-market-2/2028-01-05/
LOCATION:Chattahoochee Food Works\, 1235 Chattahoochee Ave NW Suite 130\, Atlanta\, GA\, 30318\, United States
CATEGORIES:Shopping
ATTACH;FMTTYPE=image/png:https://theworksatl.com/wp-content/uploads/2025/01/Indie-Market-CFW-4x4-2.png
END:VEVENT
BEGIN:VEVENT
DTSTART;TZID=UTC:20280108T110000
DTEND;TZID=UTC:20280108T150000
DTSTAMP:20260420T074235
CREATED:20260419T212437Z
LAST-MODIFIED:20260419T212437Z
UID:10003926-1830942000-1830956400@theworksatl.com
SUMMARY:Unlimited Gourmet Taco Tasting Experience
DESCRIPTION:Chichería Mexican Kitchen now offers an Unlimited Gourmet Taco Tasting Experience each week. Available every Saturday from 11 a.m. to 3 p.m.\, the experience features a rotating selection of chef-crafted tacos served continuously at the table. Guests can enjoy a variety of flavors including Baja Fish\, Coconut Shrimp\, Carne Asada and more\, all prepared on handmade blue corn tortillas pressed fresh daily. The tasting also includes chips\, dips and refreshing agua frescas.
URL:https://theworksatl.com/event/unlimited-gourmet-taco-tasting-experience/2028-01-08/
LOCATION:Chicheria Mexican Kitchen\, 202 Chattahoochee Row NW Suite C\, Atlanta\, GA\, 30318\, United States
CATEGORIES:Culinary,Family-Friendly
ATTACH;FMTTYPE=image/png:https://theworksatl.com/wp-content/uploads/2026/04/Taco-Tasting-Experience.png
END:VEVENT
BEGIN:VEVENT
DTSTART;TZID=UTC:20280109T110000
DTEND;TZID=UTC:20280109T150000
DTSTAMP:20260420T074235
CREATED:20251007T202810Z
LAST-MODIFIED:20251007T203037Z
UID:10002534-1831028400-1831042800@theworksatl.com
SUMMARY:Live Jazz Mexican Brunch Buffet
DESCRIPTION:Every Sunday from 11 a.m. to 3 p.m. at Chicheria Mexican Kitchen\, we invite you to enjoy live jazz music and a full Mexican buffet featuring breakfast classics\, meats\, pastries\, soups\, breads\, coffee and agua frescas.
URL:https://theworksatl.com/event/23924/2028-01-09/
LOCATION:Chicheria Mexican Kitchen\, 202 Chattahoochee Row NW Suite C\, Atlanta\, GA\, 30318\, United States
CATEGORIES:Culinary,Family-Friendly
ATTACH;FMTTYPE=image/jpeg:https://theworksatl.com/wp-content/uploads/2025/10/Chicheria-Brunch-Square.jpg
END:VEVENT
BEGIN:VEVENT
DTSTART;TZID=UTC:20280112T180000
DTEND;TZID=UTC:20280112T210000
DTSTAMP:20260420T074235
CREATED:20260106T155948Z
LAST-MODIFIED:20260106T155948Z
UID:10003306-1831312800-1831323600@theworksatl.com
SUMMARY:Indie Market
DESCRIPTION:Chattahoochee Food Works is hosting an evening indie pop up shop every Wednesday 6pm-9pm. This market houses local businesses\, handcrafted goods\, thrifted items\, and more!
URL:https://theworksatl.com/event/indie-market-2/2028-01-12/
LOCATION:Chattahoochee Food Works\, 1235 Chattahoochee Ave NW Suite 130\, Atlanta\, GA\, 30318\, United States
CATEGORIES:Shopping
ATTACH;FMTTYPE=image/png:https://theworksatl.com/wp-content/uploads/2025/01/Indie-Market-CFW-4x4-2.png
END:VEVENT
BEGIN:VEVENT
DTSTART;TZID=UTC:20280115T110000
DTEND;TZID=UTC:20280115T150000
DTSTAMP:20260420T074235
CREATED:20260419T212437Z
LAST-MODIFIED:20260419T212437Z
UID:10003927-1831546800-1831561200@theworksatl.com
SUMMARY:Unlimited Gourmet Taco Tasting Experience
DESCRIPTION:Chichería Mexican Kitchen now offers an Unlimited Gourmet Taco Tasting Experience each week. Available every Saturday from 11 a.m. to 3 p.m.\, the experience features a rotating selection of chef-crafted tacos served continuously at the table. Guests can enjoy a variety of flavors including Baja Fish\, Coconut Shrimp\, Carne Asada and more\, all prepared on handmade blue corn tortillas pressed fresh daily. The tasting also includes chips\, dips and refreshing agua frescas.
URL:https://theworksatl.com/event/unlimited-gourmet-taco-tasting-experience/2028-01-15/
LOCATION:Chicheria Mexican Kitchen\, 202 Chattahoochee Row NW Suite C\, Atlanta\, GA\, 30318\, United States
CATEGORIES:Culinary,Family-Friendly
ATTACH;FMTTYPE=image/png:https://theworksatl.com/wp-content/uploads/2026/04/Taco-Tasting-Experience.png
END:VEVENT
BEGIN:VEVENT
DTSTART;TZID=UTC:20280116T110000
DTEND;TZID=UTC:20280116T150000
DTSTAMP:20260420T074235
CREATED:20251007T202810Z
LAST-MODIFIED:20251007T203037Z
UID:10002535-1831633200-1831647600@theworksatl.com
SUMMARY:Live Jazz Mexican Brunch Buffet
DESCRIPTION:Every Sunday from 11 a.m. to 3 p.m. at Chicheria Mexican Kitchen\, we invite you to enjoy live jazz music and a full Mexican buffet featuring breakfast classics\, meats\, pastries\, soups\, breads\, coffee and agua frescas.
URL:https://theworksatl.com/event/23924/2028-01-16/
LOCATION:Chicheria Mexican Kitchen\, 202 Chattahoochee Row NW Suite C\, Atlanta\, GA\, 30318\, United States
CATEGORIES:Culinary,Family-Friendly
ATTACH;FMTTYPE=image/jpeg:https://theworksatl.com/wp-content/uploads/2025/10/Chicheria-Brunch-Square.jpg
END:VEVENT
BEGIN:VEVENT
DTSTART;TZID=UTC:20280119T180000
DTEND;TZID=UTC:20280119T210000
DTSTAMP:20260420T074235
CREATED:20260106T155948Z
LAST-MODIFIED:20260106T155948Z
UID:10003307-1831917600-1831928400@theworksatl.com
SUMMARY:Indie Market
DESCRIPTION:Chattahoochee Food Works is hosting an evening indie pop up shop every Wednesday 6pm-9pm. This market houses local businesses\, handcrafted goods\, thrifted items\, and more!
URL:https://theworksatl.com/event/indie-market-2/2028-01-19/
LOCATION:Chattahoochee Food Works\, 1235 Chattahoochee Ave NW Suite 130\, Atlanta\, GA\, 30318\, United States
CATEGORIES:Shopping
ATTACH;FMTTYPE=image/png:https://theworksatl.com/wp-content/uploads/2025/01/Indie-Market-CFW-4x4-2.png
END:VEVENT
BEGIN:VEVENT
DTSTART;TZID=UTC:20280122T110000
DTEND;TZID=UTC:20280122T150000
DTSTAMP:20260420T074235
CREATED:20260419T212437Z
LAST-MODIFIED:20260419T212437Z
UID:10003928-1832151600-1832166000@theworksatl.com
SUMMARY:Unlimited Gourmet Taco Tasting Experience
DESCRIPTION:Chichería Mexican Kitchen now offers an Unlimited Gourmet Taco Tasting Experience each week. Available every Saturday from 11 a.m. to 3 p.m.\, the experience features a rotating selection of chef-crafted tacos served continuously at the table. Guests can enjoy a variety of flavors including Baja Fish\, Coconut Shrimp\, Carne Asada and more\, all prepared on handmade blue corn tortillas pressed fresh daily. The tasting also includes chips\, dips and refreshing agua frescas.
URL:https://theworksatl.com/event/unlimited-gourmet-taco-tasting-experience/2028-01-22/
LOCATION:Chicheria Mexican Kitchen\, 202 Chattahoochee Row NW Suite C\, Atlanta\, GA\, 30318\, United States
CATEGORIES:Culinary,Family-Friendly
ATTACH;FMTTYPE=image/png:https://theworksatl.com/wp-content/uploads/2026/04/Taco-Tasting-Experience.png
END:VEVENT
BEGIN:VEVENT
DTSTART;TZID=UTC:20280123T110000
DTEND;TZID=UTC:20280123T150000
DTSTAMP:20260420T074235
CREATED:20251007T202810Z
LAST-MODIFIED:20251007T203037Z
UID:10002536-1832238000-1832252400@theworksatl.com
SUMMARY:Live Jazz Mexican Brunch Buffet
DESCRIPTION:Every Sunday from 11 a.m. to 3 p.m. at Chicheria Mexican Kitchen\, we invite you to enjoy live jazz music and a full Mexican buffet featuring breakfast classics\, meats\, pastries\, soups\, breads\, coffee and agua frescas.
URL:https://theworksatl.com/event/23924/2028-01-23/
LOCATION:Chicheria Mexican Kitchen\, 202 Chattahoochee Row NW Suite C\, Atlanta\, GA\, 30318\, United States
CATEGORIES:Culinary,Family-Friendly
ATTACH;FMTTYPE=image/jpeg:https://theworksatl.com/wp-content/uploads/2025/10/Chicheria-Brunch-Square.jpg
END:VEVENT
BEGIN:VEVENT
DTSTART;TZID=UTC:20280126T180000
DTEND;TZID=UTC:20280126T210000
DTSTAMP:20260420T074235
CREATED:20260106T155948Z
LAST-MODIFIED:20260106T155948Z
UID:10003308-1832522400-1832533200@theworksatl.com
SUMMARY:Indie Market
DESCRIPTION:Chattahoochee Food Works is hosting an evening indie pop up shop every Wednesday 6pm-9pm. This market houses local businesses\, handcrafted goods\, thrifted items\, and more!
URL:https://theworksatl.com/event/indie-market-2/2028-01-26/
LOCATION:Chattahoochee Food Works\, 1235 Chattahoochee Ave NW Suite 130\, Atlanta\, GA\, 30318\, United States
CATEGORIES:Shopping
ATTACH;FMTTYPE=image/png:https://theworksatl.com/wp-content/uploads/2025/01/Indie-Market-CFW-4x4-2.png
END:VEVENT
BEGIN:VEVENT
DTSTART;TZID=UTC:20280129T110000
DTEND;TZID=UTC:20280129T150000
DTSTAMP:20260420T074235
CREATED:20260419T212437Z
LAST-MODIFIED:20260419T212437Z
UID:10003929-1832756400-1832770800@theworksatl.com
SUMMARY:Unlimited Gourmet Taco Tasting Experience
DESCRIPTION:Chichería Mexican Kitchen now offers an Unlimited Gourmet Taco Tasting Experience each week. Available every Saturday from 11 a.m. to 3 p.m.\, the experience features a rotating selection of chef-crafted tacos served continuously at the table. Guests can enjoy a variety of flavors including Baja Fish\, Coconut Shrimp\, Carne Asada and more\, all prepared on handmade blue corn tortillas pressed fresh daily. The tasting also includes chips\, dips and refreshing agua frescas.
URL:https://theworksatl.com/event/unlimited-gourmet-taco-tasting-experience/2028-01-29/
LOCATION:Chicheria Mexican Kitchen\, 202 Chattahoochee Row NW Suite C\, Atlanta\, GA\, 30318\, United States
CATEGORIES:Culinary,Family-Friendly
ATTACH;FMTTYPE=image/png:https://theworksatl.com/wp-content/uploads/2026/04/Taco-Tasting-Experience.png
END:VEVENT
BEGIN:VEVENT
DTSTART;TZID=UTC:20280130T110000
DTEND;TZID=UTC:20280130T150000
DTSTAMP:20260420T074235
CREATED:20251007T202810Z
LAST-MODIFIED:20251007T203037Z
UID:10002537-1832842800-1832857200@theworksatl.com
SUMMARY:Live Jazz Mexican Brunch Buffet
DESCRIPTION:Every Sunday from 11 a.m. to 3 p.m. at Chicheria Mexican Kitchen\, we invite you to enjoy live jazz music and a full Mexican buffet featuring breakfast classics\, meats\, pastries\, soups\, breads\, coffee and agua frescas.
URL:https://theworksatl.com/event/23924/2028-01-30/
LOCATION:Chicheria Mexican Kitchen\, 202 Chattahoochee Row NW Suite C\, Atlanta\, GA\, 30318\, United States
CATEGORIES:Culinary,Family-Friendly
ATTACH;FMTTYPE=image/jpeg:https://theworksatl.com/wp-content/uploads/2025/10/Chicheria-Brunch-Square.jpg
END:VEVENT
BEGIN:VEVENT
DTSTART;TZID=UTC:20280202T180000
DTEND;TZID=UTC:20280202T210000
DTSTAMP:20260420T074235
CREATED:20260106T155948Z
LAST-MODIFIED:20260106T155948Z
UID:10003309-1833127200-1833138000@theworksatl.com
SUMMARY:Indie Market
DESCRIPTION:Chattahoochee Food Works is hosting an evening indie pop up shop every Wednesday 6pm-9pm. This market houses local businesses\, handcrafted goods\, thrifted items\, and more!
URL:https://theworksatl.com/event/indie-market-2/2028-02-02/
LOCATION:Chattahoochee Food Works\, 1235 Chattahoochee Ave NW Suite 130\, Atlanta\, GA\, 30318\, United States
CATEGORIES:Shopping
ATTACH;FMTTYPE=image/png:https://theworksatl.com/wp-content/uploads/2025/01/Indie-Market-CFW-4x4-2.png
END:VEVENT
BEGIN:VEVENT
DTSTART;TZID=UTC:20280205T110000
DTEND;TZID=UTC:20280205T150000
DTSTAMP:20260420T074235
CREATED:20260419T212437Z
LAST-MODIFIED:20260419T212437Z
UID:10003930-1833361200-1833375600@theworksatl.com
SUMMARY:Unlimited Gourmet Taco Tasting Experience
DESCRIPTION:Chichería Mexican Kitchen now offers an Unlimited Gourmet Taco Tasting Experience each week. Available every Saturday from 11 a.m. to 3 p.m.\, the experience features a rotating selection of chef-crafted tacos served continuously at the table. Guests can enjoy a variety of flavors including Baja Fish\, Coconut Shrimp\, Carne Asada and more\, all prepared on handmade blue corn tortillas pressed fresh daily. The tasting also includes chips\, dips and refreshing agua frescas.
URL:https://theworksatl.com/event/unlimited-gourmet-taco-tasting-experience/2028-02-05/
LOCATION:Chicheria Mexican Kitchen\, 202 Chattahoochee Row NW Suite C\, Atlanta\, GA\, 30318\, United States
CATEGORIES:Culinary,Family-Friendly
ATTACH;FMTTYPE=image/png:https://theworksatl.com/wp-content/uploads/2026/04/Taco-Tasting-Experience.png
END:VEVENT
BEGIN:VEVENT
DTSTART;TZID=UTC:20280206T110000
DTEND;TZID=UTC:20280206T150000
DTSTAMP:20260420T074235
CREATED:20251007T202810Z
LAST-MODIFIED:20251007T203037Z
UID:10002538-1833447600-1833462000@theworksatl.com
SUMMARY:Live Jazz Mexican Brunch Buffet
DESCRIPTION:Every Sunday from 11 a.m. to 3 p.m. at Chicheria Mexican Kitchen\, we invite you to enjoy live jazz music and a full Mexican buffet featuring breakfast classics\, meats\, pastries\, soups\, breads\, coffee and agua frescas.
URL:https://theworksatl.com/event/23924/2028-02-06/
LOCATION:Chicheria Mexican Kitchen\, 202 Chattahoochee Row NW Suite C\, Atlanta\, GA\, 30318\, United States
CATEGORIES:Culinary,Family-Friendly
ATTACH;FMTTYPE=image/jpeg:https://theworksatl.com/wp-content/uploads/2025/10/Chicheria-Brunch-Square.jpg
END:VEVENT
BEGIN:VEVENT
DTSTART;TZID=UTC:20280209T180000
DTEND;TZID=UTC:20280209T210000
DTSTAMP:20260420T074236
CREATED:20260106T155948Z
LAST-MODIFIED:20260106T155948Z
UID:10003310-1833732000-1833742800@theworksatl.com
SUMMARY:Indie Market
DESCRIPTION:Chattahoochee Food Works is hosting an evening indie pop up shop every Wednesday 6pm-9pm. This market houses local businesses\, handcrafted goods\, thrifted items\, and more!
URL:https://theworksatl.com/event/indie-market-2/2028-02-09/
LOCATION:Chattahoochee Food Works\, 1235 Chattahoochee Ave NW Suite 130\, Atlanta\, GA\, 30318\, United States
CATEGORIES:Shopping
ATTACH;FMTTYPE=image/png:https://theworksatl.com/wp-content/uploads/2025/01/Indie-Market-CFW-4x4-2.png
END:VEVENT
BEGIN:VEVENT
DTSTART;TZID=UTC:20280212T110000
DTEND;TZID=UTC:20280212T150000
DTSTAMP:20260420T074236
CREATED:20260419T212437Z
LAST-MODIFIED:20260419T212437Z
UID:10003931-1833966000-1833980400@theworksatl.com
SUMMARY:Unlimited Gourmet Taco Tasting Experience
DESCRIPTION:Chichería Mexican Kitchen now offers an Unlimited Gourmet Taco Tasting Experience each week. Available every Saturday from 11 a.m. to 3 p.m.\, the experience features a rotating selection of chef-crafted tacos served continuously at the table. Guests can enjoy a variety of flavors including Baja Fish\, Coconut Shrimp\, Carne Asada and more\, all prepared on handmade blue corn tortillas pressed fresh daily. The tasting also includes chips\, dips and refreshing agua frescas.
URL:https://theworksatl.com/event/unlimited-gourmet-taco-tasting-experience/2028-02-12/
LOCATION:Chicheria Mexican Kitchen\, 202 Chattahoochee Row NW Suite C\, Atlanta\, GA\, 30318\, United States
CATEGORIES:Culinary,Family-Friendly
ATTACH;FMTTYPE=image/png:https://theworksatl.com/wp-content/uploads/2026/04/Taco-Tasting-Experience.png
END:VEVENT
BEGIN:VEVENT
DTSTART;TZID=UTC:20280213T110000
DTEND;TZID=UTC:20280213T150000
DTSTAMP:20260420T074236
CREATED:20251007T202810Z
LAST-MODIFIED:20251007T203037Z
UID:10002539-1834052400-1834066800@theworksatl.com
SUMMARY:Live Jazz Mexican Brunch Buffet
DESCRIPTION:Every Sunday from 11 a.m. to 3 p.m. at Chicheria Mexican Kitchen\, we invite you to enjoy live jazz music and a full Mexican buffet featuring breakfast classics\, meats\, pastries\, soups\, breads\, coffee and agua frescas.
URL:https://theworksatl.com/event/23924/2028-02-13/
LOCATION:Chicheria Mexican Kitchen\, 202 Chattahoochee Row NW Suite C\, Atlanta\, GA\, 30318\, United States
CATEGORIES:Culinary,Family-Friendly
ATTACH;FMTTYPE=image/jpeg:https://theworksatl.com/wp-content/uploads/2025/10/Chicheria-Brunch-Square.jpg
END:VEVENT
BEGIN:VEVENT
DTSTART;TZID=UTC:20280216T180000
DTEND;TZID=UTC:20280216T210000
DTSTAMP:20260420T074236
CREATED:20260106T155948Z
LAST-MODIFIED:20260106T155948Z
UID:10003311-1834336800-1834347600@theworksatl.com
SUMMARY:Indie Market
DESCRIPTION:Chattahoochee Food Works is hosting an evening indie pop up shop every Wednesday 6pm-9pm. This market houses local businesses\, handcrafted goods\, thrifted items\, and more!
URL:https://theworksatl.com/event/indie-market-2/2028-02-16/
LOCATION:Chattahoochee Food Works\, 1235 Chattahoochee Ave NW Suite 130\, Atlanta\, GA\, 30318\, United States
CATEGORIES:Shopping
ATTACH;FMTTYPE=image/png:https://theworksatl.com/wp-content/uploads/2025/01/Indie-Market-CFW-4x4-2.png
END:VEVENT
BEGIN:VEVENT
DTSTART;TZID=UTC:20280219T110000
DTEND;TZID=UTC:20280219T150000
DTSTAMP:20260420T074236
CREATED:20260419T212437Z
LAST-MODIFIED:20260419T212437Z
UID:10003932-1834570800-1834585200@theworksatl.com
SUMMARY:Unlimited Gourmet Taco Tasting Experience
DESCRIPTION:Chichería Mexican Kitchen now offers an Unlimited Gourmet Taco Tasting Experience each week. Available every Saturday from 11 a.m. to 3 p.m.\, the experience features a rotating selection of chef-crafted tacos served continuously at the table. Guests can enjoy a variety of flavors including Baja Fish\, Coconut Shrimp\, Carne Asada and more\, all prepared on handmade blue corn tortillas pressed fresh daily. The tasting also includes chips\, dips and refreshing agua frescas.
URL:https://theworksatl.com/event/unlimited-gourmet-taco-tasting-experience/2028-02-19/
LOCATION:Chicheria Mexican Kitchen\, 202 Chattahoochee Row NW Suite C\, Atlanta\, GA\, 30318\, United States
CATEGORIES:Culinary,Family-Friendly
ATTACH;FMTTYPE=image/png:https://theworksatl.com/wp-content/uploads/2026/04/Taco-Tasting-Experience.png
END:VEVENT
BEGIN:VEVENT
DTSTART;TZID=UTC:20280220T110000
DTEND;TZID=UTC:20280220T150000
DTSTAMP:20260420T074236
CREATED:20251007T202810Z
LAST-MODIFIED:20251007T203037Z
UID:10002540-1834657200-1834671600@theworksatl.com
SUMMARY:Live Jazz Mexican Brunch Buffet
DESCRIPTION:Every Sunday from 11 a.m. to 3 p.m. at Chicheria Mexican Kitchen\, we invite you to enjoy live jazz music and a full Mexican buffet featuring breakfast classics\, meats\, pastries\, soups\, breads\, coffee and agua frescas.
URL:https://theworksatl.com/event/23924/2028-02-20/
LOCATION:Chicheria Mexican Kitchen\, 202 Chattahoochee Row NW Suite C\, Atlanta\, GA\, 30318\, United States
CATEGORIES:Culinary,Family-Friendly
ATTACH;FMTTYPE=image/jpeg:https://theworksatl.com/wp-content/uploads/2025/10/Chicheria-Brunch-Square.jpg
END:VEVENT
BEGIN:VEVENT
DTSTART;TZID=UTC:20280223T180000
DTEND;TZID=UTC:20280223T210000
DTSTAMP:20260420T074236
CREATED:20260106T155948Z
LAST-MODIFIED:20260106T155948Z
UID:10003312-1834941600-1834952400@theworksatl.com
SUMMARY:Indie Market
DESCRIPTION:Chattahoochee Food Works is hosting an evening indie pop up shop every Wednesday 6pm-9pm. This market houses local businesses\, handcrafted goods\, thrifted items\, and more!
URL:https://theworksatl.com/event/indie-market-2/2028-02-23/
LOCATION:Chattahoochee Food Works\, 1235 Chattahoochee Ave NW Suite 130\, Atlanta\, GA\, 30318\, United States
CATEGORIES:Shopping
ATTACH;FMTTYPE=image/png:https://theworksatl.com/wp-content/uploads/2025/01/Indie-Market-CFW-4x4-2.png
END:VEVENT
BEGIN:VEVENT
DTSTART;TZID=UTC:20280226T110000
DTEND;TZID=UTC:20280226T150000
DTSTAMP:20260420T074236
CREATED:20260419T212437Z
LAST-MODIFIED:20260419T212437Z
UID:10003933-1835175600-1835190000@theworksatl.com
SUMMARY:Unlimited Gourmet Taco Tasting Experience
DESCRIPTION:Chichería Mexican Kitchen now offers an Unlimited Gourmet Taco Tasting Experience each week. Available every Saturday from 11 a.m. to 3 p.m.\, the experience features a rotating selection of chef-crafted tacos served continuously at the table. Guests can enjoy a variety of flavors including Baja Fish\, Coconut Shrimp\, Carne Asada and more\, all prepared on handmade blue corn tortillas pressed fresh daily. The tasting also includes chips\, dips and refreshing agua frescas.
URL:https://theworksatl.com/event/unlimited-gourmet-taco-tasting-experience/2028-02-26/
LOCATION:Chicheria Mexican Kitchen\, 202 Chattahoochee Row NW Suite C\, Atlanta\, GA\, 30318\, United States
CATEGORIES:Culinary,Family-Friendly
ATTACH;FMTTYPE=image/png:https://theworksatl.com/wp-content/uploads/2026/04/Taco-Tasting-Experience.png
END:VEVENT
BEGIN:VEVENT
DTSTART;TZID=UTC:20280227T110000
DTEND;TZID=UTC:20280227T150000
DTSTAMP:20260420T074236
CREATED:20251007T202810Z
LAST-MODIFIED:20251007T203037Z
UID:10002541-1835262000-1835276400@theworksatl.com
SUMMARY:Live Jazz Mexican Brunch Buffet
DESCRIPTION:Every Sunday from 11 a.m. to 3 p.m. at Chicheria Mexican Kitchen\, we invite you to enjoy live jazz music and a full Mexican buffet featuring breakfast classics\, meats\, pastries\, soups\, breads\, coffee and agua frescas.
URL:https://theworksatl.com/event/23924/2028-02-27/
LOCATION:Chicheria Mexican Kitchen\, 202 Chattahoochee Row NW Suite C\, Atlanta\, GA\, 30318\, United States
CATEGORIES:Culinary,Family-Friendly
ATTACH;FMTTYPE=image/jpeg:https://theworksatl.com/wp-content/uploads/2025/10/Chicheria-Brunch-Square.jpg
END:VEVENT
BEGIN:VEVENT
DTSTART;TZID=UTC:20280301T180000
DTEND;TZID=UTC:20280301T210000
DTSTAMP:20260420T074236
CREATED:20260106T155948Z
LAST-MODIFIED:20260106T155948Z
UID:10003313-1835546400-1835557200@theworksatl.com
SUMMARY:Indie Market
DESCRIPTION:Chattahoochee Food Works is hosting an evening indie pop up shop every Wednesday 6pm-9pm. This market houses local businesses\, handcrafted goods\, thrifted items\, and more!
URL:https://theworksatl.com/event/indie-market-2/2028-03-01/
LOCATION:Chattahoochee Food Works\, 1235 Chattahoochee Ave NW Suite 130\, Atlanta\, GA\, 30318\, United States
CATEGORIES:Shopping
ATTACH;FMTTYPE=image/png:https://theworksatl.com/wp-content/uploads/2025/01/Indie-Market-CFW-4x4-2.png
END:VEVENT
BEGIN:VEVENT
DTSTART;TZID=UTC:20280304T110000
DTEND;TZID=UTC:20280304T150000
DTSTAMP:20260420T074236
CREATED:20260419T212437Z
LAST-MODIFIED:20260419T212437Z
UID:10003934-1835780400-1835794800@theworksatl.com
SUMMARY:Unlimited Gourmet Taco Tasting Experience
DESCRIPTION:Chichería Mexican Kitchen now offers an Unlimited Gourmet Taco Tasting Experience each week. Available every Saturday from 11 a.m. to 3 p.m.\, the experience features a rotating selection of chef-crafted tacos served continuously at the table. Guests can enjoy a variety of flavors including Baja Fish\, Coconut Shrimp\, Carne Asada and more\, all prepared on handmade blue corn tortillas pressed fresh daily. The tasting also includes chips\, dips and refreshing agua frescas.
URL:https://theworksatl.com/event/unlimited-gourmet-taco-tasting-experience/2028-03-04/
LOCATION:Chicheria Mexican Kitchen\, 202 Chattahoochee Row NW Suite C\, Atlanta\, GA\, 30318\, United States
CATEGORIES:Culinary,Family-Friendly
ATTACH;FMTTYPE=image/png:https://theworksatl.com/wp-content/uploads/2026/04/Taco-Tasting-Experience.png
END:VEVENT
BEGIN:VEVENT
DTSTART;TZID=UTC:20280305T110000
DTEND;TZID=UTC:20280305T150000
DTSTAMP:20260420T074236
CREATED:20251007T202810Z
LAST-MODIFIED:20251007T203037Z
UID:10002542-1835866800-1835881200@theworksatl.com
SUMMARY:Live Jazz Mexican Brunch Buffet
DESCRIPTION:Every Sunday from 11 a.m. to 3 p.m. at Chicheria Mexican Kitchen\, we invite you to enjoy live jazz music and a full Mexican buffet featuring breakfast classics\, meats\, pastries\, soups\, breads\, coffee and agua frescas.
URL:https://theworksatl.com/event/23924/2028-03-05/
LOCATION:Chicheria Mexican Kitchen\, 202 Chattahoochee Row NW Suite C\, Atlanta\, GA\, 30318\, United States
CATEGORIES:Culinary,Family-Friendly
ATTACH;FMTTYPE=image/jpeg:https://theworksatl.com/wp-content/uploads/2025/10/Chicheria-Brunch-Square.jpg
END:VEVENT
BEGIN:VEVENT
DTSTART;TZID=UTC:20280308T180000
DTEND;TZID=UTC:20280308T210000
DTSTAMP:20260420T074236
CREATED:20260106T155948Z
LAST-MODIFIED:20260106T155948Z
UID:10003314-1836151200-1836162000@theworksatl.com
SUMMARY:Indie Market
DESCRIPTION:Chattahoochee Food Works is hosting an evening indie pop up shop every Wednesday 6pm-9pm. This market houses local businesses\, handcrafted goods\, thrifted items\, and more!
URL:https://theworksatl.com/event/indie-market-2/2028-03-08/
LOCATION:Chattahoochee Food Works\, 1235 Chattahoochee Ave NW Suite 130\, Atlanta\, GA\, 30318\, United States
CATEGORIES:Shopping
ATTACH;FMTTYPE=image/png:https://theworksatl.com/wp-content/uploads/2025/01/Indie-Market-CFW-4x4-2.png
END:VEVENT
END:VCALENDAR