BEGIN:VCALENDAR
VERSION:2.0
PRODID:-//The Works - ECPv6.15.20//NONSGML v1.0//EN
CALSCALE:GREGORIAN
METHOD:PUBLISH
X-WR-CALNAME:The Works
X-ORIGINAL-URL:https://theworksatl.com
X-WR-CALDESC:Events for The Works
REFRESH-INTERVAL;VALUE=DURATION:PT1H
X-Robots-Tag:noindex
X-PUBLISHED-TTL:PT1H
BEGIN:VTIMEZONE
TZID:UTC
BEGIN:STANDARD
TZOFFSETFROM:+0000
TZOFFSETTO:+0000
TZNAME:UTC
DTSTART:20260101T000000
END:STANDARD
END:VTIMEZONE
BEGIN:VEVENT
DTSTART;TZID=UTC:20271009T110000
DTEND;TZID=UTC:20271009T150000
DTSTAMP:20260420T043311
CREATED:20260419T212437Z
LAST-MODIFIED:20260419T212437Z
UID:10003913-1823079600-1823094000@theworksatl.com
SUMMARY:Unlimited Gourmet Taco Tasting Experience
DESCRIPTION:Chichería Mexican Kitchen now offers an Unlimited Gourmet Taco Tasting Experience each week. Available every Saturday from 11 a.m. to 3 p.m.\, the experience features a rotating selection of chef-crafted tacos served continuously at the table. Guests can enjoy a variety of flavors including Baja Fish\, Coconut Shrimp\, Carne Asada and more\, all prepared on handmade blue corn tortillas pressed fresh daily. The tasting also includes chips\, dips and refreshing agua frescas.
URL:https://theworksatl.com/event/unlimited-gourmet-taco-tasting-experience/2027-10-09/
LOCATION:Chicheria Mexican Kitchen\, 202 Chattahoochee Row NW Suite C\, Atlanta\, GA\, 30318\, United States
CATEGORIES:Culinary,Family-Friendly
ATTACH;FMTTYPE=image/png:https://theworksatl.com/wp-content/uploads/2026/04/Taco-Tasting-Experience.png
END:VEVENT
BEGIN:VEVENT
DTSTART;TZID=UTC:20271010T110000
DTEND;TZID=UTC:20271010T150000
DTSTAMP:20260420T043311
CREATED:20251007T202810Z
LAST-MODIFIED:20251007T203037Z
UID:10002521-1823166000-1823180400@theworksatl.com
SUMMARY:Live Jazz Mexican Brunch Buffet
DESCRIPTION:Every Sunday from 11 a.m. to 3 p.m. at Chicheria Mexican Kitchen\, we invite you to enjoy live jazz music and a full Mexican buffet featuring breakfast classics\, meats\, pastries\, soups\, breads\, coffee and agua frescas.
URL:https://theworksatl.com/event/23924/2027-10-10/
LOCATION:Chicheria Mexican Kitchen\, 202 Chattahoochee Row NW Suite C\, Atlanta\, GA\, 30318\, United States
CATEGORIES:Culinary,Family-Friendly
ATTACH;FMTTYPE=image/jpeg:https://theworksatl.com/wp-content/uploads/2025/10/Chicheria-Brunch-Square.jpg
END:VEVENT
BEGIN:VEVENT
DTSTART;TZID=UTC:20271013T180000
DTEND;TZID=UTC:20271013T210000
DTSTAMP:20260420T043311
CREATED:20260106T155948Z
LAST-MODIFIED:20260106T155948Z
UID:10003293-1823450400-1823461200@theworksatl.com
SUMMARY:Indie Market
DESCRIPTION:Chattahoochee Food Works is hosting an evening indie pop up shop every Wednesday 6pm-9pm. This market houses local businesses\, handcrafted goods\, thrifted items\, and more!
URL:https://theworksatl.com/event/indie-market-2/2027-10-13/
LOCATION:Chattahoochee Food Works\, 1235 Chattahoochee Ave NW Suite 130\, Atlanta\, GA\, 30318\, United States
CATEGORIES:Shopping
ATTACH;FMTTYPE=image/png:https://theworksatl.com/wp-content/uploads/2025/01/Indie-Market-CFW-4x4-2.png
END:VEVENT
BEGIN:VEVENT
DTSTART;TZID=UTC:20271016T110000
DTEND;TZID=UTC:20271016T150000
DTSTAMP:20260420T043311
CREATED:20260419T212437Z
LAST-MODIFIED:20260419T212437Z
UID:10003914-1823684400-1823698800@theworksatl.com
SUMMARY:Unlimited Gourmet Taco Tasting Experience
DESCRIPTION:Chichería Mexican Kitchen now offers an Unlimited Gourmet Taco Tasting Experience each week. Available every Saturday from 11 a.m. to 3 p.m.\, the experience features a rotating selection of chef-crafted tacos served continuously at the table. Guests can enjoy a variety of flavors including Baja Fish\, Coconut Shrimp\, Carne Asada and more\, all prepared on handmade blue corn tortillas pressed fresh daily. The tasting also includes chips\, dips and refreshing agua frescas.
URL:https://theworksatl.com/event/unlimited-gourmet-taco-tasting-experience/2027-10-16/
LOCATION:Chicheria Mexican Kitchen\, 202 Chattahoochee Row NW Suite C\, Atlanta\, GA\, 30318\, United States
CATEGORIES:Culinary,Family-Friendly
ATTACH;FMTTYPE=image/png:https://theworksatl.com/wp-content/uploads/2026/04/Taco-Tasting-Experience.png
END:VEVENT
BEGIN:VEVENT
DTSTART;TZID=UTC:20271017T110000
DTEND;TZID=UTC:20271017T150000
DTSTAMP:20260420T043311
CREATED:20251007T202810Z
LAST-MODIFIED:20251007T203037Z
UID:10002522-1823770800-1823785200@theworksatl.com
SUMMARY:Live Jazz Mexican Brunch Buffet
DESCRIPTION:Every Sunday from 11 a.m. to 3 p.m. at Chicheria Mexican Kitchen\, we invite you to enjoy live jazz music and a full Mexican buffet featuring breakfast classics\, meats\, pastries\, soups\, breads\, coffee and agua frescas.
URL:https://theworksatl.com/event/23924/2027-10-17/
LOCATION:Chicheria Mexican Kitchen\, 202 Chattahoochee Row NW Suite C\, Atlanta\, GA\, 30318\, United States
CATEGORIES:Culinary,Family-Friendly
ATTACH;FMTTYPE=image/jpeg:https://theworksatl.com/wp-content/uploads/2025/10/Chicheria-Brunch-Square.jpg
END:VEVENT
BEGIN:VEVENT
DTSTART;TZID=UTC:20271020T180000
DTEND;TZID=UTC:20271020T210000
DTSTAMP:20260420T043311
CREATED:20260106T155948Z
LAST-MODIFIED:20260106T155948Z
UID:10003294-1824055200-1824066000@theworksatl.com
SUMMARY:Indie Market
DESCRIPTION:Chattahoochee Food Works is hosting an evening indie pop up shop every Wednesday 6pm-9pm. This market houses local businesses\, handcrafted goods\, thrifted items\, and more!
URL:https://theworksatl.com/event/indie-market-2/2027-10-20/
LOCATION:Chattahoochee Food Works\, 1235 Chattahoochee Ave NW Suite 130\, Atlanta\, GA\, 30318\, United States
CATEGORIES:Shopping
ATTACH;FMTTYPE=image/png:https://theworksatl.com/wp-content/uploads/2025/01/Indie-Market-CFW-4x4-2.png
END:VEVENT
BEGIN:VEVENT
DTSTART;TZID=UTC:20271023T110000
DTEND;TZID=UTC:20271023T150000
DTSTAMP:20260420T043311
CREATED:20260419T212437Z
LAST-MODIFIED:20260419T212437Z
UID:10003915-1824289200-1824303600@theworksatl.com
SUMMARY:Unlimited Gourmet Taco Tasting Experience
DESCRIPTION:Chichería Mexican Kitchen now offers an Unlimited Gourmet Taco Tasting Experience each week. Available every Saturday from 11 a.m. to 3 p.m.\, the experience features a rotating selection of chef-crafted tacos served continuously at the table. Guests can enjoy a variety of flavors including Baja Fish\, Coconut Shrimp\, Carne Asada and more\, all prepared on handmade blue corn tortillas pressed fresh daily. The tasting also includes chips\, dips and refreshing agua frescas.
URL:https://theworksatl.com/event/unlimited-gourmet-taco-tasting-experience/2027-10-23/
LOCATION:Chicheria Mexican Kitchen\, 202 Chattahoochee Row NW Suite C\, Atlanta\, GA\, 30318\, United States
CATEGORIES:Culinary,Family-Friendly
ATTACH;FMTTYPE=image/png:https://theworksatl.com/wp-content/uploads/2026/04/Taco-Tasting-Experience.png
END:VEVENT
BEGIN:VEVENT
DTSTART;TZID=UTC:20271024T110000
DTEND;TZID=UTC:20271024T150000
DTSTAMP:20260420T043311
CREATED:20251007T202810Z
LAST-MODIFIED:20251007T203037Z
UID:10002523-1824375600-1824390000@theworksatl.com
SUMMARY:Live Jazz Mexican Brunch Buffet
DESCRIPTION:Every Sunday from 11 a.m. to 3 p.m. at Chicheria Mexican Kitchen\, we invite you to enjoy live jazz music and a full Mexican buffet featuring breakfast classics\, meats\, pastries\, soups\, breads\, coffee and agua frescas.
URL:https://theworksatl.com/event/23924/2027-10-24/
LOCATION:Chicheria Mexican Kitchen\, 202 Chattahoochee Row NW Suite C\, Atlanta\, GA\, 30318\, United States
CATEGORIES:Culinary,Family-Friendly
ATTACH;FMTTYPE=image/jpeg:https://theworksatl.com/wp-content/uploads/2025/10/Chicheria-Brunch-Square.jpg
END:VEVENT
BEGIN:VEVENT
DTSTART;TZID=UTC:20271027T180000
DTEND;TZID=UTC:20271027T210000
DTSTAMP:20260420T043311
CREATED:20260106T155948Z
LAST-MODIFIED:20260106T155948Z
UID:10003295-1824660000-1824670800@theworksatl.com
SUMMARY:Indie Market
DESCRIPTION:Chattahoochee Food Works is hosting an evening indie pop up shop every Wednesday 6pm-9pm. This market houses local businesses\, handcrafted goods\, thrifted items\, and more!
URL:https://theworksatl.com/event/indie-market-2/2027-10-27/
LOCATION:Chattahoochee Food Works\, 1235 Chattahoochee Ave NW Suite 130\, Atlanta\, GA\, 30318\, United States
CATEGORIES:Shopping
ATTACH;FMTTYPE=image/png:https://theworksatl.com/wp-content/uploads/2025/01/Indie-Market-CFW-4x4-2.png
END:VEVENT
BEGIN:VEVENT
DTSTART;TZID=UTC:20271030T110000
DTEND;TZID=UTC:20271030T150000
DTSTAMP:20260420T043311
CREATED:20260419T212437Z
LAST-MODIFIED:20260419T212437Z
UID:10003916-1824894000-1824908400@theworksatl.com
SUMMARY:Unlimited Gourmet Taco Tasting Experience
DESCRIPTION:Chichería Mexican Kitchen now offers an Unlimited Gourmet Taco Tasting Experience each week. Available every Saturday from 11 a.m. to 3 p.m.\, the experience features a rotating selection of chef-crafted tacos served continuously at the table. Guests can enjoy a variety of flavors including Baja Fish\, Coconut Shrimp\, Carne Asada and more\, all prepared on handmade blue corn tortillas pressed fresh daily. The tasting also includes chips\, dips and refreshing agua frescas.
URL:https://theworksatl.com/event/unlimited-gourmet-taco-tasting-experience/2027-10-30/
LOCATION:Chicheria Mexican Kitchen\, 202 Chattahoochee Row NW Suite C\, Atlanta\, GA\, 30318\, United States
CATEGORIES:Culinary,Family-Friendly
ATTACH;FMTTYPE=image/png:https://theworksatl.com/wp-content/uploads/2026/04/Taco-Tasting-Experience.png
END:VEVENT
BEGIN:VEVENT
DTSTART;TZID=UTC:20271031T110000
DTEND;TZID=UTC:20271031T150000
DTSTAMP:20260420T043311
CREATED:20251007T202810Z
LAST-MODIFIED:20251007T203037Z
UID:10002524-1824980400-1824994800@theworksatl.com
SUMMARY:Live Jazz Mexican Brunch Buffet
DESCRIPTION:Every Sunday from 11 a.m. to 3 p.m. at Chicheria Mexican Kitchen\, we invite you to enjoy live jazz music and a full Mexican buffet featuring breakfast classics\, meats\, pastries\, soups\, breads\, coffee and agua frescas.
URL:https://theworksatl.com/event/23924/2027-10-31/
LOCATION:Chicheria Mexican Kitchen\, 202 Chattahoochee Row NW Suite C\, Atlanta\, GA\, 30318\, United States
CATEGORIES:Culinary,Family-Friendly
ATTACH;FMTTYPE=image/jpeg:https://theworksatl.com/wp-content/uploads/2025/10/Chicheria-Brunch-Square.jpg
END:VEVENT
BEGIN:VEVENT
DTSTART;TZID=UTC:20271103T180000
DTEND;TZID=UTC:20271103T210000
DTSTAMP:20260420T043311
CREATED:20260106T155948Z
LAST-MODIFIED:20260106T155948Z
UID:10003296-1825264800-1825275600@theworksatl.com
SUMMARY:Indie Market
DESCRIPTION:Chattahoochee Food Works is hosting an evening indie pop up shop every Wednesday 6pm-9pm. This market houses local businesses\, handcrafted goods\, thrifted items\, and more!
URL:https://theworksatl.com/event/indie-market-2/2027-11-03/
LOCATION:Chattahoochee Food Works\, 1235 Chattahoochee Ave NW Suite 130\, Atlanta\, GA\, 30318\, United States
CATEGORIES:Shopping
ATTACH;FMTTYPE=image/png:https://theworksatl.com/wp-content/uploads/2025/01/Indie-Market-CFW-4x4-2.png
END:VEVENT
BEGIN:VEVENT
DTSTART;TZID=UTC:20271106T110000
DTEND;TZID=UTC:20271106T150000
DTSTAMP:20260420T043311
CREATED:20260419T212437Z
LAST-MODIFIED:20260419T212437Z
UID:10003917-1825498800-1825513200@theworksatl.com
SUMMARY:Unlimited Gourmet Taco Tasting Experience
DESCRIPTION:Chichería Mexican Kitchen now offers an Unlimited Gourmet Taco Tasting Experience each week. Available every Saturday from 11 a.m. to 3 p.m.\, the experience features a rotating selection of chef-crafted tacos served continuously at the table. Guests can enjoy a variety of flavors including Baja Fish\, Coconut Shrimp\, Carne Asada and more\, all prepared on handmade blue corn tortillas pressed fresh daily. The tasting also includes chips\, dips and refreshing agua frescas.
URL:https://theworksatl.com/event/unlimited-gourmet-taco-tasting-experience/2027-11-06/
LOCATION:Chicheria Mexican Kitchen\, 202 Chattahoochee Row NW Suite C\, Atlanta\, GA\, 30318\, United States
CATEGORIES:Culinary,Family-Friendly
ATTACH;FMTTYPE=image/png:https://theworksatl.com/wp-content/uploads/2026/04/Taco-Tasting-Experience.png
END:VEVENT
BEGIN:VEVENT
DTSTART;TZID=UTC:20271107T110000
DTEND;TZID=UTC:20271107T150000
DTSTAMP:20260420T043311
CREATED:20251007T202810Z
LAST-MODIFIED:20251007T203037Z
UID:10002525-1825585200-1825599600@theworksatl.com
SUMMARY:Live Jazz Mexican Brunch Buffet
DESCRIPTION:Every Sunday from 11 a.m. to 3 p.m. at Chicheria Mexican Kitchen\, we invite you to enjoy live jazz music and a full Mexican buffet featuring breakfast classics\, meats\, pastries\, soups\, breads\, coffee and agua frescas.
URL:https://theworksatl.com/event/23924/2027-11-07/
LOCATION:Chicheria Mexican Kitchen\, 202 Chattahoochee Row NW Suite C\, Atlanta\, GA\, 30318\, United States
CATEGORIES:Culinary,Family-Friendly
ATTACH;FMTTYPE=image/jpeg:https://theworksatl.com/wp-content/uploads/2025/10/Chicheria-Brunch-Square.jpg
END:VEVENT
BEGIN:VEVENT
DTSTART;TZID=UTC:20271110T180000
DTEND;TZID=UTC:20271110T210000
DTSTAMP:20260420T043311
CREATED:20260106T155948Z
LAST-MODIFIED:20260106T155948Z
UID:10003297-1825869600-1825880400@theworksatl.com
SUMMARY:Indie Market
DESCRIPTION:Chattahoochee Food Works is hosting an evening indie pop up shop every Wednesday 6pm-9pm. This market houses local businesses\, handcrafted goods\, thrifted items\, and more!
URL:https://theworksatl.com/event/indie-market-2/2027-11-10/
LOCATION:Chattahoochee Food Works\, 1235 Chattahoochee Ave NW Suite 130\, Atlanta\, GA\, 30318\, United States
CATEGORIES:Shopping
ATTACH;FMTTYPE=image/png:https://theworksatl.com/wp-content/uploads/2025/01/Indie-Market-CFW-4x4-2.png
END:VEVENT
BEGIN:VEVENT
DTSTART;TZID=UTC:20271113T110000
DTEND;TZID=UTC:20271113T150000
DTSTAMP:20260420T043311
CREATED:20260419T212437Z
LAST-MODIFIED:20260419T212437Z
UID:10003918-1826103600-1826118000@theworksatl.com
SUMMARY:Unlimited Gourmet Taco Tasting Experience
DESCRIPTION:Chichería Mexican Kitchen now offers an Unlimited Gourmet Taco Tasting Experience each week. Available every Saturday from 11 a.m. to 3 p.m.\, the experience features a rotating selection of chef-crafted tacos served continuously at the table. Guests can enjoy a variety of flavors including Baja Fish\, Coconut Shrimp\, Carne Asada and more\, all prepared on handmade blue corn tortillas pressed fresh daily. The tasting also includes chips\, dips and refreshing agua frescas.
URL:https://theworksatl.com/event/unlimited-gourmet-taco-tasting-experience/2027-11-13/
LOCATION:Chicheria Mexican Kitchen\, 202 Chattahoochee Row NW Suite C\, Atlanta\, GA\, 30318\, United States
CATEGORIES:Culinary,Family-Friendly
ATTACH;FMTTYPE=image/png:https://theworksatl.com/wp-content/uploads/2026/04/Taco-Tasting-Experience.png
END:VEVENT
BEGIN:VEVENT
DTSTART;TZID=UTC:20271114T110000
DTEND;TZID=UTC:20271114T150000
DTSTAMP:20260420T043311
CREATED:20251007T202810Z
LAST-MODIFIED:20251007T203037Z
UID:10002526-1826190000-1826204400@theworksatl.com
SUMMARY:Live Jazz Mexican Brunch Buffet
DESCRIPTION:Every Sunday from 11 a.m. to 3 p.m. at Chicheria Mexican Kitchen\, we invite you to enjoy live jazz music and a full Mexican buffet featuring breakfast classics\, meats\, pastries\, soups\, breads\, coffee and agua frescas.
URL:https://theworksatl.com/event/23924/2027-11-14/
LOCATION:Chicheria Mexican Kitchen\, 202 Chattahoochee Row NW Suite C\, Atlanta\, GA\, 30318\, United States
CATEGORIES:Culinary,Family-Friendly
ATTACH;FMTTYPE=image/jpeg:https://theworksatl.com/wp-content/uploads/2025/10/Chicheria-Brunch-Square.jpg
END:VEVENT
BEGIN:VEVENT
DTSTART;TZID=UTC:20271117T180000
DTEND;TZID=UTC:20271117T210000
DTSTAMP:20260420T043311
CREATED:20260106T155948Z
LAST-MODIFIED:20260106T155948Z
UID:10003298-1826474400-1826485200@theworksatl.com
SUMMARY:Indie Market
DESCRIPTION:Chattahoochee Food Works is hosting an evening indie pop up shop every Wednesday 6pm-9pm. This market houses local businesses\, handcrafted goods\, thrifted items\, and more!
URL:https://theworksatl.com/event/indie-market-2/2027-11-17/
LOCATION:Chattahoochee Food Works\, 1235 Chattahoochee Ave NW Suite 130\, Atlanta\, GA\, 30318\, United States
CATEGORIES:Shopping
ATTACH;FMTTYPE=image/png:https://theworksatl.com/wp-content/uploads/2025/01/Indie-Market-CFW-4x4-2.png
END:VEVENT
BEGIN:VEVENT
DTSTART;TZID=UTC:20271120T110000
DTEND;TZID=UTC:20271120T150000
DTSTAMP:20260420T043311
CREATED:20260419T212437Z
LAST-MODIFIED:20260419T212437Z
UID:10003919-1826708400-1826722800@theworksatl.com
SUMMARY:Unlimited Gourmet Taco Tasting Experience
DESCRIPTION:Chichería Mexican Kitchen now offers an Unlimited Gourmet Taco Tasting Experience each week. Available every Saturday from 11 a.m. to 3 p.m.\, the experience features a rotating selection of chef-crafted tacos served continuously at the table. Guests can enjoy a variety of flavors including Baja Fish\, Coconut Shrimp\, Carne Asada and more\, all prepared on handmade blue corn tortillas pressed fresh daily. The tasting also includes chips\, dips and refreshing agua frescas.
URL:https://theworksatl.com/event/unlimited-gourmet-taco-tasting-experience/2027-11-20/
LOCATION:Chicheria Mexican Kitchen\, 202 Chattahoochee Row NW Suite C\, Atlanta\, GA\, 30318\, United States
CATEGORIES:Culinary,Family-Friendly
ATTACH;FMTTYPE=image/png:https://theworksatl.com/wp-content/uploads/2026/04/Taco-Tasting-Experience.png
END:VEVENT
BEGIN:VEVENT
DTSTART;TZID=UTC:20271121T110000
DTEND;TZID=UTC:20271121T150000
DTSTAMP:20260420T043311
CREATED:20251007T202810Z
LAST-MODIFIED:20251007T203037Z
UID:10002527-1826794800-1826809200@theworksatl.com
SUMMARY:Live Jazz Mexican Brunch Buffet
DESCRIPTION:Every Sunday from 11 a.m. to 3 p.m. at Chicheria Mexican Kitchen\, we invite you to enjoy live jazz music and a full Mexican buffet featuring breakfast classics\, meats\, pastries\, soups\, breads\, coffee and agua frescas.
URL:https://theworksatl.com/event/23924/2027-11-21/
LOCATION:Chicheria Mexican Kitchen\, 202 Chattahoochee Row NW Suite C\, Atlanta\, GA\, 30318\, United States
CATEGORIES:Culinary,Family-Friendly
ATTACH;FMTTYPE=image/jpeg:https://theworksatl.com/wp-content/uploads/2025/10/Chicheria-Brunch-Square.jpg
END:VEVENT
BEGIN:VEVENT
DTSTART;TZID=UTC:20271124T180000
DTEND;TZID=UTC:20271124T210000
DTSTAMP:20260420T043311
CREATED:20260106T155948Z
LAST-MODIFIED:20260106T155948Z
UID:10003299-1827079200-1827090000@theworksatl.com
SUMMARY:Indie Market
DESCRIPTION:Chattahoochee Food Works is hosting an evening indie pop up shop every Wednesday 6pm-9pm. This market houses local businesses\, handcrafted goods\, thrifted items\, and more!
URL:https://theworksatl.com/event/indie-market-2/2027-11-24/
LOCATION:Chattahoochee Food Works\, 1235 Chattahoochee Ave NW Suite 130\, Atlanta\, GA\, 30318\, United States
CATEGORIES:Shopping
ATTACH;FMTTYPE=image/png:https://theworksatl.com/wp-content/uploads/2025/01/Indie-Market-CFW-4x4-2.png
END:VEVENT
BEGIN:VEVENT
DTSTART;TZID=UTC:20271127T110000
DTEND;TZID=UTC:20271127T150000
DTSTAMP:20260420T043311
CREATED:20260419T212437Z
LAST-MODIFIED:20260419T212437Z
UID:10003920-1827313200-1827327600@theworksatl.com
SUMMARY:Unlimited Gourmet Taco Tasting Experience
DESCRIPTION:Chichería Mexican Kitchen now offers an Unlimited Gourmet Taco Tasting Experience each week. Available every Saturday from 11 a.m. to 3 p.m.\, the experience features a rotating selection of chef-crafted tacos served continuously at the table. Guests can enjoy a variety of flavors including Baja Fish\, Coconut Shrimp\, Carne Asada and more\, all prepared on handmade blue corn tortillas pressed fresh daily. The tasting also includes chips\, dips and refreshing agua frescas.
URL:https://theworksatl.com/event/unlimited-gourmet-taco-tasting-experience/2027-11-27/
LOCATION:Chicheria Mexican Kitchen\, 202 Chattahoochee Row NW Suite C\, Atlanta\, GA\, 30318\, United States
CATEGORIES:Culinary,Family-Friendly
ATTACH;FMTTYPE=image/png:https://theworksatl.com/wp-content/uploads/2026/04/Taco-Tasting-Experience.png
END:VEVENT
BEGIN:VEVENT
DTSTART;TZID=UTC:20271128T110000
DTEND;TZID=UTC:20271128T150000
DTSTAMP:20260420T043311
CREATED:20251007T202810Z
LAST-MODIFIED:20251007T203037Z
UID:10002528-1827399600-1827414000@theworksatl.com
SUMMARY:Live Jazz Mexican Brunch Buffet
DESCRIPTION:Every Sunday from 11 a.m. to 3 p.m. at Chicheria Mexican Kitchen\, we invite you to enjoy live jazz music and a full Mexican buffet featuring breakfast classics\, meats\, pastries\, soups\, breads\, coffee and agua frescas.
URL:https://theworksatl.com/event/23924/2027-11-28/
LOCATION:Chicheria Mexican Kitchen\, 202 Chattahoochee Row NW Suite C\, Atlanta\, GA\, 30318\, United States
CATEGORIES:Culinary,Family-Friendly
ATTACH;FMTTYPE=image/jpeg:https://theworksatl.com/wp-content/uploads/2025/10/Chicheria-Brunch-Square.jpg
END:VEVENT
BEGIN:VEVENT
DTSTART;TZID=UTC:20271201T180000
DTEND;TZID=UTC:20271201T210000
DTSTAMP:20260420T043311
CREATED:20260106T155948Z
LAST-MODIFIED:20260106T155948Z
UID:10003300-1827684000-1827694800@theworksatl.com
SUMMARY:Indie Market
DESCRIPTION:Chattahoochee Food Works is hosting an evening indie pop up shop every Wednesday 6pm-9pm. This market houses local businesses\, handcrafted goods\, thrifted items\, and more!
URL:https://theworksatl.com/event/indie-market-2/2027-12-01/
LOCATION:Chattahoochee Food Works\, 1235 Chattahoochee Ave NW Suite 130\, Atlanta\, GA\, 30318\, United States
CATEGORIES:Shopping
ATTACH;FMTTYPE=image/png:https://theworksatl.com/wp-content/uploads/2025/01/Indie-Market-CFW-4x4-2.png
END:VEVENT
BEGIN:VEVENT
DTSTART;TZID=UTC:20271204T110000
DTEND;TZID=UTC:20271204T150000
DTSTAMP:20260420T043311
CREATED:20260419T212437Z
LAST-MODIFIED:20260419T212437Z
UID:10003921-1827918000-1827932400@theworksatl.com
SUMMARY:Unlimited Gourmet Taco Tasting Experience
DESCRIPTION:Chichería Mexican Kitchen now offers an Unlimited Gourmet Taco Tasting Experience each week. Available every Saturday from 11 a.m. to 3 p.m.\, the experience features a rotating selection of chef-crafted tacos served continuously at the table. Guests can enjoy a variety of flavors including Baja Fish\, Coconut Shrimp\, Carne Asada and more\, all prepared on handmade blue corn tortillas pressed fresh daily. The tasting also includes chips\, dips and refreshing agua frescas.
URL:https://theworksatl.com/event/unlimited-gourmet-taco-tasting-experience/2027-12-04/
LOCATION:Chicheria Mexican Kitchen\, 202 Chattahoochee Row NW Suite C\, Atlanta\, GA\, 30318\, United States
CATEGORIES:Culinary,Family-Friendly
ATTACH;FMTTYPE=image/png:https://theworksatl.com/wp-content/uploads/2026/04/Taco-Tasting-Experience.png
END:VEVENT
BEGIN:VEVENT
DTSTART;TZID=UTC:20271205T110000
DTEND;TZID=UTC:20271205T150000
DTSTAMP:20260420T043311
CREATED:20251007T202810Z
LAST-MODIFIED:20251007T203037Z
UID:10002529-1828004400-1828018800@theworksatl.com
SUMMARY:Live Jazz Mexican Brunch Buffet
DESCRIPTION:Every Sunday from 11 a.m. to 3 p.m. at Chicheria Mexican Kitchen\, we invite you to enjoy live jazz music and a full Mexican buffet featuring breakfast classics\, meats\, pastries\, soups\, breads\, coffee and agua frescas.
URL:https://theworksatl.com/event/23924/2027-12-05/
LOCATION:Chicheria Mexican Kitchen\, 202 Chattahoochee Row NW Suite C\, Atlanta\, GA\, 30318\, United States
CATEGORIES:Culinary,Family-Friendly
ATTACH;FMTTYPE=image/jpeg:https://theworksatl.com/wp-content/uploads/2025/10/Chicheria-Brunch-Square.jpg
END:VEVENT
BEGIN:VEVENT
DTSTART;TZID=UTC:20271208T180000
DTEND;TZID=UTC:20271208T210000
DTSTAMP:20260420T043311
CREATED:20260106T155948Z
LAST-MODIFIED:20260106T155948Z
UID:10003301-1828288800-1828299600@theworksatl.com
SUMMARY:Indie Market
DESCRIPTION:Chattahoochee Food Works is hosting an evening indie pop up shop every Wednesday 6pm-9pm. This market houses local businesses\, handcrafted goods\, thrifted items\, and more!
URL:https://theworksatl.com/event/indie-market-2/2027-12-08/
LOCATION:Chattahoochee Food Works\, 1235 Chattahoochee Ave NW Suite 130\, Atlanta\, GA\, 30318\, United States
CATEGORIES:Shopping
ATTACH;FMTTYPE=image/png:https://theworksatl.com/wp-content/uploads/2025/01/Indie-Market-CFW-4x4-2.png
END:VEVENT
BEGIN:VEVENT
DTSTART;TZID=UTC:20271211T110000
DTEND;TZID=UTC:20271211T150000
DTSTAMP:20260420T043311
CREATED:20260419T212437Z
LAST-MODIFIED:20260419T212437Z
UID:10003922-1828522800-1828537200@theworksatl.com
SUMMARY:Unlimited Gourmet Taco Tasting Experience
DESCRIPTION:Chichería Mexican Kitchen now offers an Unlimited Gourmet Taco Tasting Experience each week. Available every Saturday from 11 a.m. to 3 p.m.\, the experience features a rotating selection of chef-crafted tacos served continuously at the table. Guests can enjoy a variety of flavors including Baja Fish\, Coconut Shrimp\, Carne Asada and more\, all prepared on handmade blue corn tortillas pressed fresh daily. The tasting also includes chips\, dips and refreshing agua frescas.
URL:https://theworksatl.com/event/unlimited-gourmet-taco-tasting-experience/2027-12-11/
LOCATION:Chicheria Mexican Kitchen\, 202 Chattahoochee Row NW Suite C\, Atlanta\, GA\, 30318\, United States
CATEGORIES:Culinary,Family-Friendly
ATTACH;FMTTYPE=image/png:https://theworksatl.com/wp-content/uploads/2026/04/Taco-Tasting-Experience.png
END:VEVENT
BEGIN:VEVENT
DTSTART;TZID=UTC:20271212T110000
DTEND;TZID=UTC:20271212T150000
DTSTAMP:20260420T043311
CREATED:20251007T202810Z
LAST-MODIFIED:20251007T203037Z
UID:10002530-1828609200-1828623600@theworksatl.com
SUMMARY:Live Jazz Mexican Brunch Buffet
DESCRIPTION:Every Sunday from 11 a.m. to 3 p.m. at Chicheria Mexican Kitchen\, we invite you to enjoy live jazz music and a full Mexican buffet featuring breakfast classics\, meats\, pastries\, soups\, breads\, coffee and agua frescas.
URL:https://theworksatl.com/event/23924/2027-12-12/
LOCATION:Chicheria Mexican Kitchen\, 202 Chattahoochee Row NW Suite C\, Atlanta\, GA\, 30318\, United States
CATEGORIES:Culinary,Family-Friendly
ATTACH;FMTTYPE=image/jpeg:https://theworksatl.com/wp-content/uploads/2025/10/Chicheria-Brunch-Square.jpg
END:VEVENT
BEGIN:VEVENT
DTSTART;TZID=UTC:20271215T180000
DTEND;TZID=UTC:20271215T210000
DTSTAMP:20260420T043311
CREATED:20260106T155948Z
LAST-MODIFIED:20260106T155948Z
UID:10003302-1828893600-1828904400@theworksatl.com
SUMMARY:Indie Market
DESCRIPTION:Chattahoochee Food Works is hosting an evening indie pop up shop every Wednesday 6pm-9pm. This market houses local businesses\, handcrafted goods\, thrifted items\, and more!
URL:https://theworksatl.com/event/indie-market-2/2027-12-15/
LOCATION:Chattahoochee Food Works\, 1235 Chattahoochee Ave NW Suite 130\, Atlanta\, GA\, 30318\, United States
CATEGORIES:Shopping
ATTACH;FMTTYPE=image/png:https://theworksatl.com/wp-content/uploads/2025/01/Indie-Market-CFW-4x4-2.png
END:VEVENT
END:VCALENDAR